BEGIN:VCALENDAR
PRODID:-//nuDatenautomaten//framework iCal4j //DE
VERSION:2.0
CALSCALE:GREGORIAN
BEGIN:VTIMEZONE
TZID:Europe/Berlin
LAST-MODIFIED:20260306T231828Z
TZURL:https://www.tzurl.org/zoneinfo/Europe/Berlin
X-LIC-LOCATION:Europe/Berlin
X-PROLEPTIC-TZNAME:LMT
BEGIN:STANDARD
TZNAME:CET
TZOFFSETFROM:+005328
TZOFFSETTO:+0100
DTSTART:18930401T000000
END:STANDARD
BEGIN:DAYLIGHT
TZNAME:CEST
TZOFFSETFROM:+0100
TZOFFSETTO:+0200
DTSTART:19160430T230000
RDATE:19400401T020000
RDATE:19430329T020000
RDATE:19460414T020000
RDATE:19470406T030000
RDATE:19480418T020000
RDATE:19490410T020000
RDATE:19800406T020000
END:DAYLIGHT
BEGIN:STANDARD
TZNAME:CET
TZOFFSETFROM:+0200
TZOFFSETTO:+0100
DTSTART:19161001T010000
RDATE:19421102T030000
RDATE:19431004T030000
RDATE:19441002T030000
RDATE:19451118T030000
RDATE:19461007T030000
END:STANDARD
BEGIN:DAYLIGHT
TZNAME:CEST
TZOFFSETFROM:+0100
TZOFFSETTO:+0200
DTSTART:19170416T020000
RRULE:FREQ=YEARLY;UNTIL=19180415T010000Z;BYMONTH=4;BYDAY=3MO
END:DAYLIGHT
BEGIN:STANDARD
TZNAME:CET
TZOFFSETFROM:+0200
TZOFFSETTO:+0100
DTSTART:19170917T030000
RRULE:FREQ=YEARLY;UNTIL=19180916T010000Z;BYMONTH=9;BYDAY=3MO
END:STANDARD
BEGIN:DAYLIGHT
TZNAME:CEST
TZOFFSETFROM:+0100
TZOFFSETTO:+0200
DTSTART:19440403T020000
RRULE:FREQ=YEARLY;UNTIL=19450402T010000Z;BYMONTH=4;BYDAY=1MO
END:DAYLIGHT
BEGIN:DAYLIGHT
TZNAME:CEMT
TZOFFSETFROM:+0200
TZOFFSETTO:+0300
DTSTART:19450524T020000
RDATE:19470511T030000
END:DAYLIGHT
BEGIN:DAYLIGHT
TZNAME:CEST
TZOFFSETFROM:+0300
TZOFFSETTO:+0200
DTSTART:19450924T030000
RDATE:19470629T030000
END:DAYLIGHT
BEGIN:STANDARD
TZNAME:CET
TZOFFSETFROM:+0100
TZOFFSETTO:+0100
DTSTART:19460101T000000
RDATE:19800101T000000
END:STANDARD
BEGIN:STANDARD
TZNAME:CET
TZOFFSETFROM:+0200
TZOFFSETTO:+0100
DTSTART:19471005T030000
RRULE:FREQ=YEARLY;UNTIL=19491002T010000Z;BYMONTH=10;BYDAY=1SU
END:STANDARD
BEGIN:STANDARD
TZNAME:CET
TZOFFSETFROM:+0200
TZOFFSETTO:+0100
DTSTART:19800928T030000
RRULE:FREQ=YEARLY;UNTIL=19950924T010000Z;BYMONTH=9;BYDAY=-1SU
END:STANDARD
BEGIN:DAYLIGHT
TZNAME:CEST
TZOFFSETFROM:+0100
TZOFFSETTO:+0200
DTSTART:19810329T020000
RRULE:FREQ=YEARLY;BYMONTH=3;BYDAY=-1SU
END:DAYLIGHT
BEGIN:STANDARD
TZNAME:CET
TZOFFSETFROM:+0200
TZOFFSETTO:+0100
DTSTART:19961027T030000
RRULE:FREQ=YEARLY;BYMONTH=10;BYDAY=-1SU
END:STANDARD
END:VTIMEZONE
BEGIN:VEVENT
DTSTAMP:20260419T165152Z
DTSTART;TZID=Europe/Berlin:20250209T100000
DTEND;TZID=Europe/Berlin:20250209T110000
SUMMARY:Regionsoberliga ME Nord HSG Bützfleth/Drochtersen vs TSV Bremervörde (53)
UID:e278dc88-826c-4c53-b876-674c1afb2490
STATUS:CONFIRMED
LAST-MODIFIED:20250211T152227Z
DESCRIPTION:Regionsoberliga männliche Jugend E Nord\nBegegnungs-Nr: 53\nHeim: HSG Bützfleth/Drochtersen\nGast: TSV Bremervörde\nHalle: Bützfleth (608104)\nAdresse: Am Schwimmbad 1\, 21683 Stade OT Bützfleth\n
LOCATION:Bützfleth (608104): Am Schwimmbad 1\, 21683 Stade OT Bützfleth
CATEGORIES:Saison 2024/25
END:VEVENT
BEGIN:VEVENT
DTSTAMP:20260419T165152Z
DTSTART;TZID=Europe/Berlin:20250316T133000
DTEND;TZID=Europe/Berlin:20250316T143000
SUMMARY:Regionsoberliga ME Nord HSG Bützfleth/Drochtersen vs TuS Jahn Hollenstedt (35)
UID:3f7043dc-0196-44d2-9994-41263d273114
STATUS:CONFIRMED
LAST-MODIFIED:20250318T112728Z
DESCRIPTION:Regionsoberliga männliche Jugend E Nord\nBegegnungs-Nr: 35\nHeim: HSG Bützfleth/Drochtersen\nGast: TuS Jahn Hollenstedt\nHalle: Drochtersen\,SH (608107)\nAdresse: Am Sportplatz 19\, 21706 Drochtersen\n
LOCATION:Drochtersen\,SH (608107): Am Sportplatz 19\, 21706 Drochtersen
CATEGORIES:Saison 2024/25
END:VEVENT
BEGIN:VEVENT
DTSTAMP:20260419T165152Z
DTSTART;TZID=Europe/Berlin:20240922T125000
DTEND;TZID=Europe/Berlin:20240922T135000
SUMMARY:Vorrunde ME Staffel 8 HSG Bützfleth/Drochtersen vs VfL Horneburg II (10)
UID:9fa52bf6-4f88-407d-ba51-bd26d636e3c0
STATUS:CONFIRMED
LAST-MODIFIED:20241002T122953Z
DESCRIPTION:Vorrunde männliche Jugend E Staffel 8\nBegegnungs-Nr: 10\nHeim: HSG Bützfleth/Drochtersen\nGast: VfL Horneburg II\nHalle: Sportcampus Stade (BCR) (608178)\nAdresse: Harsefelder Landstr. 200\, 21684 Stade\n
LOCATION:Sportcampus Stade (BCR) (608178): Harsefelder Landstr. 200\, 21684 Stade
CATEGORIES:Saison 2024/25
END:VEVENT
BEGIN:VEVENT
DTSTAMP:20260419T165152Z
DTSTART;TZID=Europe/Berlin:20240908T112500
DTEND;TZID=Europe/Berlin:20240908T122500
SUMMARY:Vorrunde ME Staffel 8 HSG Bützfleth/Drochtersen vs JSG Fredenbeck/Stade gem. (3)
UID:32da9b99-277b-4332-a40e-604f7af37cef
STATUS:CONFIRMED
LAST-MODIFIED:20240911T202618Z
DESCRIPTION:Vorrunde männliche Jugend E Staffel 8\nBegegnungs-Nr: 3\nHeim: HSG Bützfleth/Drochtersen\nGast: JSG Fredenbeck/Stade gem.\nHalle: Drochtersen\,SH (608107)\nAdresse: Am Sportplatz 19\, 21706 Drochtersen\n
LOCATION:Drochtersen\,SH (608107): Am Sportplatz 19\, 21706 Drochtersen
CATEGORIES:Saison 2024/25
END:VEVENT
BEGIN:VEVENT
DTSTAMP:20260419T165152Z
DTSTART;TZID=Europe/Berlin:20241027T103000
DTEND;TZID=Europe/Berlin:20241027T113000
SUMMARY:Regionsoberliga ME Nord HSG Bützfleth/Drochtersen vs TVV Neu-Wulmstorf (2)
UID:a100b93a-79f9-4858-81ca-5a02da1858ae
STATUS:CONFIRMED
LAST-MODIFIED:20241029T185257Z
DESCRIPTION:Regionsoberliga männliche Jugend E Nord\nBegegnungs-Nr: 2\nHeim: HSG Bützfleth/Drochtersen\nGast: TVV Neu-Wulmstorf\nHalle: Drochtersen\,SH (608107)\nAdresse: Am Sportplatz 19\, 21706 Drochtersen\n
LOCATION:Drochtersen\,SH (608107): Am Sportplatz 19\, 21706 Drochtersen
CATEGORIES:Saison 2024/25
END:VEVENT
BEGIN:VEVENT
DTSTAMP:20260419T165152Z
DTSTART;TZID=Europe/Berlin:20241124T104500
DTEND;TZID=Europe/Berlin:20241124T114500
SUMMARY:Regionsoberliga ME Nord HSG Bützfleth/Drochtersen vs mJSG Buxtehude/ Beckdorf (24)
UID:8612014c-0da7-4997-ace1-c7457980e131
STATUS:CONFIRMED
LAST-MODIFIED:20241127T134209Z
DESCRIPTION:Regionsoberliga männliche Jugend E Nord\nBegegnungs-Nr: 24\nHeim: HSG Bützfleth/Drochtersen\nGast: mJSG Buxtehude/ Beckdorf\nHalle: Bützfleth (608104)\nAdresse: Am Schwimmbad 1\, 21683 Stade OT Bützfleth\n
LOCATION:Bützfleth (608104): Am Schwimmbad 1\, 21683 Stade OT Bützfleth
CATEGORIES:Saison 2024/25
END:VEVENT
BEGIN:VEVENT
DTSTAMP:20260419T165152Z
DTSTART;TZID=Europe/Berlin:20250119T101500
DTEND;TZID=Europe/Berlin:20250119T111500
SUMMARY:Regionsoberliga ME Nord HSG Bützfleth/Drochtersen vs SG Luhdorf/Scharmbeck (42)
UID:581943f3-38a0-44b0-9dea-5c4919027eae
STATUS:CONFIRMED
LAST-MODIFIED:20250123T131205Z
DESCRIPTION:Regionsoberliga männliche Jugend E Nord\nBegegnungs-Nr: 42\nHeim: HSG Bützfleth/Drochtersen\nGast: SG Luhdorf/Scharmbeck\nHalle: Bützfleth (608104)\nAdresse: Am Schwimmbad 1\, 21683 Stade OT Bützfleth\n
LOCATION:Bützfleth (608104): Am Schwimmbad 1\, 21683 Stade OT Bützfleth
CATEGORIES:Saison 2024/25
END:VEVENT
BEGIN:VEVENT
DTSTAMP:20260419T165152Z
DTSTART;TZID=Europe/Berlin:20250305T173000
DTEND;TZID=Europe/Berlin:20250305T183000
SUMMARY:Regionsoberliga ME Nord HSG Bützfleth/Drochtersen vs JSG Fredenbeck/Stade II (64)
UID:01e9de65-b857-4a68-9fe3-ed7c891ea28c
STATUS:CONFIRMED
LAST-MODIFIED:20250307T094308Z
DESCRIPTION:Regionsoberliga männliche Jugend E Nord\nBegegnungs-Nr: 64\nHeim: HSG Bützfleth/Drochtersen\nGast: JSG Fredenbeck/Stade II\nHalle: Drochtersen\,SH (608107)\nAdresse: Am Sportplatz 19\, 21706 Drochtersen\n
LOCATION:Drochtersen\,SH (608107): Am Sportplatz 19\, 21706 Drochtersen
CATEGORIES:Saison 2024/25
END:VEVENT
BEGIN:VEVENT
DTSTAMP:20260419T165152Z
DTSTART;TZID=Europe/Berlin:20250309T103000
DTEND;TZID=Europe/Berlin:20250309T113000
SUMMARY:Regionsoberliga ME Nord HSG Bützfleth/Drochtersen vs JSG Fredenbeck/Stade gem. (75)
UID:906a0009-5efe-49dc-8abe-157eab4234f9
STATUS:CONFIRMED
LAST-MODIFIED:20250312T133228Z
DESCRIPTION:Regionsoberliga männliche Jugend E Nord\nBegegnungs-Nr: 75\nHeim: HSG Bützfleth/Drochtersen\nGast: JSG Fredenbeck/Stade gem.\nHalle: Bützfleth (608104)\nAdresse: Am Schwimmbad 1\, 21683 Stade OT Bützfleth\n
LOCATION:Bützfleth (608104): Am Schwimmbad 1\, 21683 Stade OT Bützfleth
CATEGORIES:Saison 2024/25
END:VEVENT
BEGIN:VEVENT
DTSTAMP:20260419T165152Z
DTSTART;TZID=Europe/Berlin:20241211T173000
DTEND;TZID=Europe/Berlin:20241211T183000
SUMMARY:Regionsoberliga ME Nord HSG Bützfleth/Drochtersen vs VfL Horneburg (13)
UID:5227be24-ba04-4875-9eb3-aa466f2a82f9
STATUS:CONFIRMED
LAST-MODIFIED:20241212T091447Z
DESCRIPTION:Regionsoberliga männliche Jugend E Nord\nBegegnungs-Nr: 13\nHeim: HSG Bützfleth/Drochtersen\nGast: VfL Horneburg\nHalle: Drochtersen\,SH (608107)\nAdresse: Am Sportplatz 19\, 21706 Drochtersen\n
LOCATION:Drochtersen\,SH (608107): Am Sportplatz 19\, 21706 Drochtersen
CATEGORIES:Saison 2024/25
END:VEVENT
BEGIN:VEVENT
DTSTAMP:20260419T165152Z
DTSTART;TZID=Europe/Berlin:20250214T151500
DTEND;TZID=Europe/Berlin:20250214T161500
SUMMARY:Regionsoberliga ME Nord VfL Horneburg vs HSG Bützfleth/Drochtersen (58)
UID:4b8acc80-7b5c-40d0-990c-fe2a5cc55f99
STATUS:CONFIRMED
LAST-MODIFIED:20250217T094246Z
DESCRIPTION:Regionsoberliga männliche Jugend E Nord\nBegegnungs-Nr: 58\nHeim: VfL Horneburg\nGast: HSG Bützfleth/Drochtersen\nHalle: Horneburg\, SH 2 neu  (608117)\nAdresse: Hermannstraße 27 (Zufahrt wegen Bauarbeiten nur über Stader Straße und Lerchenweg möglich)\, 21640 Horneburg\n
LOCATION:Horneburg\, SH 2 neu  (608117): Hermannstraße 27 (Zufahrt wegen Bauarbeiten nur über Stader Straße und Lerchenweg möglich)\, 21640 Horneburg
CATEGORIES:Saison 2024/25
END:VEVENT
BEGIN:VEVENT
DTSTAMP:20260419T165152Z
DTSTART;TZID=Europe/Berlin:20240908T103500
DTEND;TZID=Europe/Berlin:20240908T113500
SUMMARY:Vorrunde ME Staffel 8 JSG Himmelpforten/Oldendorf vs HSG Bützfleth/Drochtersen (2)
UID:2f893b54-7c1d-414c-802d-1e3c30d1ad47
STATUS:CONFIRMED
LAST-MODIFIED:20240911T202533Z
DESCRIPTION:Vorrunde männliche Jugend E Staffel 8\nBegegnungs-Nr: 2\nHeim: JSG Himmelpforten/Oldendorf\nGast: HSG Bützfleth/Drochtersen\nHalle: Drochtersen\,SH (608107)\nAdresse: Am Sportplatz 19\, 21706 Drochtersen\n
LOCATION:Drochtersen\,SH (608107): Am Sportplatz 19\, 21706 Drochtersen
CATEGORIES:Saison 2024/25
END:VEVENT
BEGIN:VEVENT
DTSTAMP:20260419T165152Z
DTSTART;TZID=Europe/Berlin:20240908T125000
DTEND;TZID=Europe/Berlin:20240908T135000
SUMMARY:Vorrunde ME Staffel 8 TuS Harsefeld II vs HSG Bützfleth/Drochtersen (5)
UID:1d4b9f96-d0c0-4317-aa9a-3d3fe2e818f3
STATUS:CONFIRMED
LAST-MODIFIED:20240911T202746Z
DESCRIPTION:Vorrunde männliche Jugend E Staffel 8\nBegegnungs-Nr: 5\nHeim: TuS Harsefeld II\nGast: HSG Bützfleth/Drochtersen\nHalle: Drochtersen\,SH (608107)\nAdresse: Am Sportplatz 19\, 21706 Drochtersen\n
LOCATION:Drochtersen\,SH (608107): Am Sportplatz 19\, 21706 Drochtersen
CATEGORIES:Saison 2024/25
END:VEVENT
BEGIN:VEVENT
DTSTAMP:20260419T165152Z
DTSTART;TZID=Europe/Berlin:20240922T100000
DTEND;TZID=Europe/Berlin:20240922T110000
SUMMARY:Vorrunde ME Staffel 8 mJSG Buxtehude/ Beckdorf II vs HSG Bützfleth/Drochtersen (6)
UID:368de30f-47da-4d7e-bd37-5ef2ecf610e8
STATUS:CONFIRMED
LAST-MODIFIED:20240924T160056Z
DESCRIPTION:Vorrunde männliche Jugend E Staffel 8\nBegegnungs-Nr: 6\nHeim: mJSG Buxtehude/ Beckdorf II\nGast: HSG Bützfleth/Drochtersen\nHalle: Sportcampus Stade (BCR) (608178)\nAdresse: Harsefelder Landstr. 200\, 21684 Stade\n
LOCATION:Sportcampus Stade (BCR) (608178): Harsefelder Landstr. 200\, 21684 Stade
CATEGORIES:Saison 2024/25
END:VEVENT
BEGIN:VEVENT
DTSTAMP:20260419T165152Z
DTSTART;TZID=Europe/Berlin:20241201T153000
DTEND;TZID=Europe/Berlin:20241201T163000
SUMMARY:Regionsoberliga ME Nord JSG Fredenbeck/Stade gem. vs HSG Bützfleth/Drochtersen (30)
UID:7a22a02a-b084-4843-b307-9a97625b41ae
STATUS:CONFIRMED
LAST-MODIFIED:20241204T100158Z
DESCRIPTION:Regionsoberliga männliche Jugend E Nord\nBegegnungs-Nr: 30\nHeim: JSG Fredenbeck/Stade gem.\nGast: HSG Bützfleth/Drochtersen\nHalle: Sportcampus Stade (BCR) (608178)\nAdresse: Harsefelder Landstr. 200\, 21684 Stade\n
LOCATION:Sportcampus Stade (BCR) (608178): Harsefelder Landstr. 200\, 21684 Stade
CATEGORIES:Saison 2024/25
END:VEVENT
BEGIN:VEVENT
DTSTAMP:20260419T165152Z
DTSTART;TZID=Europe/Berlin:20250117T154500
DTEND;TZID=Europe/Berlin:20250117T164500
SUMMARY:Regionsoberliga ME Nord TSV Bremervörde vs HSG Bützfleth/Drochtersen (8)
UID:6c156252-3d63-4fa0-b407-aed6b1d80679
STATUS:CONFIRMED
LAST-MODIFIED:20250122T211333Z
DESCRIPTION:Regionsoberliga männliche Jugend E Nord\nBegegnungs-Nr: 8\nHeim: TSV Bremervörde\nGast: HSG Bützfleth/Drochtersen\nHalle: Bremervörde\, SH Realschule (608156)\nAdresse: Gnarrenburger Str. 32\, 27432 Bremervörde\n
LOCATION:Bremervörde\, SH Realschule (608156): Gnarrenburger Str. 32\, 27432 Bremervörde
CATEGORIES:Saison 2024/25
END:VEVENT
BEGIN:VEVENT
DTSTAMP:20260419T165152Z
DTSTART;TZID=Europe/Berlin:20241117T133000
DTEND;TZID=Europe/Berlin:20241117T143000
SUMMARY:Regionsoberliga ME Nord JSG Fredenbeck/Stade II vs HSG Bützfleth/Drochtersen (19)
UID:b7eeab20-7590-46e4-ade2-f92fe35d447e
STATUS:CONFIRMED
LAST-MODIFIED:20241119T105743Z
DESCRIPTION:Regionsoberliga männliche Jugend E Nord\nBegegnungs-Nr: 19\nHeim: JSG Fredenbeck/Stade II\nGast: HSG Bützfleth/Drochtersen\nHalle: Sportcampus Stade (BCR) (608178)\nAdresse: Harsefelder Landstr. 200\, 21684 Stade\n
LOCATION:Sportcampus Stade (BCR) (608178): Harsefelder Landstr. 200\, 21684 Stade
CATEGORIES:Saison 2024/25
END:VEVENT
BEGIN:VEVENT
DTSTAMP:20260419T165152Z
DTSTART;TZID=Europe/Berlin:20250126T101000
DTEND;TZID=Europe/Berlin:20250126T111000
SUMMARY:Regionsoberliga ME Nord TVV Neu-Wulmstorf vs HSG Bützfleth/Drochtersen (47)
UID:869cd723-3357-457e-83c9-9a82f572e766
STATUS:CONFIRMED
LAST-MODIFIED:20250130T161832Z
DESCRIPTION:Regionsoberliga männliche Jugend E Nord\nBegegnungs-Nr: 47\nHeim: TVV Neu-Wulmstorf\nGast: HSG Bützfleth/Drochtersen\nHalle: Neu Wulmstorf\, SH Gymnasium (603116)\nAdresse: Ernst-Moritz-Arndt-Straße 18 (Oberschule) \, 21629 Neu-Wulmstorf\n
LOCATION:Neu Wulmstorf\, SH Gymnasium (603116): Ernst-Moritz-Arndt-Straße 18 (Oberschule) \, 21629 Neu-Wulmstorf
CATEGORIES:Saison 2024/25
END:VEVENT
BEGIN:VEVENT
DTSTAMP:20260419T165152Z
DTSTART;TZID=Europe/Berlin:20250331T170000
DTEND;TZID=Europe/Berlin:20250331T180000
SUMMARY:Regionsoberliga ME Nord mJSG Buxtehude/ Beckdorf vs HSG Bützfleth/Drochtersen (69)
UID:0635c4eb-c18a-4409-bb34-134f2d4a1bb8
STATUS:CONFIRMED
LAST-MODIFIED:20250402T085558Z
DESCRIPTION:Regionsoberliga männliche Jugend E Nord\nBegegnungs-Nr: 69\nHeim: mJSG Buxtehude/ Beckdorf\nGast: HSG Bützfleth/Drochtersen\nHalle: Buxtehude\, Halle Nord (608163)\nAdresse: Hansestraße 15\, 21614 Buxtehude\n
LOCATION:Buxtehude\, Halle Nord (608163): Hansestraße 15\, 21614 Buxtehude
CATEGORIES:Saison 2024/25
END:VEVENT
BEGIN:VEVENT
DTSTAMP:20260419T165152Z
DTSTART;TZID=Europe/Berlin:20241204T170000
DTEND;TZID=Europe/Berlin:20241204T180000
SUMMARY:Regionsoberliga ME Nord TuS Jahn Hollenstedt vs HSG Bützfleth/Drochtersen (80)
UID:2a6a613f-2245-470d-8b5c-9b0667dae8b1
STATUS:CONFIRMED
LAST-MODIFIED:20241207T104640Z
DESCRIPTION:Regionsoberliga männliche Jugend E Nord\nBegegnungs-Nr: 80\nHeim: TuS Jahn Hollenstedt\nGast: HSG Bützfleth/Drochtersen\nHalle: Hollenstedt\, Max-Schmeling-Hallen (Halle 1) (603110)\nAdresse: Jahnstraße\, 21279 Hollenstedt\n
LOCATION:Hollenstedt\, Max-Schmeling-Hallen (Halle 1) (603110): Jahnstraße\, 21279 Hollenstedt
CATEGORIES:Saison 2024/25
END:VEVENT
BEGIN:VEVENT
DTSTAMP:20260419T165152Z
DTSTART;TZID=Europe/Berlin:20250330T114500
DTEND;TZID=Europe/Berlin:20250330T124500
SUMMARY:Regionsoberliga ME Nord SG Luhdorf/Scharmbeck vs HSG Bützfleth/Drochtersen (87)
UID:50ef0290-dd83-4d27-940f-6d0008adea88
STATUS:CONFIRMED
LAST-MODIFIED:20250331T134034Z
DESCRIPTION:Regionsoberliga männliche Jugend E Nord\nBegegnungs-Nr: 87\nHeim: SG Luhdorf/Scharmbeck\nGast: HSG Bützfleth/Drochtersen\nHalle: Winsen-Luhdorf\, Peter-Wind-Halle (603112)\nAdresse: Höllenberg\, 21423 Winsen/Luhe (OT Luhdorf)\n
LOCATION:Winsen-Luhdorf\, Peter-Wind-Halle (603112): Höllenberg\, 21423 Winsen/Luhe (OT Luhdorf)
CATEGORIES:Saison 2024/25
END:VEVENT
END:VCALENDAR
