BEGIN:VCALENDAR
PRODID:-//nuDatenautomaten//framework iCal4j //DE
VERSION:2.0
CALSCALE:GREGORIAN
BEGIN:VTIMEZONE
TZID:Europe/Berlin
LAST-MODIFIED:20260306T231828Z
TZURL:https://www.tzurl.org/zoneinfo/Europe/Berlin
X-LIC-LOCATION:Europe/Berlin
X-PROLEPTIC-TZNAME:LMT
BEGIN:STANDARD
TZNAME:CET
TZOFFSETFROM:+005328
TZOFFSETTO:+0100
DTSTART:18930401T000000
END:STANDARD
BEGIN:DAYLIGHT
TZNAME:CEST
TZOFFSETFROM:+0100
TZOFFSETTO:+0200
DTSTART:19160430T230000
RDATE:19400401T020000
RDATE:19430329T020000
RDATE:19460414T020000
RDATE:19470406T030000
RDATE:19480418T020000
RDATE:19490410T020000
RDATE:19800406T020000
END:DAYLIGHT
BEGIN:STANDARD
TZNAME:CET
TZOFFSETFROM:+0200
TZOFFSETTO:+0100
DTSTART:19161001T010000
RDATE:19421102T030000
RDATE:19431004T030000
RDATE:19441002T030000
RDATE:19451118T030000
RDATE:19461007T030000
END:STANDARD
BEGIN:DAYLIGHT
TZNAME:CEST
TZOFFSETFROM:+0100
TZOFFSETTO:+0200
DTSTART:19170416T020000
RRULE:FREQ=YEARLY;UNTIL=19180415T010000Z;BYMONTH=4;BYDAY=3MO
END:DAYLIGHT
BEGIN:STANDARD
TZNAME:CET
TZOFFSETFROM:+0200
TZOFFSETTO:+0100
DTSTART:19170917T030000
RRULE:FREQ=YEARLY;UNTIL=19180916T010000Z;BYMONTH=9;BYDAY=3MO
END:STANDARD
BEGIN:DAYLIGHT
TZNAME:CEST
TZOFFSETFROM:+0100
TZOFFSETTO:+0200
DTSTART:19440403T020000
RRULE:FREQ=YEARLY;UNTIL=19450402T010000Z;BYMONTH=4;BYDAY=1MO
END:DAYLIGHT
BEGIN:DAYLIGHT
TZNAME:CEMT
TZOFFSETFROM:+0200
TZOFFSETTO:+0300
DTSTART:19450524T020000
RDATE:19470511T030000
END:DAYLIGHT
BEGIN:DAYLIGHT
TZNAME:CEST
TZOFFSETFROM:+0300
TZOFFSETTO:+0200
DTSTART:19450924T030000
RDATE:19470629T030000
END:DAYLIGHT
BEGIN:STANDARD
TZNAME:CET
TZOFFSETFROM:+0100
TZOFFSETTO:+0100
DTSTART:19460101T000000
RDATE:19800101T000000
END:STANDARD
BEGIN:STANDARD
TZNAME:CET
TZOFFSETFROM:+0200
TZOFFSETTO:+0100
DTSTART:19471005T030000
RRULE:FREQ=YEARLY;UNTIL=19491002T010000Z;BYMONTH=10;BYDAY=1SU
END:STANDARD
BEGIN:STANDARD
TZNAME:CET
TZOFFSETFROM:+0200
TZOFFSETTO:+0100
DTSTART:19800928T030000
RRULE:FREQ=YEARLY;UNTIL=19950924T010000Z;BYMONTH=9;BYDAY=-1SU
END:STANDARD
BEGIN:DAYLIGHT
TZNAME:CEST
TZOFFSETFROM:+0100
TZOFFSETTO:+0200
DTSTART:19810329T020000
RRULE:FREQ=YEARLY;BYMONTH=3;BYDAY=-1SU
END:DAYLIGHT
BEGIN:STANDARD
TZNAME:CET
TZOFFSETFROM:+0200
TZOFFSETTO:+0100
DTSTART:19961027T030000
RRULE:FREQ=YEARLY;BYMONTH=10;BYDAY=-1SU
END:STANDARD
END:VTIMEZONE
BEGIN:VEVENT
DTSTAMP:20260419T183815Z
DTSTART;TZID=Europe/Berlin:20241123T160000
DTEND;TZID=Europe/Berlin:20241123T173000
SUMMARY:Regionsklasse M Ost TV Georgsmarienhütte IV vs TuS Bramsche III (904028)
UID:e207d1c5-9dd2-4436-9856-5e1eded62374
STATUS:CONFIRMED
LAST-MODIFIED:20241124T093813Z
DESCRIPTION:Regionsklasse Ost\nBegegnungs-Nr: 904028\nHeim: TV Georgsmarienhütte IV\nGast: TuS Bramsche III\nHalle: Georgsmarienhütte\, SZ  (808132)\nAdresse: Carl-Stahmer-Weg 16\, 49124 Georgsmarienhütte\n
LOCATION:Georgsmarienhütte\, SZ  (808132): Carl-Stahmer-Weg 16\, 49124 Georgsmarienhütte
CATEGORIES:Saison 2024/25
END:VEVENT
BEGIN:VEVENT
DTSTAMP:20260419T183815Z
DTSTART;TZID=Europe/Berlin:20250111T170000
DTEND;TZID=Europe/Berlin:20250111T183000
SUMMARY:Regionsklasse M Ost TV Georgsmarienhütte IV vs SV Concordia Belm-Powe e.V. II (904037)
UID:cd917dd5-a415-46e0-baad-eb8e7743e6f3
STATUS:CONFIRMED
LAST-MODIFIED:20250112T092755Z
DESCRIPTION:Regionsklasse Ost\nBegegnungs-Nr: 904037\nHeim: TV Georgsmarienhütte IV\nGast: SV Concordia Belm-Powe e.V. II\nHalle: Georgsmarienhütte\, SZ  (808132)\nAdresse: Carl-Stahmer-Weg 16\, 49124 Georgsmarienhütte\n
LOCATION:Georgsmarienhütte\, SZ  (808132): Carl-Stahmer-Weg 16\, 49124 Georgsmarienhütte
CATEGORIES:Saison 2024/25
END:VEVENT
BEGIN:VEVENT
DTSTAMP:20260419T183815Z
DTSTART;TZID=Europe/Berlin:20250215T184500
DTEND;TZID=Europe/Berlin:20250215T201500
SUMMARY:Regionsklasse M Ost TV Georgsmarienhütte IV vs HSG Grönegau-Melle III (904054)
UID:78f47763-0491-4200-93c3-4cf6fb42b9c0
STATUS:CONFIRMED
LAST-MODIFIED:20250216T100812Z
DESCRIPTION:Regionsklasse Ost\nBegegnungs-Nr: 904054\nHeim: TV Georgsmarienhütte IV\nGast: HSG Grönegau-Melle III\nHalle: Georgsmarienhütte\, SZ  (808132)\nAdresse: Carl-Stahmer-Weg 16\, 49124 Georgsmarienhütte\n
LOCATION:Georgsmarienhütte\, SZ  (808132): Carl-Stahmer-Weg 16\, 49124 Georgsmarienhütte
CATEGORIES:Saison 2024/25
END:VEVENT
BEGIN:VEVENT
DTSTAMP:20260419T183815Z
DTSTART;TZID=Europe/Berlin:20250316T170000
DTEND;TZID=Europe/Berlin:20250316T183000
SUMMARY:Regionsklasse M Ost TV Georgsmarienhütte IV vs Eickener SpVg III (904068)
UID:691cbf2f-1843-4d54-8e69-5b42fe652de1
STATUS:CONFIRMED
LAST-MODIFIED:20250317T192148Z
DESCRIPTION:Regionsklasse Ost\nBegegnungs-Nr: 904068\nHeim: TV Georgsmarienhütte IV\nGast: Eickener SpVg III\nHalle: Georgsmarienhütte\, SZ  (808132)\nAdresse: Carl-Stahmer-Weg 16\, 49124 Georgsmarienhütte\n
LOCATION:Georgsmarienhütte\, SZ  (808132): Carl-Stahmer-Weg 16\, 49124 Georgsmarienhütte
CATEGORIES:Saison 2024/25
END:VEVENT
BEGIN:VEVENT
DTSTAMP:20260419T183815Z
DTSTART;TZID=Europe/Berlin:20241109T180000
DTEND;TZID=Europe/Berlin:20241109T193000
SUMMARY:Regionsklasse M Ost TV Georgsmarienhütte IV vs TV Bissendorf-Holte IV (904021)
UID:92489af2-b47f-499c-8a42-90dbfa231282
STATUS:CONFIRMED
LAST-MODIFIED:20241110T091731Z
DESCRIPTION:Regionsklasse Ost\nBegegnungs-Nr: 904021\nHeim: TV Georgsmarienhütte IV\nGast: TV Bissendorf-Holte IV\nHalle: Georgsmarienhütte\, SZ  (808132)\nAdresse: Carl-Stahmer-Weg 16\, 49124 Georgsmarienhütte\n
LOCATION:Georgsmarienhütte\, SZ  (808132): Carl-Stahmer-Weg 16\, 49124 Georgsmarienhütte
CATEGORIES:Saison 2024/25
END:VEVENT
BEGIN:VEVENT
DTSTAMP:20260419T183815Z
DTSTART;TZID=Europe/Berlin:20241215T143000
DTEND;TZID=Europe/Berlin:20241215T160000
SUMMARY:Regionsklasse M Ost TV Georgsmarienhütte IV vs SV Eversburg II (904005)
UID:3b85649d-f0c8-427e-a2e4-226d0f815acf
STATUS:CONFIRMED
LAST-MODIFIED:20241215T180100Z
DESCRIPTION:Regionsklasse Ost\nBegegnungs-Nr: 904005\nHeim: TV Georgsmarienhütte IV\nGast: SV Eversburg II\nHalle: Georgsmarienhütte\, SZ  (808132)\nAdresse: Carl-Stahmer-Weg 16\, 49124 Georgsmarienhütte\n
LOCATION:Georgsmarienhütte\, SZ  (808132): Carl-Stahmer-Weg 16\, 49124 Georgsmarienhütte
CATEGORIES:Saison 2024/25
END:VEVENT
BEGIN:VEVENT
DTSTAMP:20260419T183815Z
DTSTART;TZID=Europe/Berlin:20241027T170000
DTEND;TZID=Europe/Berlin:20241027T183000
SUMMARY:Regionsklasse M Ost TV Georgsmarienhütte IV vs VfL Bad Iburg II (904015)
UID:61222729-2dfc-4efc-812e-6f20d01de40e
STATUS:CONFIRMED
LAST-MODIFIED:20241027T195257Z
DESCRIPTION:Regionsklasse Ost\nBegegnungs-Nr: 904015\nHeim: TV Georgsmarienhütte IV\nGast: VfL Bad Iburg II\nHalle: Georgsmarienhütte\, SZ  (808132)\nAdresse: Carl-Stahmer-Weg 16\, 49124 Georgsmarienhütte\n
LOCATION:Georgsmarienhütte\, SZ  (808132): Carl-Stahmer-Weg 16\, 49124 Georgsmarienhütte
CATEGORIES:Saison 2024/25
END:VEVENT
BEGIN:VEVENT
DTSTAMP:20260419T183815Z
DTSTART;TZID=Europe/Berlin:20241116T170000
DTEND;TZID=Europe/Berlin:20241116T183000
SUMMARY:Regionsklasse M Ost TV Georgsmarienhütte IV vs SG Teuto Handball II (904025)
UID:6a44025b-f09f-45cd-a8b4-9bd43d549eb0
STATUS:CONFIRMED
LAST-MODIFIED:20241117T094716Z
DESCRIPTION:Regionsklasse Ost\nBegegnungs-Nr: 904025\nHeim: TV Georgsmarienhütte IV\nGast: SG Teuto Handball II\nHalle: Georgsmarienhütte\, SZ  (808132)\nAdresse: Carl-Stahmer-Weg 16\, 49124 Georgsmarienhütte\n
LOCATION:Georgsmarienhütte\, SZ  (808132): Carl-Stahmer-Weg 16\, 49124 Georgsmarienhütte
CATEGORIES:Saison 2024/25
END:VEVENT
BEGIN:VEVENT
DTSTAMP:20260419T183815Z
DTSTART;TZID=Europe/Berlin:20250320T190000
DTEND;TZID=Europe/Berlin:20250320T203000
SUMMARY:Regionsklasse M Ost SV Eversburg II vs TV Georgsmarienhütte IV (904043)
UID:a0ded077-99f0-43cd-bf98-785329cf766e
STATUS:CONFIRMED
LAST-MODIFIED:20250321T072529Z
DESCRIPTION:Regionsklasse Ost\nBegegnungs-Nr: 904043\nHeim: SV Eversburg II\nGast: TV Georgsmarienhütte IV\nHalle: Osnabrück\, SZ  (808105)\nAdresse: Grüner Weg\, 49090 Osnabrück (OT Eversburg)\n
LOCATION:Osnabrück\, SZ  (808105): Grüner Weg\, 49090 Osnabrück (OT Eversburg)
CATEGORIES:Saison 2024/25
END:VEVENT
BEGIN:VEVENT
DTSTAMP:20260419T183815Z
DTSTART;TZID=Europe/Berlin:20250209T150000
DTEND;TZID=Europe/Berlin:20250209T163000
SUMMARY:Regionsklasse M Ost VfL Bad Iburg II vs TV Georgsmarienhütte IV (904051)
UID:86d02489-abf3-4301-83c6-bffe395f57e2
STATUS:CONFIRMED
LAST-MODIFIED:20250209T194006Z
DESCRIPTION:Regionsklasse Ost\nBegegnungs-Nr: 904051\nHeim: VfL Bad Iburg II\nGast: TV Georgsmarienhütte IV\nHalle: Bad Iburg\, Schulzentrum Halle 1 (808129)\nAdresse: Bielefelder Str. 15\, 49186 Bad Iburg\n
LOCATION:Bad Iburg\, Schulzentrum Halle 1 (808129): Bielefelder Str. 15\, 49186 Bad Iburg
CATEGORIES:Saison 2024/25
END:VEVENT
BEGIN:VEVENT
DTSTAMP:20260419T183815Z
DTSTART;TZID=Europe/Berlin:20240908T150000
DTEND;TZID=Europe/Berlin:20240908T163000
SUMMARY:Regionsklasse M Ost SV Concordia Belm-Powe e.V. II vs TV Georgsmarienhütte IV (904004)
UID:e659757a-9496-4236-a5a8-446fab15fb4d
STATUS:CONFIRMED
LAST-MODIFIED:20240909T072120Z
DESCRIPTION:Regionsklasse Ost\nBegegnungs-Nr: 904004\nHeim: SV Concordia Belm-Powe e.V. II\nGast: TV Georgsmarienhütte IV\nHalle:  Belm\, Sportzentrum Belm (808122)\nAdresse: Heideweg 25\, 49191 Belm\n
LOCATION: Belm\, Sportzentrum Belm (808122): Heideweg 25\, 49191 Belm
CATEGORIES:Saison 2024/25
END:VEVENT
BEGIN:VEVENT
DTSTAMP:20260419T183815Z
DTSTART;TZID=Europe/Berlin:20250308T170000
DTEND;TZID=Europe/Berlin:20250308T183000
SUMMARY:Regionsklasse M Ost SG Teuto Handball II vs TV Georgsmarienhütte IV (904061)
UID:b3fa0eca-f985-493c-9fd0-c97f73356fc0
STATUS:CONFIRMED
LAST-MODIFIED:20250309T085107Z
DESCRIPTION:Regionsklasse Ost\nBegegnungs-Nr: 904061\nHeim: SG Teuto Handball II\nGast: TV Georgsmarienhütte IV\nHalle: Hagen a.T.W.\, SH -Gellenbeck (808134)\nAdresse: Görsmannstrasse 14\, 49170 Hagen a.T.W. (OT Gellenbeck)\n
LOCATION:Hagen a.T.W.\, SH -Gellenbeck (808134): Görsmannstrasse 14\, 49170 Hagen a.T.W. (OT Gellenbeck)
CATEGORIES:Saison 2024/25
END:VEVENT
BEGIN:VEVENT
DTSTAMP:20260419T183815Z
DTSTART;TZID=Europe/Berlin:20250302T170000
DTEND;TZID=Europe/Berlin:20250302T183000
SUMMARY:Regionsklasse M Ost TV Bissendorf-Holte IV vs TV Georgsmarienhütte IV (904060)
UID:6bd7c295-28eb-4b96-b417-83ca1858d480
STATUS:CONFIRMED
LAST-MODIFIED:20250302T193449Z
DESCRIPTION:Regionsklasse Ost\nBegegnungs-Nr: 904060\nHeim: TV Bissendorf-Holte IV\nGast: TV Georgsmarienhütte IV\nHalle: Bissendorf\, SH (808121)\nAdresse: Werscher Straße 24\, 49143 Bissendorf\n
LOCATION:Bissendorf\, SH (808121): Werscher Straße 24\, 49143 Bissendorf
CATEGORIES:Saison 2024/25
END:VEVENT
BEGIN:VEVENT
DTSTAMP:20260419T183815Z
DTSTART;TZID=Europe/Berlin:20241103T110000
DTEND;TZID=Europe/Berlin:20241103T123000
SUMMARY:Regionsklasse M Ost HSG Grönegau-Melle III vs TV Georgsmarienhütte IV (904017)
UID:eb405bca-dd30-491f-89f7-b44f341889c3
STATUS:CONFIRMED
LAST-MODIFIED:20241103T172303Z
DESCRIPTION:Regionsklasse Ost\nBegegnungs-Nr: 904017\nHeim: HSG Grönegau-Melle III\nGast: TV Georgsmarienhütte IV\nHalle: Melle\, Sporthalle Schulzentrum Neuenkirchen (neu) (808144)\nAdresse: Ottenheider Weg 18\, 49326 Melle (OT Neuenkirchen)\n
LOCATION:Melle\, Sporthalle Schulzentrum Neuenkirchen (neu) (808144): Ottenheider Weg 18\, 49326 Melle (OT Neuenkirchen)
CATEGORIES:Saison 2024/25
END:VEVENT
BEGIN:VEVENT
DTSTAMP:20260419T183815Z
DTSTART;TZID=Europe/Berlin:20241201T103000
DTEND;TZID=Europe/Berlin:20241201T120000
SUMMARY:Regionsklasse M Ost Eickener SpVg III vs TV Georgsmarienhütte IV (904032)
UID:ddf6ef32-efb5-4384-9cbf-ed797cb1b1ae
STATUS:CONFIRMED
LAST-MODIFIED:20241201T210314Z
DESCRIPTION:Regionsklasse Ost\nBegegnungs-Nr: 904032\nHeim: Eickener SpVg III\nGast: TV Georgsmarienhütte IV\nHalle: Melle\, Sporthalle Eicken-Bruche (808146)\nAdresse: Segelfliegerweg 11\, 49324 Melle\n
LOCATION:Melle\, Sporthalle Eicken-Bruche (808146): Segelfliegerweg 11\, 49324 Melle
CATEGORIES:Saison 2024/25
END:VEVENT
BEGIN:VEVENT
DTSTAMP:20260419T183815Z
DTSTART;TZID=Europe/Berlin:20250330T130000
DTEND;TZID=Europe/Berlin:20250330T143000
SUMMARY:Regionsklasse M Ost TuS Bramsche III vs TV Georgsmarienhütte IV (904070)
UID:716a6714-1cab-4fc7-b48a-622d28de6561
STATUS:CONFIRMED
LAST-MODIFIED:20250330T190035Z
DESCRIPTION:Regionsklasse Ost\nBegegnungs-Nr: 904070\nHeim: TuS Bramsche III\nGast: TV Georgsmarienhütte IV\nHalle: Sporthalle Bramsche IGS (808128)\nAdresse: Malgartener Straße 58\, 49565 Bramsche\n
LOCATION:Sporthalle Bramsche IGS (808128): Malgartener Straße 58\, 49565 Bramsche
CATEGORIES:Saison 2024/25
END:VEVENT
END:VCALENDAR
