BEGIN:VCALENDAR
PRODID:-//nuDatenautomaten//framework iCal4j //DE
VERSION:2.0
CALSCALE:GREGORIAN
BEGIN:VTIMEZONE
TZID:Europe/Berlin
LAST-MODIFIED:20260306T231828Z
TZURL:https://www.tzurl.org/zoneinfo/Europe/Berlin
X-LIC-LOCATION:Europe/Berlin
X-PROLEPTIC-TZNAME:LMT
BEGIN:STANDARD
TZNAME:CET
TZOFFSETFROM:+005328
TZOFFSETTO:+0100
DTSTART:18930401T000000
END:STANDARD
BEGIN:DAYLIGHT
TZNAME:CEST
TZOFFSETFROM:+0100
TZOFFSETTO:+0200
DTSTART:19160430T230000
RDATE:19400401T020000
RDATE:19430329T020000
RDATE:19460414T020000
RDATE:19470406T030000
RDATE:19480418T020000
RDATE:19490410T020000
RDATE:19800406T020000
END:DAYLIGHT
BEGIN:STANDARD
TZNAME:CET
TZOFFSETFROM:+0200
TZOFFSETTO:+0100
DTSTART:19161001T010000
RDATE:19421102T030000
RDATE:19431004T030000
RDATE:19441002T030000
RDATE:19451118T030000
RDATE:19461007T030000
END:STANDARD
BEGIN:DAYLIGHT
TZNAME:CEST
TZOFFSETFROM:+0100
TZOFFSETTO:+0200
DTSTART:19170416T020000
RRULE:FREQ=YEARLY;UNTIL=19180415T010000Z;BYMONTH=4;BYDAY=3MO
END:DAYLIGHT
BEGIN:STANDARD
TZNAME:CET
TZOFFSETFROM:+0200
TZOFFSETTO:+0100
DTSTART:19170917T030000
RRULE:FREQ=YEARLY;UNTIL=19180916T010000Z;BYMONTH=9;BYDAY=3MO
END:STANDARD
BEGIN:DAYLIGHT
TZNAME:CEST
TZOFFSETFROM:+0100
TZOFFSETTO:+0200
DTSTART:19440403T020000
RRULE:FREQ=YEARLY;UNTIL=19450402T010000Z;BYMONTH=4;BYDAY=1MO
END:DAYLIGHT
BEGIN:DAYLIGHT
TZNAME:CEMT
TZOFFSETFROM:+0200
TZOFFSETTO:+0300
DTSTART:19450524T020000
RDATE:19470511T030000
END:DAYLIGHT
BEGIN:DAYLIGHT
TZNAME:CEST
TZOFFSETFROM:+0300
TZOFFSETTO:+0200
DTSTART:19450924T030000
RDATE:19470629T030000
END:DAYLIGHT
BEGIN:STANDARD
TZNAME:CET
TZOFFSETFROM:+0100
TZOFFSETTO:+0100
DTSTART:19460101T000000
RDATE:19800101T000000
END:STANDARD
BEGIN:STANDARD
TZNAME:CET
TZOFFSETFROM:+0200
TZOFFSETTO:+0100
DTSTART:19471005T030000
RRULE:FREQ=YEARLY;UNTIL=19491002T010000Z;BYMONTH=10;BYDAY=1SU
END:STANDARD
BEGIN:STANDARD
TZNAME:CET
TZOFFSETFROM:+0200
TZOFFSETTO:+0100
DTSTART:19800928T030000
RRULE:FREQ=YEARLY;UNTIL=19950924T010000Z;BYMONTH=9;BYDAY=-1SU
END:STANDARD
BEGIN:DAYLIGHT
TZNAME:CEST
TZOFFSETFROM:+0100
TZOFFSETTO:+0200
DTSTART:19810329T020000
RRULE:FREQ=YEARLY;BYMONTH=3;BYDAY=-1SU
END:DAYLIGHT
BEGIN:STANDARD
TZNAME:CET
TZOFFSETFROM:+0200
TZOFFSETTO:+0100
DTSTART:19961027T030000
RRULE:FREQ=YEARLY;BYMONTH=10;BYDAY=-1SU
END:STANDARD
END:VTIMEZONE
BEGIN:VEVENT
DTSTAMP:20260423T135211Z
DTSTART;TZID=Europe/Berlin:20240915T145000
DTEND;TZID=Europe/Berlin:20240915T162000
SUMMARY:Oberliga F Süd Northeimer HC vs MTV Rosdorf (113009)
UID:93a219ff-9480-43bb-bb3a-bbf4e2242249
STATUS:CONFIRMED
LAST-MODIFIED:20240915T174819Z
DESCRIPTION:Oberliga Frauen Staffel Süd\nBegegnungs-Nr: 113009\nHeim: Northeimer HC\nGast: MTV Rosdorf\nHalle: Northeim\, SH  Schuhwall (206102)\nAdresse: Schuhwall 22\, 37154 Northeim\n
LOCATION:Northeim\, SH  Schuhwall (206102): Schuhwall 22\, 37154 Northeim
CATEGORIES:Saison 2024/25
END:VEVENT
BEGIN:VEVENT
DTSTAMP:20260423T135211Z
DTSTART;TZID=Europe/Berlin:20250112T170000
DTEND;TZID=Europe/Berlin:20250112T183000
SUMMARY:Oberliga F Süd Northeimer HC vs HSG Heidmark (113034)
UID:f9297642-5b76-42e6-91f8-f73e505f2697
STATUS:CONFIRMED
LAST-MODIFIED:20250113T095654Z
DESCRIPTION:Oberliga Frauen Staffel Süd\nBegegnungs-Nr: 113034\nHeim: Northeimer HC\nGast: HSG Heidmark\nHalle: Northeim\, SH  Schuhwall (206102)\nAdresse: Schuhwall 22\, 37154 Northeim\n
LOCATION:Northeim\, SH  Schuhwall (206102): Schuhwall 22\, 37154 Northeim
CATEGORIES:Saison 2024/25
END:VEVENT
BEGIN:VEVENT
DTSTAMP:20260423T135211Z
DTSTART;TZID=Europe/Berlin:20250119T170000
DTEND;TZID=Europe/Berlin:20250119T183000
SUMMARY:Oberliga F Süd Northeimer HC vs VfL Wolfsburg (113066)
UID:d6db4747-d9de-4e49-8ffe-3647190c3531
STATUS:CONFIRMED
LAST-MODIFIED:20250120T144731Z
DESCRIPTION:Oberliga Frauen Staffel Süd\nBegegnungs-Nr: 113066\nHeim: Northeimer HC\nGast: VfL Wolfsburg\nHalle: Northeim\, SH  Schuhwall (206102)\nAdresse: Schuhwall 22\, 37154 Northeim\n
LOCATION:Northeim\, SH  Schuhwall (206102): Schuhwall 22\, 37154 Northeim
CATEGORIES:Saison 2024/25
END:VEVENT
BEGIN:VEVENT
DTSTAMP:20260423T135211Z
DTSTART;TZID=Europe/Berlin:20250111T150000
DTEND;TZID=Europe/Berlin:20250111T163000
SUMMARY:Oberliga F Süd Northeimer HC vs HSG Schaumburg (113040)
UID:d2d75384-a548-4a1b-8083-1d3303f45ca3
STATUS:CONFIRMED
LAST-MODIFIED:20250113T095602Z
DESCRIPTION:Oberliga Frauen Staffel Süd\nBegegnungs-Nr: 113040\nHeim: Northeimer HC\nGast: HSG Schaumburg\nHalle: Northeim\, SH  Schuhwall (206102)\nAdresse: Schuhwall 22\, 37154 Northeim\n
LOCATION:Northeim\, SH  Schuhwall (206102): Schuhwall 22\, 37154 Northeim
CATEGORIES:Saison 2024/25
END:VEVENT
BEGIN:VEVENT
DTSTAMP:20260423T135211Z
DTSTART;TZID=Europe/Berlin:20240929T170000
DTEND;TZID=Europe/Berlin:20240929T183000
SUMMARY:Oberliga F Süd Northeimer HC vs MTV Großenheidorn (113023)
UID:333c334b-9e72-4da7-a484-3182a9d89244
STATUS:CONFIRMED
LAST-MODIFIED:20241001T070746Z
DESCRIPTION:Oberliga Frauen Staffel Süd\nBegegnungs-Nr: 113023\nHeim: Northeimer HC\nGast: MTV Großenheidorn\nHalle: Northeim\, SH  Schuhwall (206102)\nAdresse: Schuhwall 22\, 37154 Northeim\n
LOCATION:Northeim\, SH  Schuhwall (206102): Schuhwall 22\, 37154 Northeim
CATEGORIES:Saison 2024/25
END:VEVENT
BEGIN:VEVENT
DTSTAMP:20260423T135211Z
DTSTART;TZID=Europe/Berlin:20240922T170000
DTEND;TZID=Europe/Berlin:20240922T183000
SUMMARY:Oberliga F Süd Northeimer HC vs MTV Rohrsen (113017)
UID:183e769a-1210-44ce-b4d0-337e70652568
STATUS:CONFIRMED
LAST-MODIFIED:20240923T002342Z
DESCRIPTION:Oberliga Frauen Staffel Süd\nBegegnungs-Nr: 113017\nHeim: Northeimer HC\nGast: MTV Rohrsen\nHalle: Northeim\, SH  Schuhwall (206102)\nAdresse: Schuhwall 22\, 37154 Northeim\n
LOCATION:Northeim\, SH  Schuhwall (206102): Schuhwall 22\, 37154 Northeim
CATEGORIES:Saison 2024/25
END:VEVENT
BEGIN:VEVENT
DTSTAMP:20260423T135211Z
DTSTART;TZID=Europe/Berlin:20250202T170000
DTEND;TZID=Europe/Berlin:20250202T183000
SUMMARY:Oberliga F Süd Northeimer HC vs MTV VJ Peine (113072)
UID:6aedf2d2-7a61-45ff-80da-e0474714bf01
STATUS:CONFIRMED
LAST-MODIFIED:20250202T174932Z
DESCRIPTION:Oberliga Frauen Staffel Süd\nBegegnungs-Nr: 113072\nHeim: Northeimer HC\nGast: MTV VJ Peine\nHalle: Northeim\, SH  Schuhwall (206102)\nAdresse: Schuhwall 22\, 37154 Northeim\n
LOCATION:Northeim\, SH  Schuhwall (206102): Schuhwall 22\, 37154 Northeim
CATEGORIES:Saison 2024/25
END:VEVENT
BEGIN:VEVENT
DTSTAMP:20260423T135211Z
DTSTART;TZID=Europe/Berlin:20250504T170000
DTEND;TZID=Europe/Berlin:20250504T183000
SUMMARY:Oberliga F Süd Northeimer HC vs SC Germania List (113126)
UID:f78323dd-74e9-4fca-a5cb-1e4831db4566
STATUS:CONFIRMED
LAST-MODIFIED:20250504T174739Z
DESCRIPTION:Oberliga Frauen Staffel Süd\nBegegnungs-Nr: 113126\nHeim: Northeimer HC\nGast: SC Germania List\nHalle: Northeim\, SH  Schuhwall (206102)\nAdresse: Schuhwall 22\, 37154 Northeim\n
LOCATION:Northeim\, SH  Schuhwall (206102): Schuhwall 22\, 37154 Northeim
CATEGORIES:Saison 2024/25
END:VEVENT
BEGIN:VEVENT
DTSTAMP:20260423T135211Z
DTSTART;TZID=Europe/Berlin:20250330T143000
DTEND;TZID=Europe/Berlin:20250330T160000
SUMMARY:Oberliga F Süd Northeimer HC vs Mellendorfer TV (113115)
UID:7aa72636-e477-439d-ba6a-5bac1c77b731
STATUS:CONFIRMED
LAST-MODIFIED:20250330T160114Z
DESCRIPTION:Oberliga Frauen Staffel Süd\nBegegnungs-Nr: 113115\nHeim: Northeimer HC\nGast: Mellendorfer TV\nHalle: Northeim\, SH  Schuhwall (206102)\nAdresse: Schuhwall 22\, 37154 Northeim\n
LOCATION:Northeim\, SH  Schuhwall (206102): Schuhwall 22\, 37154 Northeim
CATEGORIES:Saison 2024/25
END:VEVENT
BEGIN:VEVENT
DTSTAMP:20260423T135211Z
DTSTART;TZID=Europe/Berlin:20241201T170000
DTEND;TZID=Europe/Berlin:20241201T183000
SUMMARY:Oberliga F Süd Northeimer HC vs HSG Plesse-Hardenberg e.V. (113054)
UID:63d30e6a-5b4f-4dff-b34e-a583ef377835
STATUS:CONFIRMED
LAST-MODIFIED:20241202T123208Z
DESCRIPTION:Oberliga Frauen Staffel Süd\nBegegnungs-Nr: 113054\nHeim: Northeimer HC\nGast: HSG Plesse-Hardenberg e.V.\nHalle: Northeim\, SH  Schuhwall (206102)\nAdresse: Schuhwall 22\, 37154 Northeim\n
LOCATION:Northeim\, SH  Schuhwall (206102): Schuhwall 22\, 37154 Northeim
CATEGORIES:Saison 2024/25
END:VEVENT
BEGIN:VEVENT
DTSTAMP:20260423T135211Z
DTSTART;TZID=Europe/Berlin:20250309T170000
DTEND;TZID=Europe/Berlin:20250309T183000
SUMMARY:Oberliga F Süd Northeimer HC vs SG Zweidorf/Bortfeld (113096)
UID:7fdd31b1-b955-4e5f-94ba-062f346146ca
STATUS:CONFIRMED
LAST-MODIFIED:20250310T085605Z
DESCRIPTION:Oberliga Frauen Staffel Süd\nBegegnungs-Nr: 113096\nHeim: Northeimer HC\nGast: SG Zweidorf/Bortfeld\nHalle: Northeim\, SH  Schuhwall (206102)\nAdresse: Schuhwall 22\, 37154 Northeim\n
LOCATION:Northeim\, SH  Schuhwall (206102): Schuhwall 22\, 37154 Northeim
CATEGORIES:Saison 2024/25
END:VEVENT
BEGIN:VEVENT
DTSTAMP:20260423T135211Z
DTSTART;TZID=Europe/Berlin:20250322T183000
DTEND;TZID=Europe/Berlin:20250322T200000
SUMMARY:Oberliga F Süd HSG Schaumburg vs Northeimer HC (113108)
UID:35776dc6-e05d-46b8-96b5-42c6617c7c23
STATUS:CONFIRMED
LAST-MODIFIED:20250324T080855Z
DESCRIPTION:Oberliga Frauen Staffel Süd\nBegegnungs-Nr: 113108\nHeim: HSG Schaumburg\nGast: Northeimer HC\nHalle: Bad Nenndorf\, SH Waltringhausen  (406131)\nAdresse: Sportplatzweg\, 31542 Bad Nenndorf\n
LOCATION:Bad Nenndorf\, SH Waltringhausen  (406131): Sportplatzweg\, 31542 Bad Nenndorf
CATEGORIES:Saison 2024/25
END:VEVENT
BEGIN:VEVENT
DTSTAMP:20260423T135211Z
DTSTART;TZID=Europe/Berlin:20250216T173000
DTEND;TZID=Europe/Berlin:20250216T190000
SUMMARY:Oberliga F Süd MTV Rohrsen vs Northeimer HC (113080)
UID:b56274e1-9eb2-457a-9a29-55800e1efbd6
STATUS:CONFIRMED
LAST-MODIFIED:20250217T090331Z
DESCRIPTION:Oberliga Frauen Staffel Süd\nBegegnungs-Nr: 113080\nHeim: MTV Rohrsen\nGast: Northeimer HC\nHalle: Hameln\, Hohes Feld (402130)\nAdresse: Bertholdsweg\, 31787 Hameln\n
LOCATION:Hameln\, Hohes Feld (402130): Bertholdsweg\, 31787 Hameln
CATEGORIES:Saison 2024/25
END:VEVENT
BEGIN:VEVENT
DTSTAMP:20260423T135211Z
DTSTART;TZID=Europe/Berlin:20241027T150000
DTEND;TZID=Europe/Berlin:20241027T163000
SUMMARY:Oberliga F Süd SG Zweidorf/Bortfeld vs Northeimer HC (113029)
UID:a6ff04f5-a868-40cf-8de5-e711a0237f22
STATUS:CONFIRMED
LAST-MODIFIED:20241028T132317Z
DESCRIPTION:Oberliga Frauen Staffel Süd\nBegegnungs-Nr: 113029\nHeim: SG Zweidorf/Bortfeld\nGast: Northeimer HC\nHalle: Bortfeld\, Gemeindehalle (208132)\nAdresse: Opferhöfe 16\, 38176 Wendeburg (OT Bortfeld)\n
LOCATION:Bortfeld\, Gemeindehalle (208132): Opferhöfe 16\, 38176 Wendeburg (OT Bortfeld)
CATEGORIES:Saison 2024/25
END:VEVENT
BEGIN:VEVENT
DTSTAMP:20260423T135211Z
DTSTART;TZID=Europe/Berlin:20250223T150000
DTEND;TZID=Europe/Berlin:20250223T163000
SUMMARY:Oberliga F Süd MTV Großenheidorn vs Northeimer HC (113090)
UID:375c4940-9e4d-4061-bb6f-d3049a709aae
STATUS:CONFIRMED
LAST-MODIFIED:20250226T115031Z
DESCRIPTION:Oberliga Frauen Staffel Süd\nBegegnungs-Nr: 113090\nHeim: MTV Großenheidorn\nGast: Northeimer HC\nHalle: Großenheidorn\, SH (403410)\nAdresse: Am Bahnhof 14\, 31515 Wunstorf\n
LOCATION:Großenheidorn\, SH (403410): Am Bahnhof 14\, 31515 Wunstorf
CATEGORIES:Saison 2024/25
END:VEVENT
BEGIN:VEVENT
DTSTAMP:20260423T135211Z
DTSTART;TZID=Europe/Berlin:20241124T170000
DTEND;TZID=Europe/Berlin:20241124T183000
SUMMARY:Oberliga F Süd Mellendorfer TV vs Northeimer HC (113048)
UID:ef5f6ff1-698c-4785-a96e-aaa01d34bed9
STATUS:CONFIRMED
LAST-MODIFIED:20241125T152043Z
DESCRIPTION:Oberliga Frauen Staffel Süd\nBegegnungs-Nr: 113048\nHeim: Mellendorfer TV\nGast: Northeimer HC\nHalle: Wedemark\, SZ Mellendorf (403350)\nAdresse: Am Royeplatz\, 30900 Wedemark (OT Mellendorf)\n
LOCATION:Wedemark\, SZ Mellendorf (403350): Am Royeplatz\, 30900 Wedemark (OT Mellendorf)
CATEGORIES:Saison 2024/25
END:VEVENT
BEGIN:VEVENT
DTSTAMP:20260423T135211Z
DTSTART;TZID=Europe/Berlin:20250208T153000
DTEND;TZID=Europe/Berlin:20250208T170000
SUMMARY:Oberliga F Süd MTV Rosdorf vs Northeimer HC (113073)
UID:d26c2e05-2914-4e7e-8ad8-7c61741ec290
STATUS:CONFIRMED
LAST-MODIFIED:20250209T155447Z
DESCRIPTION:Oberliga Frauen Staffel Süd\nBegegnungs-Nr: 113073\nHeim: MTV Rosdorf\nGast: Northeimer HC\nHalle: Rosdorf\, SH (203121)\nAdresse: Siedlungsweg 21\, 37124 Rosdorf\n
LOCATION:Rosdorf\, SH (203121): Siedlungsweg 21\, 37124 Rosdorf
CATEGORIES:Saison 2024/25
END:VEVENT
BEGIN:VEVENT
DTSTAMP:20260423T135211Z
DTSTART;TZID=Europe/Berlin:20240907T173000
DTEND;TZID=Europe/Berlin:20240907T190000
SUMMARY:Oberliga F Süd MTV VJ Peine vs Northeimer HC (113003)
UID:5c7d7583-fb63-4781-abe9-ce78ec369061
STATUS:CONFIRMED
LAST-MODIFIED:20240908T115455Z
DESCRIPTION:Oberliga Frauen Staffel Süd\nBegegnungs-Nr: 113003\nHeim: MTV VJ Peine\nGast: Northeimer HC\nHalle: Peine\, Silberkamp-Sporthalle (208102)\nAdresse: Am Silberkamp\, 31224 Peine\n
LOCATION:Peine\, Silberkamp-Sporthalle (208102): Am Silberkamp\, 31224 Peine
CATEGORIES:Saison 2024/25
END:VEVENT
BEGIN:VEVENT
DTSTAMP:20260423T135211Z
DTSTART;TZID=Europe/Berlin:20250510T173000
DTEND;TZID=Europe/Berlin:20250510T190000
SUMMARY:Oberliga F Süd VfL Wolfsburg vs Northeimer HC (113130)
UID:f4cb5a81-d48c-4d56-aad8-810ab43f60b1
STATUS:CONFIRMED
LAST-MODIFIED:20250511T151803Z
DESCRIPTION:Oberliga Frauen Staffel Süd\nBegegnungs-Nr: 113130\nHeim: VfL Wolfsburg\nGast: Northeimer HC\nHalle: Wolfsburg\, Carl-Hahn-Schule (202101)\nAdresse: Tischlerstraße\, 38440 Wolfsburg\n
LOCATION:Wolfsburg\, Carl-Hahn-Schule (202101): Tischlerstraße\, 38440 Wolfsburg
CATEGORIES:Saison 2024/25
END:VEVENT
BEGIN:VEVENT
DTSTAMP:20260423T135211Z
DTSTART;TZID=Europe/Berlin:20250427T170000
DTEND;TZID=Europe/Berlin:20250427T183000
SUMMARY:Oberliga F Süd HSG Plesse-Hardenberg e.V. vs Northeimer HC (113121)
UID:77e14410-a726-4208-be82-393accb2d77f
STATUS:CONFIRMED
LAST-MODIFIED:20250427T175544Z
DESCRIPTION:Oberliga Frauen Staffel Süd\nBegegnungs-Nr: 113121\nHeim: HSG Plesse-Hardenberg e.V.\nGast: Northeimer HC\nHalle: Bovenden\, SH (203120)\nAdresse: Wurzelbruchweg 13\, 37120 Bovenden\n
LOCATION:Bovenden\, SH (203120): Wurzelbruchweg 13\, 37120 Bovenden
CATEGORIES:Saison 2024/25
END:VEVENT
BEGIN:VEVENT
DTSTAMP:20260423T135211Z
DTSTART;TZID=Europe/Berlin:20250315T171500
DTEND;TZID=Europe/Berlin:20250315T184500
SUMMARY:Oberliga F Süd HSG Heidmark vs Northeimer HC (113099)
UID:14b0ae0e-c168-49f7-9345-dbef69b23272
STATUS:CONFIRMED
LAST-MODIFIED:20250316T112313Z
DESCRIPTION:Oberliga Frauen Staffel Süd\nBegegnungs-Nr: 113099\nHeim: HSG Heidmark\nGast: Northeimer HC\nHalle: Fallingbostel\, Sportzentrum (607103)\nAdresse: Idinger Heide\, 29683 Fallingbostel\n
LOCATION:Fallingbostel\, Sportzentrum (607103): Idinger Heide\, 29683 Fallingbostel
CATEGORIES:Saison 2024/25
END:VEVENT
BEGIN:VEVENT
DTSTAMP:20260423T135211Z
DTSTART;TZID=Europe/Berlin:20241207T180000
DTEND;TZID=Europe/Berlin:20241207T193000
SUMMARY:Oberliga F Süd SC Germania List vs Northeimer HC (113060)
UID:ce5223aa-e71c-45ed-a559-aa6db986c122
STATUS:CONFIRMED
LAST-MODIFIED:20241208T113326Z
DESCRIPTION:Oberliga Frauen Staffel Süd\nBegegnungs-Nr: 113060\nHeim: SC Germania List\nGast: Northeimer HC\nHalle: Hannover\, SZ Sahlkamp   (403252)\nAdresse: Sahlkamp 152\, 30179 Hannover\n
LOCATION:Hannover\, SZ Sahlkamp   (403252): Sahlkamp 152\, 30179 Hannover
CATEGORIES:Saison 2024/25
END:VEVENT
END:VCALENDAR
