BEGIN:VCALENDAR
PRODID:-//nuDatenautomaten//framework iCal4j //DE
VERSION:2.0
CALSCALE:GREGORIAN
BEGIN:VTIMEZONE
TZID:Europe/Berlin
LAST-MODIFIED:20260306T231828Z
TZURL:https://www.tzurl.org/zoneinfo/Europe/Berlin
X-LIC-LOCATION:Europe/Berlin
X-PROLEPTIC-TZNAME:LMT
BEGIN:STANDARD
TZNAME:CET
TZOFFSETFROM:+005328
TZOFFSETTO:+0100
DTSTART:18930401T000000
END:STANDARD
BEGIN:DAYLIGHT
TZNAME:CEST
TZOFFSETFROM:+0100
TZOFFSETTO:+0200
DTSTART:19160430T230000
RDATE:19400401T020000
RDATE:19430329T020000
RDATE:19460414T020000
RDATE:19470406T030000
RDATE:19480418T020000
RDATE:19490410T020000
RDATE:19800406T020000
END:DAYLIGHT
BEGIN:STANDARD
TZNAME:CET
TZOFFSETFROM:+0200
TZOFFSETTO:+0100
DTSTART:19161001T010000
RDATE:19421102T030000
RDATE:19431004T030000
RDATE:19441002T030000
RDATE:19451118T030000
RDATE:19461007T030000
END:STANDARD
BEGIN:DAYLIGHT
TZNAME:CEST
TZOFFSETFROM:+0100
TZOFFSETTO:+0200
DTSTART:19170416T020000
RRULE:FREQ=YEARLY;UNTIL=19180415T010000Z;BYMONTH=4;BYDAY=3MO
END:DAYLIGHT
BEGIN:STANDARD
TZNAME:CET
TZOFFSETFROM:+0200
TZOFFSETTO:+0100
DTSTART:19170917T030000
RRULE:FREQ=YEARLY;UNTIL=19180916T010000Z;BYMONTH=9;BYDAY=3MO
END:STANDARD
BEGIN:DAYLIGHT
TZNAME:CEST
TZOFFSETFROM:+0100
TZOFFSETTO:+0200
DTSTART:19440403T020000
RRULE:FREQ=YEARLY;UNTIL=19450402T010000Z;BYMONTH=4;BYDAY=1MO
END:DAYLIGHT
BEGIN:DAYLIGHT
TZNAME:CEMT
TZOFFSETFROM:+0200
TZOFFSETTO:+0300
DTSTART:19450524T020000
RDATE:19470511T030000
END:DAYLIGHT
BEGIN:DAYLIGHT
TZNAME:CEST
TZOFFSETFROM:+0300
TZOFFSETTO:+0200
DTSTART:19450924T030000
RDATE:19470629T030000
END:DAYLIGHT
BEGIN:STANDARD
TZNAME:CET
TZOFFSETFROM:+0100
TZOFFSETTO:+0100
DTSTART:19460101T000000
RDATE:19800101T000000
END:STANDARD
BEGIN:STANDARD
TZNAME:CET
TZOFFSETFROM:+0200
TZOFFSETTO:+0100
DTSTART:19471005T030000
RRULE:FREQ=YEARLY;UNTIL=19491002T010000Z;BYMONTH=10;BYDAY=1SU
END:STANDARD
BEGIN:STANDARD
TZNAME:CET
TZOFFSETFROM:+0200
TZOFFSETTO:+0100
DTSTART:19800928T030000
RRULE:FREQ=YEARLY;UNTIL=19950924T010000Z;BYMONTH=9;BYDAY=-1SU
END:STANDARD
BEGIN:DAYLIGHT
TZNAME:CEST
TZOFFSETFROM:+0100
TZOFFSETTO:+0200
DTSTART:19810329T020000
RRULE:FREQ=YEARLY;BYMONTH=3;BYDAY=-1SU
END:DAYLIGHT
BEGIN:STANDARD
TZNAME:CET
TZOFFSETFROM:+0200
TZOFFSETTO:+0100
DTSTART:19961027T030000
RRULE:FREQ=YEARLY;BYMONTH=10;BYDAY=-1SU
END:STANDARD
END:VTIMEZONE
BEGIN:VEVENT
DTSTAMP:20260422T090902Z
DTSTART;TZID=Europe/Berlin:20250330T183000
DTEND;TZID=Europe/Berlin:20250330T200000
SUMMARY:Regionsliga M Ost 1 TuS Lemförde II vs TuS FRISIA Goldenstedt (903081)
UID:acd91dc9-8798-4604-8ce3-ff83e58a2a19
STATUS:CONFIRMED
LAST-MODIFIED:20250330T185744Z
DESCRIPTION:Regionsliga M Ost 1\nBegegnungs-Nr: 903081\nHeim: TuS Lemförde II\nGast: TuS FRISIA Goldenstedt\nHalle:  Lemförde\, SZ (809143)\nAdresse: Stettiner Str. 35\, 49448 Lemförde\n
LOCATION: Lemförde\, SZ (809143): Stettiner Str. 35\, 49448 Lemförde
CATEGORIES:Saison 2024/25
END:VEVENT
BEGIN:VEVENT
DTSTAMP:20260422T090902Z
DTSTART;TZID=Europe/Berlin:20250301T193000
DTEND;TZID=Europe/Berlin:20250301T210000
SUMMARY:Regionsliga M Ost 1 TuS Lemförde II vs SV Quitt Ankum (903074)
UID:7326bcf9-f032-495b-b2f7-b15dcf0d5865
STATUS:CONFIRMED
LAST-MODIFIED:20250301T200906Z
DESCRIPTION:Regionsliga M Ost 1\nBegegnungs-Nr: 903074\nHeim: TuS Lemförde II\nGast: SV Quitt Ankum\nHalle:  Lemförde\, SZ (809143)\nAdresse: Stettiner Str. 35\, 49448 Lemförde\n
LOCATION: Lemförde\, SZ (809143): Stettiner Str. 35\, 49448 Lemförde
CATEGORIES:Saison 2024/25
END:VEVENT
BEGIN:VEVENT
DTSTAMP:20260422T090902Z
DTSTART;TZID=Europe/Berlin:20241103T170000
DTEND;TZID=Europe/Berlin:20241103T183000
SUMMARY:Regionsliga M Ost 1 TuS Lemförde II vs BV Garrel (903025)
UID:544f7b8e-bc3f-4143-898a-4b5057dcddb1
STATUS:CONFIRMED
LAST-MODIFIED:20241103T180818Z
DESCRIPTION:Regionsliga M Ost 1\nBegegnungs-Nr: 903025\nHeim: TuS Lemförde II\nGast: BV Garrel\nHalle:  Lemförde\, SZ (809143)\nAdresse: Stettiner Str. 35\, 49448 Lemförde\n
LOCATION: Lemförde\, SZ (809143): Stettiner Str. 35\, 49448 Lemförde
CATEGORIES:Saison 2024/25
END:VEVENT
BEGIN:VEVENT
DTSTAMP:20260422T090902Z
DTSTART;TZID=Europe/Berlin:20240907T160000
DTEND;TZID=Europe/Berlin:20240907T173000
SUMMARY:Regionsliga M Ost 1 TuS Lemförde II vs TuS BW Lohne (903001)
UID:09e226d6-bccf-4634-b138-6baf815f582a
STATUS:CONFIRMED
LAST-MODIFIED:20240908T094959Z
DESCRIPTION:Regionsliga M Ost 1\nBegegnungs-Nr: 903001\nHeim: TuS Lemförde II\nGast: TuS BW Lohne\nHalle:  Lemförde\, SZ (809143)\nAdresse: Stettiner Str. 35\, 49448 Lemförde\n
LOCATION: Lemförde\, SZ (809143): Stettiner Str. 35\, 49448 Lemförde
CATEGORIES:Saison 2024/25
END:VEVENT
BEGIN:VEVENT
DTSTAMP:20260422T090902Z
DTSTART;TZID=Europe/Berlin:20240914T180000
DTEND;TZID=Europe/Berlin:20240914T193000
SUMMARY:Regionsliga M Ost 1 TuS Lemförde II vs SV Rot-Weiß Damme II (903007)
UID:12ff4837-576b-4922-84a9-1f6edf358cc8
STATUS:CONFIRMED
LAST-MODIFIED:20240915T080922Z
DESCRIPTION:Regionsliga M Ost 1\nBegegnungs-Nr: 903007\nHeim: TuS Lemförde II\nGast: SV Rot-Weiß Damme II\nHalle:  Lemförde\, SZ (809143)\nAdresse: Stettiner Str. 35\, 49448 Lemförde\n
LOCATION: Lemförde\, SZ (809143): Stettiner Str. 35\, 49448 Lemförde
CATEGORIES:Saison 2024/25
END:VEVENT
BEGIN:VEVENT
DTSTAMP:20260422T090902Z
DTSTART;TZID=Europe/Berlin:20250209T170000
DTEND;TZID=Europe/Berlin:20250209T183000
SUMMARY:Regionsliga M Ost 1 TuS Lemförde II vs SFN Vechta III (903065)
UID:35d2269e-2b94-43cb-86c5-da3b74462988
STATUS:CONFIRMED
LAST-MODIFIED:20250209T193512Z
DESCRIPTION:Regionsliga M Ost 1\nBegegnungs-Nr: 903065\nHeim: TuS Lemförde II\nGast: SFN Vechta III\nHalle:  Lemförde\, SZ (809143)\nAdresse: Stettiner Str. 35\, 49448 Lemförde\n
LOCATION: Lemförde\, SZ (809143): Stettiner Str. 35\, 49448 Lemförde
CATEGORIES:Saison 2024/25
END:VEVENT
BEGIN:VEVENT
DTSTAMP:20260422T090902Z
DTSTART;TZID=Europe/Berlin:20241124T170000
DTEND;TZID=Europe/Berlin:20241124T183000
SUMMARY:Regionsliga M Ost 1 TuS Lemförde II vs TV Dinklage III (903015)
UID:c34ea5ac-0e2c-4549-9ff2-8c43ce9ff896
STATUS:CONFIRMED
LAST-MODIFIED:20241124T190048Z
DESCRIPTION:Regionsliga M Ost 1\nBegegnungs-Nr: 903015\nHeim: TuS Lemförde II\nGast: TV Dinklage III\nHalle:  Lemförde\, SZ (809143)\nAdresse: Stettiner Str. 35\, 49448 Lemförde\n
LOCATION: Lemförde\, SZ (809143): Stettiner Str. 35\, 49448 Lemförde
CATEGORIES:Saison 2024/25
END:VEVENT
BEGIN:VEVENT
DTSTAMP:20260422T090902Z
DTSTART;TZID=Europe/Berlin:20241208T170000
DTEND;TZID=Europe/Berlin:20241208T183000
SUMMARY:Regionsliga M Ost 1 TuS Lemförde II vs HSG Hunte-Aue Löwen III (903045)
UID:0a10a08d-1d9a-4734-96f9-9bf0213a276d
STATUS:CONFIRMED
LAST-MODIFIED:20241208T183605Z
DESCRIPTION:Regionsliga M Ost 1\nBegegnungs-Nr: 903045\nHeim: TuS Lemförde II\nGast: HSG Hunte-Aue Löwen III\nHalle:  Lemförde\, SZ (809143)\nAdresse: Stettiner Str. 35\, 49448 Lemförde\n
LOCATION: Lemförde\, SZ (809143): Stettiner Str. 35\, 49448 Lemförde
CATEGORIES:Saison 2024/25
END:VEVENT
BEGIN:VEVENT
DTSTAMP:20260422T090902Z
DTSTART;TZID=Europe/Berlin:20241117T170000
DTEND;TZID=Europe/Berlin:20241117T183000
SUMMARY:Regionsliga M Ost 1 TuS Lemförde II vs TV Cloppenburg III (903035)
UID:8a9d29cc-8913-4258-ace7-eeadcdd58735
STATUS:CONFIRMED
LAST-MODIFIED:20241117T192605Z
DESCRIPTION:Regionsliga M Ost 1\nBegegnungs-Nr: 903035\nHeim: TuS Lemförde II\nGast: TV Cloppenburg III\nHalle:  Lemförde\, SZ (809143)\nAdresse: Stettiner Str. 35\, 49448 Lemförde\n
LOCATION: Lemförde\, SZ (809143): Stettiner Str. 35\, 49448 Lemförde
CATEGORIES:Saison 2024/25
END:VEVENT
BEGIN:VEVENT
DTSTAMP:20260422T090902Z
DTSTART;TZID=Europe/Berlin:20241130T193000
DTEND;TZID=Europe/Berlin:20241130T210000
SUMMARY:Regionsliga M Ost 1 TuS FRISIA Goldenstedt vs TuS Lemförde II (903038)
UID:64a4dfb1-80e6-467a-9b4e-d22886d35bd9
STATUS:CONFIRMED
LAST-MODIFIED:20241201T101647Z
DESCRIPTION:Regionsliga M Ost 1\nBegegnungs-Nr: 903038\nHeim: TuS FRISIA Goldenstedt\nGast: TuS Lemförde II\nHalle: Goldenstedt\, SZ  (809116)\nAdresse: An der Marienschule\, 49424 Goldenstedt\n
LOCATION:Goldenstedt\, SZ  (809116): An der Marienschule\, 49424 Goldenstedt
CATEGORIES:Saison 2024/25
END:VEVENT
BEGIN:VEVENT
DTSTAMP:20260422T090902Z
DTSTART;TZID=Europe/Berlin:20250118T150000
DTEND;TZID=Europe/Berlin:20250118T163000
SUMMARY:Regionsliga M Ost 1 SV Rot-Weiß Damme II vs TuS Lemförde II (903052)
UID:6e1a23f3-ec60-4174-ac55-f5c71ea7db58
STATUS:CONFIRMED
LAST-MODIFIED:20250118T191448Z
DESCRIPTION:Regionsliga M Ost 1\nBegegnungs-Nr: 903052\nHeim: SV Rot-Weiß Damme II\nGast: TuS Lemförde II\nHalle: Damme\, HS  (809105)\nAdresse: Schützenstraße 1\, 49401 Damme\n
LOCATION:Damme\, HS  (809105): Schützenstraße 1\, 49401 Damme
CATEGORIES:Saison 2024/25
END:VEVENT
BEGIN:VEVENT
DTSTAMP:20260422T090902Z
DTSTART;TZID=Europe/Berlin:20250216T180000
DTEND;TZID=Europe/Berlin:20250216T193000
SUMMARY:Regionsliga M Ost 1 BV Garrel vs TuS Lemförde II (903071)
UID:537d74fa-c788-4489-a504-d5858760f6bd
STATUS:CONFIRMED
LAST-MODIFIED:20250216T192128Z
DESCRIPTION:Regionsliga M Ost 1\nBegegnungs-Nr: 903071\nHeim: BV Garrel\nGast: TuS Lemförde II\nHalle:  Friesoythe\, SH Hansaplatz (813072)\nAdresse: Hansaplatz\, 26169 Friesoythe\n
LOCATION: Friesoythe\, SH Hansaplatz (813072): Hansaplatz\, 26169 Friesoythe
CATEGORIES:Saison 2024/25
END:VEVENT
BEGIN:VEVENT
DTSTAMP:20260422T090902Z
DTSTART;TZID=Europe/Berlin:20241109T193000
DTEND;TZID=Europe/Berlin:20241109T210000
SUMMARY:Regionsliga M Ost 1 SV Quitt Ankum vs TuS Lemförde II (903027)
UID:3e61d43b-88ab-45ad-979d-bf7bb76eb164
STATUS:CONFIRMED
LAST-MODIFIED:20241110T091105Z
DESCRIPTION:Regionsliga M Ost 1\nBegegnungs-Nr: 903027\nHeim: SV Quitt Ankum\nGast: TuS Lemförde II\nHalle: Ankum\, Ballsporthalle  (808154)\nAdresse: Am Kattenboll\, 49577 Ankum\n
LOCATION:Ankum\, Ballsporthalle  (808154): Am Kattenboll\, 49577 Ankum
CATEGORIES:Saison 2024/25
END:VEVENT
BEGIN:VEVENT
DTSTAMP:20260422T090902Z
DTSTART;TZID=Europe/Berlin:20250309T163000
DTEND;TZID=Europe/Berlin:20250309T180000
SUMMARY:Regionsliga M Ost 1 TV Cloppenburg III vs TuS Lemförde II (903080)
UID:0f14fcae-131f-4803-b17a-efdf7bd4a197
STATUS:CONFIRMED
LAST-MODIFIED:20250309T201030Z
DESCRIPTION:Regionsliga M Ost 1\nBegegnungs-Nr: 903080\nHeim: TV Cloppenburg III\nGast: TuS Lemförde II\nHalle: Cloppenburg\, TVC-SH  (809102)\nAdresse: Schulstraße\, 49661 Cloppenburg\n
LOCATION:Cloppenburg\, TVC-SH  (809102): Schulstraße\, 49661 Cloppenburg
CATEGORIES:Saison 2024/25
END:VEVENT
BEGIN:VEVENT
DTSTAMP:20260422T090902Z
DTSTART;TZID=Europe/Berlin:20250125T163000
DTEND;TZID=Europe/Berlin:20250125T180000
SUMMARY:Regionsliga M Ost 1 TV Dinklage III vs TuS Lemförde II (903057)
UID:2d29828a-4f8d-43d3-b99c-7fd95ac573e9
STATUS:CONFIRMED
LAST-MODIFIED:20250126T090740Z
DESCRIPTION:Regionsliga M Ost 1\nBegegnungs-Nr: 903057\nHeim: TV Dinklage III\nGast: TuS Lemförde II\nHalle: Dinklage\, SH 2 SZ  (809108)\nAdresse: Schulstraße\, 49413 Dinklage\n
LOCATION:Dinklage\, SH 2 SZ  (809108): Schulstraße\, 49413 Dinklage
CATEGORIES:Saison 2024/25
END:VEVENT
BEGIN:VEVENT
DTSTAMP:20260422T090902Z
DTSTART;TZID=Europe/Berlin:20250112T150000
DTEND;TZID=Europe/Berlin:20250112T163000
SUMMARY:Regionsliga M Ost 1 TuS BW Lohne vs TuS Lemförde II (903051)
UID:a6478bf3-a561-475c-8f51-7259868bfbd3
STATUS:CONFIRMED
LAST-MODIFIED:20250113T114344Z
DESCRIPTION:Regionsliga M Ost 1\nBegegnungs-Nr: 903051\nHeim: TuS BW Lohne\nGast: TuS Lemförde II\nHalle: Lohne\, SH (809126)\nAdresse: An der Kirchenziegelei\, 49393 Lohne\n
LOCATION:Lohne\, SH (809126): An der Kirchenziegelei\, 49393 Lohne
CATEGORIES:Saison 2024/25
END:VEVENT
BEGIN:VEVENT
DTSTAMP:20260422T090902Z
DTSTART;TZID=Europe/Berlin:20250329T180000
DTEND;TZID=Europe/Berlin:20250329T193000
SUMMARY:Regionsliga M Ost 1 HSG Hunte-Aue Löwen III vs TuS Lemförde II (903087)
UID:bb447439-f709-46e4-aef9-6304b65fcca6
STATUS:CONFIRMED
LAST-MODIFIED:20250330T080222Z
DESCRIPTION:Regionsliga M Ost 1\nBegegnungs-Nr: 903087\nHeim: HSG Hunte-Aue Löwen III\nGast: TuS Lemförde II\nHalle: Wagenfeld\, SZ  (809146)\nAdresse: Branntweinsweg\, 49419 Wagenfeld\n
LOCATION:Wagenfeld\, SZ  (809146): Branntweinsweg\, 49419 Wagenfeld
CATEGORIES:Saison 2024/25
END:VEVENT
BEGIN:VEVENT
DTSTAMP:20260422T090902Z
DTSTART;TZID=Europe/Berlin:20241012T170000
DTEND;TZID=Europe/Berlin:20241012T183000
SUMMARY:Regionsliga M Ost 1 SFN Vechta III vs TuS Lemförde II (903017)
UID:30aaf835-c4c6-4e03-a6a1-906c7b4ca17d
STATUS:CONFIRMED
LAST-MODIFIED:20241013T074746Z
DESCRIPTION:Regionsliga M Ost 1\nBegegnungs-Nr: 903017\nHeim: SFN Vechta III\nGast: TuS Lemförde II\nHalle: Vechta-West\, SH  (809140)\nAdresse: Brüsseler Str. 37\, 49377 Vechta\n
LOCATION:Vechta-West\, SH  (809140): Brüsseler Str. 37\, 49377 Vechta
CATEGORIES:Saison 2024/25
END:VEVENT
END:VCALENDAR
