BEGIN:VCALENDAR
PRODID:-//nuDatenautomaten//framework iCal4j //DE
VERSION:2.0
CALSCALE:GREGORIAN
BEGIN:VTIMEZONE
TZID:Europe/Berlin
LAST-MODIFIED:20260306T231828Z
TZURL:https://www.tzurl.org/zoneinfo/Europe/Berlin
X-LIC-LOCATION:Europe/Berlin
X-PROLEPTIC-TZNAME:LMT
BEGIN:STANDARD
TZNAME:CET
TZOFFSETFROM:+005328
TZOFFSETTO:+0100
DTSTART:18930401T000000
END:STANDARD
BEGIN:DAYLIGHT
TZNAME:CEST
TZOFFSETFROM:+0100
TZOFFSETTO:+0200
DTSTART:19160430T230000
RDATE:19400401T020000
RDATE:19430329T020000
RDATE:19460414T020000
RDATE:19470406T030000
RDATE:19480418T020000
RDATE:19490410T020000
RDATE:19800406T020000
END:DAYLIGHT
BEGIN:STANDARD
TZNAME:CET
TZOFFSETFROM:+0200
TZOFFSETTO:+0100
DTSTART:19161001T010000
RDATE:19421102T030000
RDATE:19431004T030000
RDATE:19441002T030000
RDATE:19451118T030000
RDATE:19461007T030000
END:STANDARD
BEGIN:DAYLIGHT
TZNAME:CEST
TZOFFSETFROM:+0100
TZOFFSETTO:+0200
DTSTART:19170416T020000
RRULE:FREQ=YEARLY;UNTIL=19180415T010000Z;BYMONTH=4;BYDAY=3MO
END:DAYLIGHT
BEGIN:STANDARD
TZNAME:CET
TZOFFSETFROM:+0200
TZOFFSETTO:+0100
DTSTART:19170917T030000
RRULE:FREQ=YEARLY;UNTIL=19180916T010000Z;BYMONTH=9;BYDAY=3MO
END:STANDARD
BEGIN:DAYLIGHT
TZNAME:CEST
TZOFFSETFROM:+0100
TZOFFSETTO:+0200
DTSTART:19440403T020000
RRULE:FREQ=YEARLY;UNTIL=19450402T010000Z;BYMONTH=4;BYDAY=1MO
END:DAYLIGHT
BEGIN:DAYLIGHT
TZNAME:CEMT
TZOFFSETFROM:+0200
TZOFFSETTO:+0300
DTSTART:19450524T020000
RDATE:19470511T030000
END:DAYLIGHT
BEGIN:DAYLIGHT
TZNAME:CEST
TZOFFSETFROM:+0300
TZOFFSETTO:+0200
DTSTART:19450924T030000
RDATE:19470629T030000
END:DAYLIGHT
BEGIN:STANDARD
TZNAME:CET
TZOFFSETFROM:+0100
TZOFFSETTO:+0100
DTSTART:19460101T000000
RDATE:19800101T000000
END:STANDARD
BEGIN:STANDARD
TZNAME:CET
TZOFFSETFROM:+0200
TZOFFSETTO:+0100
DTSTART:19471005T030000
RRULE:FREQ=YEARLY;UNTIL=19491002T010000Z;BYMONTH=10;BYDAY=1SU
END:STANDARD
BEGIN:STANDARD
TZNAME:CET
TZOFFSETFROM:+0200
TZOFFSETTO:+0100
DTSTART:19800928T030000
RRULE:FREQ=YEARLY;UNTIL=19950924T010000Z;BYMONTH=9;BYDAY=-1SU
END:STANDARD
BEGIN:DAYLIGHT
TZNAME:CEST
TZOFFSETFROM:+0100
TZOFFSETTO:+0200
DTSTART:19810329T020000
RRULE:FREQ=YEARLY;BYMONTH=3;BYDAY=-1SU
END:DAYLIGHT
BEGIN:STANDARD
TZNAME:CET
TZOFFSETFROM:+0200
TZOFFSETTO:+0100
DTSTART:19961027T030000
RRULE:FREQ=YEARLY;BYMONTH=10;BYDAY=-1SU
END:STANDARD
END:VTIMEZONE
BEGIN:VEVENT
DTSTAMP:20260419T180126Z
DTSTART;TZID=Europe/Berlin:20250329T190000
DTEND;TZID=Europe/Berlin:20250329T203000
SUMMARY:Regionsoberliga M Ost TV Bissendorf-Holte III vs SV Eversburg (902088)
UID:a23f7126-e86f-4068-9b3b-9af7ce435ca1
STATUS:CONFIRMED
LAST-MODIFIED:20250330T075947Z
DESCRIPTION:Regionsoberliga Männer Ost\nBegegnungs-Nr: 902088\nHeim: TV Bissendorf-Holte III\nGast: SV Eversburg\nHalle: Bissendorf\, SH (808121)\nAdresse: Werscher Straße 24\, 49143 Bissendorf\n
LOCATION:Bissendorf\, SH (808121): Werscher Straße 24\, 49143 Bissendorf
CATEGORIES:Saison 2024/25
END:VEVENT
BEGIN:VEVENT
DTSTAMP:20260419T180126Z
DTSTART;TZID=Europe/Berlin:20250208T173000
DTEND;TZID=Europe/Berlin:20250208T190000
SUMMARY:Regionsoberliga M Ost TV Bissendorf-Holte III vs TV Georgsmarienhütte II (902062)
UID:96e467af-7ff7-451a-af7e-1820f18c18a7
STATUS:CONFIRMED
LAST-MODIFIED:20250209T192644Z
DESCRIPTION:Regionsoberliga Männer Ost\nBegegnungs-Nr: 902062\nHeim: TV Bissendorf-Holte III\nGast: TV Georgsmarienhütte II\nHalle: Bissendorf\, SH (808121)\nAdresse: Werscher Straße 24\, 49143 Bissendorf\n
LOCATION:Bissendorf\, SH (808121): Werscher Straße 24\, 49143 Bissendorf
CATEGORIES:Saison 2024/25
END:VEVENT
BEGIN:VEVENT
DTSTAMP:20260419T180126Z
DTSTART;TZID=Europe/Berlin:20241201T110000
DTEND;TZID=Europe/Berlin:20241201T123000
SUMMARY:Regionsoberliga M Ost TV Bissendorf-Holte III vs SV Rot-Weiß Damme (902038)
UID:2811c959-2174-4848-b7af-00aef218730a
STATUS:CONFIRMED
LAST-MODIFIED:20241201T202921Z
DESCRIPTION:Regionsoberliga Männer Ost\nBegegnungs-Nr: 902038\nHeim: TV Bissendorf-Holte III\nGast: SV Rot-Weiß Damme\nHalle: Bissendorf\, SH (808121)\nAdresse: Werscher Straße 24\, 49143 Bissendorf\n
LOCATION:Bissendorf\, SH (808121): Werscher Straße 24\, 49143 Bissendorf
CATEGORIES:Saison 2024/25
END:VEVENT
BEGIN:VEVENT
DTSTAMP:20260419T180126Z
DTSTART;TZID=Europe/Berlin:20250119T110000
DTEND;TZID=Europe/Berlin:20250119T123000
SUMMARY:Regionsoberliga M Ost TV Bissendorf-Holte III vs TV Dinklage II (902052)
UID:f3c25135-dc36-45d1-86fc-83e90c71408a
STATUS:CONFIRMED
LAST-MODIFIED:20250119T190104Z
DESCRIPTION:Regionsoberliga Männer Ost\nBegegnungs-Nr: 902052\nHeim: TV Bissendorf-Holte III\nGast: TV Dinklage II\nHalle: Bissendorf\, SH (808121)\nAdresse: Werscher Straße 24\, 49143 Bissendorf\n
LOCATION:Bissendorf\, SH (808121): Werscher Straße 24\, 49143 Bissendorf
CATEGORIES:Saison 2024/25
END:VEVENT
BEGIN:VEVENT
DTSTAMP:20260419T180126Z
DTSTART;TZID=Europe/Berlin:20240908T110000
DTEND;TZID=Europe/Berlin:20240908T123000
SUMMARY:Regionsoberliga M Ost TV Bissendorf-Holte III vs HSG Osnabrück II (902003)
UID:6e341f5f-d53d-4bd8-a6d9-345e136e92c8
STATUS:CONFIRMED
LAST-MODIFIED:20240909T065233Z
DESCRIPTION:Regionsoberliga Männer Ost\nBegegnungs-Nr: 902003\nHeim: TV Bissendorf-Holte III\nGast: HSG Osnabrück II\nHalle: Bissendorf\, SH (808121)\nAdresse: Werscher Straße 24\, 49143 Bissendorf\n
LOCATION:Bissendorf\, SH (808121): Werscher Straße 24\, 49143 Bissendorf
CATEGORIES:Saison 2024/25
END:VEVENT
BEGIN:VEVENT
DTSTAMP:20260419T180126Z
DTSTART;TZID=Europe/Berlin:20250309T110000
DTEND;TZID=Europe/Berlin:20250309T123000
SUMMARY:Regionsoberliga M Ost TV Bissendorf-Holte III vs TuS Lemförde (902079)
UID:7eef8d28-0ea8-45a7-b1e5-ec327371e45b
STATUS:CONFIRMED
LAST-MODIFIED:20250309T200948Z
DESCRIPTION:Regionsoberliga Männer Ost\nBegegnungs-Nr: 902079\nHeim: TV Bissendorf-Holte III\nGast: TuS Lemförde\nHalle: Bissendorf\, SH (808121)\nAdresse: Werscher Straße 24\, 49143 Bissendorf\n
LOCATION:Bissendorf\, SH (808121): Werscher Straße 24\, 49143 Bissendorf
CATEGORIES:Saison 2024/25
END:VEVENT
BEGIN:VEVENT
DTSTAMP:20260419T180126Z
DTSTART;TZID=Europe/Berlin:20240929T110000
DTEND;TZID=Europe/Berlin:20240929T123000
SUMMARY:Regionsoberliga M Ost TV Bissendorf-Holte III vs SFN Vechta II (902014)
UID:d3226f10-5e57-4b7e-bae5-67e35badf21a
STATUS:CONFIRMED
LAST-MODIFIED:20240929T182556Z
DESCRIPTION:Regionsoberliga Männer Ost\nBegegnungs-Nr: 902014\nHeim: TV Bissendorf-Holte III\nGast: SFN Vechta II\nHalle: Bissendorf\, SH (808121)\nAdresse: Werscher Straße 24\, 49143 Bissendorf\n
LOCATION:Bissendorf\, SH (808121): Werscher Straße 24\, 49143 Bissendorf
CATEGORIES:Saison 2024/25
END:VEVENT
BEGIN:VEVENT
DTSTAMP:20260419T180126Z
DTSTART;TZID=Europe/Berlin:20250302T110000
DTEND;TZID=Europe/Berlin:20250302T123000
SUMMARY:Regionsoberliga M Ost TV Bissendorf-Holte III vs VfL Bad Iburg (902073)
UID:e14dbefb-eb0b-4e44-aaae-a783c50f6ab4
STATUS:CONFIRMED
LAST-MODIFIED:20250302T192802Z
DESCRIPTION:Regionsoberliga Männer Ost\nBegegnungs-Nr: 902073\nHeim: TV Bissendorf-Holte III\nGast: VfL Bad Iburg\nHalle: Bissendorf\, SH (808121)\nAdresse: Werscher Straße 24\, 49143 Bissendorf\n
LOCATION:Bissendorf\, SH (808121): Werscher Straße 24\, 49143 Bissendorf
CATEGORIES:Saison 2024/25
END:VEVENT
BEGIN:VEVENT
DTSTAMP:20260419T180126Z
DTSTART;TZID=Europe/Berlin:20241214T174500
DTEND;TZID=Europe/Berlin:20241214T191500
SUMMARY:Regionsoberliga M Ost TV Bissendorf-Holte III vs SV Concordia Belm-Powe e.V. (902022)
UID:09bb4931-4e16-472a-b276-d66c251874b5
STATUS:CONFIRMED
LAST-MODIFIED:20241214T191128Z
DESCRIPTION:Regionsoberliga Männer Ost\nBegegnungs-Nr: 902022\nHeim: TV Bissendorf-Holte III\nGast: SV Concordia Belm-Powe e.V.\nHalle: Bissendorf\, SH (808121)\nAdresse: Werscher Straße 24\, 49143 Bissendorf\n
LOCATION:Bissendorf\, SH (808121): Werscher Straße 24\, 49143 Bissendorf
CATEGORIES:Saison 2024/25
END:VEVENT
BEGIN:VEVENT
DTSTAMP:20260419T180126Z
DTSTART;TZID=Europe/Berlin:20250111T180000
DTEND;TZID=Europe/Berlin:20250111T193000
SUMMARY:Regionsoberliga M Ost HSG Osnabrück II vs TV Bissendorf-Holte III (902046)
UID:afd09232-6e14-4af1-b208-c6a67416a1a2
STATUS:CONFIRMED
LAST-MODIFIED:20250112T092059Z
DESCRIPTION:Regionsoberliga Männer Ost\nBegegnungs-Nr: 902046\nHeim: HSG Osnabrück II\nGast: TV Bissendorf-Holte III\nHalle: Osnabrück\, Vereins-SH OSC  (808104)\nAdresse: Hiärm-Grupe-Straße 8\, 49080 Osnabrück (OT Wüste)\n
LOCATION:Osnabrück\, Vereins-SH OSC  (808104): Hiärm-Grupe-Straße 8\, 49080 Osnabrück (OT Wüste)
CATEGORIES:Saison 2024/25
END:VEVENT
BEGIN:VEVENT
DTSTAMP:20260419T180126Z
DTSTART;TZID=Europe/Berlin:20250126T150000
DTEND;TZID=Europe/Berlin:20250126T163000
SUMMARY:Regionsoberliga M Ost SFN Vechta II vs TV Bissendorf-Holte III (902058)
UID:3b5f544c-11a4-4257-8da9-95d6cb86b556
STATUS:CONFIRMED
LAST-MODIFIED:20250126T190330Z
DESCRIPTION:Regionsoberliga Männer Ost\nBegegnungs-Nr: 902058\nHeim: SFN Vechta II\nGast: TV Bissendorf-Holte III\nHalle: Vechta-West\, SH  (809140)\nAdresse: Brüsseler Str. 37\, 49377 Vechta\n
LOCATION:Vechta-West\, SH  (809140): Brüsseler Str. 37\, 49377 Vechta
CATEGORIES:Saison 2024/25
END:VEVENT
BEGIN:VEVENT
DTSTAMP:20260419T180126Z
DTSTART;TZID=Europe/Berlin:20241208T140000
DTEND;TZID=Europe/Berlin:20241208T153000
SUMMARY:Regionsoberliga M Ost SV Eversburg vs TV Bissendorf-Holte III (902044)
UID:ed4f6ef4-0f64-46dc-8104-b28b0e87382a
STATUS:CONFIRMED
LAST-MODIFIED:20241208T182059Z
DESCRIPTION:Regionsoberliga Männer Ost\nBegegnungs-Nr: 902044\nHeim: SV Eversburg\nGast: TV Bissendorf-Holte III\nHalle: Osnabrück\, SZ  (808105)\nAdresse: Grüner Weg\, 49090 Osnabrück (OT Eversburg)\n
LOCATION:Osnabrück\, SZ  (808105): Grüner Weg\, 49090 Osnabrück (OT Eversburg)
CATEGORIES:Saison 2024/25
END:VEVENT
BEGIN:VEVENT
DTSTAMP:20260419T180126Z
DTSTART;TZID=Europe/Berlin:20241116T180000
DTEND;TZID=Europe/Berlin:20241116T193000
SUMMARY:Regionsoberliga M Ost TuS Lemförde vs TV Bissendorf-Holte III (902030)
UID:4a26a185-1188-48f9-95de-f1bf5bde7df7
STATUS:CONFIRMED
LAST-MODIFIED:20241117T094154Z
DESCRIPTION:Regionsoberliga Männer Ost\nBegegnungs-Nr: 902030\nHeim: TuS Lemförde\nGast: TV Bissendorf-Holte III\nHalle:  Lemförde\, SZ (809143)\nAdresse: Stettiner Str. 35\, 49448 Lemförde\n
LOCATION: Lemförde\, SZ (809143): Stettiner Str. 35\, 49448 Lemförde
CATEGORIES:Saison 2024/25
END:VEVENT
BEGIN:VEVENT
DTSTAMP:20260419T180126Z
DTSTART;TZID=Europe/Berlin:20241026T193000
DTEND;TZID=Europe/Berlin:20241026T210000
SUMMARY:Regionsoberliga M Ost TV Georgsmarienhütte II vs TV Bissendorf-Holte III (902018)
UID:784df3b4-599e-4c30-8a82-327465b12466
STATUS:CONFIRMED
LAST-MODIFIED:20241027T094513Z
DESCRIPTION:Regionsoberliga Männer Ost\nBegegnungs-Nr: 902018\nHeim: TV Georgsmarienhütte II\nGast: TV Bissendorf-Holte III\nHalle: Georgsmarienhütte\, SZ  (808132)\nAdresse: Carl-Stahmer-Weg 16\, 49124 Georgsmarienhütte\n
LOCATION:Georgsmarienhütte\, SZ  (808132): Carl-Stahmer-Weg 16\, 49124 Georgsmarienhütte
CATEGORIES:Saison 2024/25
END:VEVENT
BEGIN:VEVENT
DTSTAMP:20260419T180126Z
DTSTART;TZID=Europe/Berlin:20241110T170000
DTEND;TZID=Europe/Berlin:20241110T183000
SUMMARY:Regionsoberliga M Ost VfL Bad Iburg vs TV Bissendorf-Holte III (902028)
UID:7df21f7f-90eb-4b65-b15d-150e6d8a4777
STATUS:CONFIRMED
LAST-MODIFIED:20241110T190808Z
DESCRIPTION:Regionsoberliga Männer Ost\nBegegnungs-Nr: 902028\nHeim: VfL Bad Iburg\nGast: TV Bissendorf-Holte III\nHalle: Bad Iburg\, Schulzentrum Halle 1 (808129)\nAdresse: Bielefelder Str. 15\, 49186 Bad Iburg\n
LOCATION:Bad Iburg\, Schulzentrum Halle 1 (808129): Bielefelder Str. 15\, 49186 Bad Iburg
CATEGORIES:Saison 2024/25
END:VEVENT
BEGIN:VEVENT
DTSTAMP:20260419T180126Z
DTSTART;TZID=Europe/Berlin:20250315T190000
DTEND;TZID=Europe/Berlin:20250315T203000
SUMMARY:Regionsoberliga M Ost SV Rot-Weiß Damme vs TV Bissendorf-Holte III (902083)
UID:22cc1c71-c05a-4012-8681-920163730031
STATUS:CONFIRMED
LAST-MODIFIED:20250316T085724Z
DESCRIPTION:Regionsoberliga Männer Ost\nBegegnungs-Nr: 902083\nHeim: SV Rot-Weiß Damme\nGast: TV Bissendorf-Holte III\nHalle: Damme\, HS  (809105)\nAdresse: Schützenstraße 1\, 49401 Damme\n
LOCATION:Damme\, HS  (809105): Schützenstraße 1\, 49401 Damme
CATEGORIES:Saison 2024/25
END:VEVENT
BEGIN:VEVENT
DTSTAMP:20260419T180126Z
DTSTART;TZID=Europe/Berlin:20240914T163000
DTEND;TZID=Europe/Berlin:20240914T180000
SUMMARY:Regionsoberliga M Ost TV Dinklage II vs TV Bissendorf-Holte III (902008)
UID:d2926e84-aba2-4465-a595-f677c944387f
STATUS:CONFIRMED
LAST-MODIFIED:20240915T080542Z
DESCRIPTION:Regionsoberliga Männer Ost\nBegegnungs-Nr: 902008\nHeim: TV Dinklage II\nGast: TV Bissendorf-Holte III\nHalle: Dinklage\, SH 1 SZ  (809107)\nAdresse: Schulstraße\, 49413 Dinklage\n
LOCATION:Dinklage\, SH 1 SZ  (809107): Schulstraße\, 49413 Dinklage
CATEGORIES:Saison 2024/25
END:VEVENT
BEGIN:VEVENT
DTSTAMP:20260419T180126Z
DTSTART;TZID=Europe/Berlin:20250216T170000
DTEND;TZID=Europe/Berlin:20250216T183000
SUMMARY:Regionsoberliga M Ost SV Concordia Belm-Powe e.V. vs TV Bissendorf-Holte III (902070)
UID:178a44bd-ce03-4342-a6dd-bd0095c4c830
STATUS:CONFIRMED
LAST-MODIFIED:20250216T191958Z
DESCRIPTION:Regionsoberliga Männer Ost\nBegegnungs-Nr: 902070\nHeim: SV Concordia Belm-Powe e.V.\nGast: TV Bissendorf-Holte III\nHalle:  Belm\, Sportzentrum Belm (808122)\nAdresse: Heideweg 25\, 49191 Belm\n
LOCATION: Belm\, Sportzentrum Belm (808122): Heideweg 25\, 49191 Belm
CATEGORIES:Saison 2024/25
END:VEVENT
END:VCALENDAR
