BEGIN:VCALENDAR
PRODID:-//nuDatenautomaten//framework iCal4j //DE
VERSION:2.0
CALSCALE:GREGORIAN
BEGIN:VTIMEZONE
TZID:Europe/Berlin
LAST-MODIFIED:20260306T231828Z
TZURL:https://www.tzurl.org/zoneinfo/Europe/Berlin
X-LIC-LOCATION:Europe/Berlin
X-PROLEPTIC-TZNAME:LMT
BEGIN:STANDARD
TZNAME:CET
TZOFFSETFROM:+005328
TZOFFSETTO:+0100
DTSTART:18930401T000000
END:STANDARD
BEGIN:DAYLIGHT
TZNAME:CEST
TZOFFSETFROM:+0100
TZOFFSETTO:+0200
DTSTART:19160430T230000
RDATE:19400401T020000
RDATE:19430329T020000
RDATE:19460414T020000
RDATE:19470406T030000
RDATE:19480418T020000
RDATE:19490410T020000
RDATE:19800406T020000
END:DAYLIGHT
BEGIN:STANDARD
TZNAME:CET
TZOFFSETFROM:+0200
TZOFFSETTO:+0100
DTSTART:19161001T010000
RDATE:19421102T030000
RDATE:19431004T030000
RDATE:19441002T030000
RDATE:19451118T030000
RDATE:19461007T030000
END:STANDARD
BEGIN:DAYLIGHT
TZNAME:CEST
TZOFFSETFROM:+0100
TZOFFSETTO:+0200
DTSTART:19170416T020000
RRULE:FREQ=YEARLY;UNTIL=19180415T010000Z;BYMONTH=4;BYDAY=3MO
END:DAYLIGHT
BEGIN:STANDARD
TZNAME:CET
TZOFFSETFROM:+0200
TZOFFSETTO:+0100
DTSTART:19170917T030000
RRULE:FREQ=YEARLY;UNTIL=19180916T010000Z;BYMONTH=9;BYDAY=3MO
END:STANDARD
BEGIN:DAYLIGHT
TZNAME:CEST
TZOFFSETFROM:+0100
TZOFFSETTO:+0200
DTSTART:19440403T020000
RRULE:FREQ=YEARLY;UNTIL=19450402T010000Z;BYMONTH=4;BYDAY=1MO
END:DAYLIGHT
BEGIN:DAYLIGHT
TZNAME:CEMT
TZOFFSETFROM:+0200
TZOFFSETTO:+0300
DTSTART:19450524T020000
RDATE:19470511T030000
END:DAYLIGHT
BEGIN:DAYLIGHT
TZNAME:CEST
TZOFFSETFROM:+0300
TZOFFSETTO:+0200
DTSTART:19450924T030000
RDATE:19470629T030000
END:DAYLIGHT
BEGIN:STANDARD
TZNAME:CET
TZOFFSETFROM:+0100
TZOFFSETTO:+0100
DTSTART:19460101T000000
RDATE:19800101T000000
END:STANDARD
BEGIN:STANDARD
TZNAME:CET
TZOFFSETFROM:+0200
TZOFFSETTO:+0100
DTSTART:19471005T030000
RRULE:FREQ=YEARLY;UNTIL=19491002T010000Z;BYMONTH=10;BYDAY=1SU
END:STANDARD
BEGIN:STANDARD
TZNAME:CET
TZOFFSETFROM:+0200
TZOFFSETTO:+0100
DTSTART:19800928T030000
RRULE:FREQ=YEARLY;UNTIL=19950924T010000Z;BYMONTH=9;BYDAY=-1SU
END:STANDARD
BEGIN:DAYLIGHT
TZNAME:CEST
TZOFFSETFROM:+0100
TZOFFSETTO:+0200
DTSTART:19810329T020000
RRULE:FREQ=YEARLY;BYMONTH=3;BYDAY=-1SU
END:DAYLIGHT
BEGIN:STANDARD
TZNAME:CET
TZOFFSETFROM:+0200
TZOFFSETTO:+0100
DTSTART:19961027T030000
RRULE:FREQ=YEARLY;BYMONTH=10;BYDAY=-1SU
END:STANDARD
END:VTIMEZONE
BEGIN:VEVENT
DTSTAMP:20260419T235015Z
DTSTART;TZID=Europe/Berlin:20250329T173000
DTEND;TZID=Europe/Berlin:20250329T190000
SUMMARY:Oberliga F Nord SG SV F-fehn./TuS P-fehn vs VfL Stade II (112095)
UID:752dbd6f-7507-4ce6-9e43-d2aa181d9289
STATUS:CONFIRMED
LAST-MODIFIED:20250330T155615Z
DESCRIPTION:Oberliga Frauen Staffel Nord\nBegegnungs-Nr: 112095\nHeim: SG SV F-fehn./TuS P-fehn\nGast: VfL Stade II\nHalle: Edewecht\, SH -Friedrichsfehn (813056)\nAdresse: Zur Sportwiese\, 26188 Edewecht (OT Friedrichsfehn)\n
LOCATION:Edewecht\, SH -Friedrichsfehn (813056): Zur Sportwiese\, 26188 Edewecht (OT Friedrichsfehn)
CATEGORIES:Saison 2024/25
END:VEVENT
BEGIN:VEVENT
DTSTAMP:20260419T235015Z
DTSTART;TZID=Europe/Berlin:20240921T173000
DTEND;TZID=Europe/Berlin:20240921T190000
SUMMARY:Oberliga F Nord SG SV F-fehn./TuS P-fehn vs TV Cloppenburg (112015)
UID:fd1681ca-623f-473b-85f5-8a868e4dfaa8
STATUS:CONFIRMED
LAST-MODIFIED:20240923T001655Z
DESCRIPTION:Oberliga Frauen Staffel Nord\nBegegnungs-Nr: 112015\nHeim: SG SV F-fehn./TuS P-fehn\nGast: TV Cloppenburg\nHalle: Edewecht\, SH -Friedrichsfehn (813056)\nAdresse: Zur Sportwiese\, 26188 Edewecht (OT Friedrichsfehn)\n
LOCATION:Edewecht\, SH -Friedrichsfehn (813056): Zur Sportwiese\, 26188 Edewecht (OT Friedrichsfehn)
CATEGORIES:Saison 2024/25
END:VEVENT
BEGIN:VEVENT
DTSTAMP:20260419T235015Z
DTSTART;TZID=Europe/Berlin:20240914T193000
DTEND;TZID=Europe/Berlin:20240914T210000
SUMMARY:Oberliga F Nord SG SV F-fehn./TuS P-fehn vs TV Oyten II (112010)
UID:5dba0740-83a4-4f56-bbdc-363067742a59
STATUS:CONFIRMED
LAST-MODIFIED:20240915T142431Z
DESCRIPTION:Oberliga Frauen Staffel Nord\nBegegnungs-Nr: 112010\nHeim: SG SV F-fehn./TuS P-fehn\nGast: TV Oyten II\nHalle: Edewecht\, SH -Friedrichsfehn (813056)\nAdresse: Zur Sportwiese\, 26188 Edewecht (OT Friedrichsfehn)\n
LOCATION:Edewecht\, SH -Friedrichsfehn (813056): Zur Sportwiese\, 26188 Edewecht (OT Friedrichsfehn)
CATEGORIES:Saison 2024/25
END:VEVENT
BEGIN:VEVENT
DTSTAMP:20260419T235015Z
DTSTART;TZID=Europe/Berlin:20250201T173000
DTEND;TZID=Europe/Berlin:20250201T190000
SUMMARY:Oberliga F Nord SG SV F-fehn./TuS P-fehn vs MTV Tostedt (112060)
UID:bff8e0c8-d86b-4e25-864d-9b07f3171680
STATUS:CONFIRMED
LAST-MODIFIED:20250202T164358Z
DESCRIPTION:Oberliga Frauen Staffel Nord\nBegegnungs-Nr: 112060\nHeim: SG SV F-fehn./TuS P-fehn\nGast: MTV Tostedt\nHalle: Edewecht\, SH -Friedrichsfehn (813056)\nAdresse: Zur Sportwiese\, 26188 Edewecht (OT Friedrichsfehn)\n
LOCATION:Edewecht\, SH -Friedrichsfehn (813056): Zur Sportwiese\, 26188 Edewecht (OT Friedrichsfehn)
CATEGORIES:Saison 2024/25
END:VEVENT
BEGIN:VEVENT
DTSTAMP:20260419T235015Z
DTSTART;TZID=Europe/Berlin:20241026T173000
DTEND;TZID=Europe/Berlin:20241026T190000
SUMMARY:Oberliga F Nord SG SV F-fehn./TuS P-fehn vs TuS Komet Arsten (112024)
UID:895710f4-faa6-4ddd-a081-917072ae2047
STATUS:CONFIRMED
LAST-MODIFIED:20241028T131214Z
DESCRIPTION:Oberliga Frauen Staffel Nord\nBegegnungs-Nr: 112024\nHeim: SG SV F-fehn./TuS P-fehn\nGast: TuS Komet Arsten\nHalle: Edewecht\, SH -Friedrichsfehn (813056)\nAdresse: Zur Sportwiese\, 26188 Edewecht (OT Friedrichsfehn)\n
LOCATION:Edewecht\, SH -Friedrichsfehn (813056): Zur Sportwiese\, 26188 Edewecht (OT Friedrichsfehn)
CATEGORIES:Saison 2024/25
END:VEVENT
BEGIN:VEVENT
DTSTAMP:20260419T235015Z
DTSTART;TZID=Europe/Berlin:20250503T173000
DTEND;TZID=Europe/Berlin:20250503T190000
SUMMARY:Oberliga F Nord SG SV F-fehn./TuS P-fehn vs Handballverein Lüneburg (112103)
UID:a730da27-0224-47c9-b3b9-dfc0b25bfa38
STATUS:CONFIRMED
LAST-MODIFIED:20250504T153303Z
DESCRIPTION:Oberliga Frauen Staffel Nord\nBegegnungs-Nr: 112103\nHeim: SG SV F-fehn./TuS P-fehn\nGast: Handballverein Lüneburg\nHalle: Edewecht\, SH -Friedrichsfehn (813056)\nAdresse: Zur Sportwiese\, 26188 Edewecht (OT Friedrichsfehn)\n
LOCATION:Edewecht\, SH -Friedrichsfehn (813056): Zur Sportwiese\, 26188 Edewecht (OT Friedrichsfehn)
CATEGORIES:Saison 2024/25
END:VEVENT
BEGIN:VEVENT
DTSTAMP:20260419T235015Z
DTSTART;TZID=Europe/Berlin:20250316T153000
DTEND;TZID=Europe/Berlin:20250316T170000
SUMMARY:Oberliga F Nord SG SV F-fehn./TuS P-fehn vs SV Höltinghausen (112085)
UID:8e386a5f-3954-4761-94cc-d03a198df81c
STATUS:CONFIRMED
LAST-MODIFIED:20250317T131357Z
DESCRIPTION:Oberliga Frauen Staffel Nord\nBegegnungs-Nr: 112085\nHeim: SG SV F-fehn./TuS P-fehn\nGast: SV Höltinghausen\nHalle: Edewecht\, SH -Friedrichsfehn (813056)\nAdresse: Zur Sportwiese\, 26188 Edewecht (OT Friedrichsfehn)\n
LOCATION:Edewecht\, SH -Friedrichsfehn (813056): Zur Sportwiese\, 26188 Edewecht (OT Friedrichsfehn)
CATEGORIES:Saison 2024/25
END:VEVENT
BEGIN:VEVENT
DTSTAMP:20260419T235015Z
DTSTART;TZID=Europe/Berlin:20250125T173000
DTEND;TZID=Europe/Berlin:20250125T190000
SUMMARY:Oberliga F Nord SG SV F-fehn./TuS P-fehn vs MTV Eyendorf (112056)
UID:a545b611-b417-4b38-a583-d555a76380d5
STATUS:CONFIRMED
LAST-MODIFIED:20250127T162915Z
DESCRIPTION:Oberliga Frauen Staffel Nord\nBegegnungs-Nr: 112056\nHeim: SG SV F-fehn./TuS P-fehn\nGast: MTV Eyendorf\nHalle: Edewecht\, SH -Friedrichsfehn (813056)\nAdresse: Zur Sportwiese\, 26188 Edewecht (OT Friedrichsfehn)\n
LOCATION:Edewecht\, SH -Friedrichsfehn (813056): Zur Sportwiese\, 26188 Edewecht (OT Friedrichsfehn)
CATEGORIES:Saison 2024/25
END:VEVENT
BEGIN:VEVENT
DTSTAMP:20260419T235015Z
DTSTART;TZID=Europe/Berlin:20241201T150000
DTEND;TZID=Europe/Berlin:20241201T163000
SUMMARY:Oberliga F Nord SG SV F-fehn./TuS P-fehn vs TV Neerstedt (112044)
UID:b0cd2dce-d7ab-4c5f-bbc7-b6f1f84eef33
STATUS:CONFIRMED
LAST-MODIFIED:20241202T122424Z
DESCRIPTION:Oberliga Frauen Staffel Nord\nBegegnungs-Nr: 112044\nHeim: SG SV F-fehn./TuS P-fehn\nGast: TV Neerstedt\nHalle: Edewecht\, SH -Friedrichsfehn (813056)\nAdresse: Zur Sportwiese\, 26188 Edewecht (OT Friedrichsfehn)\n
LOCATION:Edewecht\, SH -Friedrichsfehn (813056): Zur Sportwiese\, 26188 Edewecht (OT Friedrichsfehn)
CATEGORIES:Saison 2024/25
END:VEVENT
BEGIN:VEVENT
DTSTAMP:20260419T235015Z
DTSTART;TZID=Europe/Berlin:20241115T193000
DTEND;TZID=Europe/Berlin:20241115T210000
SUMMARY:Oberliga F Nord SG SV F-fehn./TuS P-fehn vs SG Neuenhaus/Uelsen (112032)
UID:419fe5f6-dfea-4cd8-a6ae-a02680aba4d7
STATUS:CONFIRMED
LAST-MODIFIED:20241117T151448Z
DESCRIPTION:Oberliga Frauen Staffel Nord\nBegegnungs-Nr: 112032\nHeim: SG SV F-fehn./TuS P-fehn\nGast: SG Neuenhaus/Uelsen\nHalle: Edewecht\, SH -Friedrichsfehn (813056)\nAdresse: Zur Sportwiese\, 26188 Edewecht (OT Friedrichsfehn)\n
LOCATION:Edewecht\, SH -Friedrichsfehn (813056): Zur Sportwiese\, 26188 Edewecht (OT Friedrichsfehn)
CATEGORIES:Saison 2024/25
END:VEVENT
BEGIN:VEVENT
DTSTAMP:20260419T235015Z
DTSTART;TZID=Europe/Berlin:20250215T193000
DTEND;TZID=Europe/Berlin:20250215T210000
SUMMARY:Oberliga F Nord TV Cloppenburg vs SG SV F-fehn./TuS P-fehn (112069)
UID:b54fae0c-9150-4983-bae2-0b15b930026a
STATUS:CONFIRMED
LAST-MODIFIED:20250215T212348Z
DESCRIPTION:Oberliga Frauen Staffel Nord\nBegegnungs-Nr: 112069\nHeim: TV Cloppenburg\nGast: SG SV F-fehn./TuS P-fehn\nHalle: Cloppenburg\, TVC-SH  (809102)\nAdresse: Schulstraße\, 49661 Cloppenburg\n
LOCATION:Cloppenburg\, TVC-SH  (809102): Schulstraße\, 49661 Cloppenburg
CATEGORIES:Saison 2024/25
END:VEVENT
BEGIN:VEVENT
DTSTAMP:20260419T235015Z
DTSTART;TZID=Europe/Berlin:20250208T170000
DTEND;TZID=Europe/Berlin:20250208T183000
SUMMARY:Oberliga F Nord TV Oyten II vs SG SV F-fehn./TuS P-fehn (112062)
UID:7f2600b3-cc3e-40f7-881e-46f72b2fac8f
STATUS:CONFIRMED
LAST-MODIFIED:20250209T150505Z
DESCRIPTION:Oberliga Frauen Staffel Nord\nBegegnungs-Nr: 112062\nHeim: TV Oyten II\nGast: SG SV F-fehn./TuS P-fehn\nHalle: Oyten\, SH 1  (609145)\nAdresse: Pestalozzistraße 10\, 28876 Oyten\n
LOCATION:Oyten\, SH 1  (609145): Pestalozzistraße 10\, 28876 Oyten
CATEGORIES:Saison 2024/25
END:VEVENT
BEGIN:VEVENT
DTSTAMP:20260419T235015Z
DTSTART;TZID=Europe/Berlin:20241208T174500
DTEND;TZID=Europe/Berlin:20241208T191500
SUMMARY:Oberliga F Nord Handballverein Lüneburg vs SG SV F-fehn./TuS P-fehn (112049)
UID:5b743642-e38c-4d05-ae94-a9cc092e6aff
STATUS:CONFIRMED
LAST-MODIFIED:20241209T074847Z
DESCRIPTION:Oberliga Frauen Staffel Nord\nBegegnungs-Nr: 112049\nHeim: Handballverein Lüneburg\nGast: SG SV F-fehn./TuS P-fehn\nHalle: Lüneburg\, SH Oedeme (605150)\nAdresse: Schaperdrift\, 21335 Lüneburg (OT Oedeme)\n
LOCATION:Lüneburg\, SH Oedeme (605150): Schaperdrift\, 21335 Lüneburg (OT Oedeme)
CATEGORIES:Saison 2024/25
END:VEVENT
BEGIN:VEVENT
DTSTAMP:20260419T235015Z
DTSTART;TZID=Europe/Berlin:20250308T163000
DTEND;TZID=Europe/Berlin:20250308T180000
SUMMARY:Oberliga F Nord TuS Komet Arsten vs SG SV F-fehn./TuS P-fehn (112076)
UID:cba2318e-0ef6-462d-a785-1519075dc763
STATUS:CONFIRMED
LAST-MODIFIED:20250310T085112Z
DESCRIPTION:Oberliga Frauen Staffel Nord\nBegegnungs-Nr: 112076\nHeim: TuS Komet Arsten\nGast: SG SV F-fehn./TuS P-fehn\nHalle: Bremen-Arsten\, Vereinsporthalle TuS Komet Arsten (101103)\nAdresse: Egon-Kähler-Str.145\, 28279 Bremen\n
LOCATION:Bremen-Arsten\, Vereinsporthalle TuS Komet Arsten (101103): Egon-Kähler-Str.145\, 28279 Bremen
CATEGORIES:Saison 2024/25
END:VEVENT
BEGIN:VEVENT
DTSTAMP:20260419T235015Z
DTSTART;TZID=Europe/Berlin:20250322T173000
DTEND;TZID=Europe/Berlin:20250322T190000
SUMMARY:Oberliga F Nord SG Neuenhaus/Uelsen vs SG SV F-fehn./TuS P-fehn (112088)
UID:f47ab30d-035d-4860-b9f4-383bf3ce2a09
STATUS:CONFIRMED
LAST-MODIFIED:20250324T081332Z
DESCRIPTION:Oberliga Frauen Staffel Nord\nBegegnungs-Nr: 112088\nHeim: SG Neuenhaus/Uelsen\nGast: SG SV F-fehn./TuS P-fehn\nHalle: Sportzentrum DinkelDuo Neuenhaus (803178)\nAdresse: Schulstraße 6\, 49828 Neuenhaus\n
LOCATION:Sportzentrum DinkelDuo Neuenhaus (803178): Schulstraße 6\, 49828 Neuenhaus
CATEGORIES:Saison 2024/25
END:VEVENT
BEGIN:VEVENT
DTSTAMP:20260419T235015Z
DTSTART;TZID=Europe/Berlin:20250425T200000
DTEND;TZID=Europe/Berlin:20250425T213000
SUMMARY:Oberliga F Nord TV Neerstedt vs SG SV F-fehn./TuS P-fehn (112096)
UID:48b23934-430e-4b8c-932a-ae24f3195f53
STATUS:CONFIRMED
LAST-MODIFIED:20250427T175100Z
DESCRIPTION:Oberliga Frauen Staffel Nord\nBegegnungs-Nr: 112096\nHeim: TV Neerstedt\nGast: SG SV F-fehn./TuS P-fehn\nHalle:  Neerstedt\, SZ (813037)\nAdresse: Am Sportplatz 7\, 27801 Neerstedt\n
LOCATION: Neerstedt\, SZ (813037): Am Sportplatz 7\, 27801 Neerstedt
CATEGORIES:Saison 2024/25
END:VEVENT
BEGIN:VEVENT
DTSTAMP:20260419T235015Z
DTSTART;TZID=Europe/Berlin:20241123T170000
DTEND;TZID=Europe/Berlin:20241123T183000
SUMMARY:Oberliga F Nord VfL Stade II vs SG SV F-fehn./TuS P-fehn (112038)
UID:787e16d9-f1e4-45b9-8802-b82edb079ac7
STATUS:CONFIRMED
LAST-MODIFIED:20241125T150826Z
DESCRIPTION:Oberliga Frauen Staffel Nord\nBegegnungs-Nr: 112038\nHeim: VfL Stade II\nGast: SG SV F-fehn./TuS P-fehn\nHalle: Sportcampus Stade (BCR) (608178)\nAdresse: Harsefelder Landstr. 200\, 21684 Stade\n
LOCATION:Sportcampus Stade (BCR) (608178): Harsefelder Landstr. 200\, 21684 Stade
CATEGORIES:Saison 2024/25
END:VEVENT
BEGIN:VEVENT
DTSTAMP:20260419T235015Z
DTSTART;TZID=Europe/Berlin:20241110T150000
DTEND;TZID=Europe/Berlin:20241110T163000
SUMMARY:Oberliga F Nord SV Höltinghausen vs SG SV F-fehn./TuS P-fehn (112031)
UID:d633fc97-191f-4cb3-86f1-7b6a3faf3e97
STATUS:CONFIRMED
LAST-MODIFIED:20241111T123117Z
DESCRIPTION:Oberliga Frauen Staffel Nord\nBegegnungs-Nr: 112031\nHeim: SV Höltinghausen\nGast: SG SV F-fehn./TuS P-fehn\nHalle: Emstek\, SZ  (809110)\nAdresse: Ostlandstr. 17\, 49685 Emstek\n
LOCATION:Emstek\, SZ  (809110): Ostlandstr. 17\, 49685 Emstek
CATEGORIES:Saison 2024/25
END:VEVENT
BEGIN:VEVENT
DTSTAMP:20260419T235015Z
DTSTART;TZID=Europe/Berlin:20240907T171500
DTEND;TZID=Europe/Berlin:20240907T184500
SUMMARY:Oberliga F Nord MTV Eyendorf vs SG SV F-fehn./TuS P-fehn (112002)
UID:ea7924bc-62de-454b-8891-2bafd5f2bb32
STATUS:CONFIRMED
LAST-MODIFIED:20240909T154405Z
DESCRIPTION:Oberliga Frauen Staffel Nord\nBegegnungs-Nr: 112002\nHeim: MTV Eyendorf\nGast: SG SV F-fehn./TuS P-fehn\nHalle: Eyendorf\, Gerhard-Langer-SH (603106)\nAdresse: Zum Borgfeld\, 21376 Eyendorf\n
LOCATION:Eyendorf\, Gerhard-Langer-SH (603106): Zum Borgfeld\, 21376 Eyendorf
CATEGORIES:Saison 2024/25
END:VEVENT
BEGIN:VEVENT
DTSTAMP:20260419T235015Z
DTSTART;TZID=Europe/Berlin:20250510T170000
DTEND;TZID=Europe/Berlin:20250510T183000
SUMMARY:Oberliga F Nord MTV Tostedt vs SG SV F-fehn./TuS P-fehn (112106)
UID:51e4f1d1-5b1d-4f33-be16-5615014fd56f
STATUS:CONFIRMED
LAST-MODIFIED:20250511T151321Z
DESCRIPTION:Oberliga Frauen Staffel Nord\nBegegnungs-Nr: 112106\nHeim: MTV Tostedt\nGast: SG SV F-fehn./TuS P-fehn\nHalle: Tostedt\, SH Schützenstraße (603118)\nAdresse: Schützenstraße\, 21255 Tostedt\n
LOCATION:Tostedt\, SH Schützenstraße (603118): Schützenstraße\, 21255 Tostedt
CATEGORIES:Saison 2024/25
END:VEVENT
END:VCALENDAR
