BEGIN:VCALENDAR
PRODID:-//nuDatenautomaten//framework iCal4j //DE
VERSION:2.0
CALSCALE:GREGORIAN
BEGIN:VTIMEZONE
TZID:Europe/Berlin
LAST-MODIFIED:20260306T231828Z
TZURL:https://www.tzurl.org/zoneinfo/Europe/Berlin
X-LIC-LOCATION:Europe/Berlin
X-PROLEPTIC-TZNAME:LMT
BEGIN:STANDARD
TZNAME:CET
TZOFFSETFROM:+005328
TZOFFSETTO:+0100
DTSTART:18930401T000000
END:STANDARD
BEGIN:DAYLIGHT
TZNAME:CEST
TZOFFSETFROM:+0100
TZOFFSETTO:+0200
DTSTART:19160430T230000
RDATE:19400401T020000
RDATE:19430329T020000
RDATE:19460414T020000
RDATE:19470406T030000
RDATE:19480418T020000
RDATE:19490410T020000
RDATE:19800406T020000
END:DAYLIGHT
BEGIN:STANDARD
TZNAME:CET
TZOFFSETFROM:+0200
TZOFFSETTO:+0100
DTSTART:19161001T010000
RDATE:19421102T030000
RDATE:19431004T030000
RDATE:19441002T030000
RDATE:19451118T030000
RDATE:19461007T030000
END:STANDARD
BEGIN:DAYLIGHT
TZNAME:CEST
TZOFFSETFROM:+0100
TZOFFSETTO:+0200
DTSTART:19170416T020000
RRULE:FREQ=YEARLY;UNTIL=19180415T010000Z;BYMONTH=4;BYDAY=3MO
END:DAYLIGHT
BEGIN:STANDARD
TZNAME:CET
TZOFFSETFROM:+0200
TZOFFSETTO:+0100
DTSTART:19170917T030000
RRULE:FREQ=YEARLY;UNTIL=19180916T010000Z;BYMONTH=9;BYDAY=3MO
END:STANDARD
BEGIN:DAYLIGHT
TZNAME:CEST
TZOFFSETFROM:+0100
TZOFFSETTO:+0200
DTSTART:19440403T020000
RRULE:FREQ=YEARLY;UNTIL=19450402T010000Z;BYMONTH=4;BYDAY=1MO
END:DAYLIGHT
BEGIN:DAYLIGHT
TZNAME:CEMT
TZOFFSETFROM:+0200
TZOFFSETTO:+0300
DTSTART:19450524T020000
RDATE:19470511T030000
END:DAYLIGHT
BEGIN:DAYLIGHT
TZNAME:CEST
TZOFFSETFROM:+0300
TZOFFSETTO:+0200
DTSTART:19450924T030000
RDATE:19470629T030000
END:DAYLIGHT
BEGIN:STANDARD
TZNAME:CET
TZOFFSETFROM:+0100
TZOFFSETTO:+0100
DTSTART:19460101T000000
RDATE:19800101T000000
END:STANDARD
BEGIN:STANDARD
TZNAME:CET
TZOFFSETFROM:+0200
TZOFFSETTO:+0100
DTSTART:19471005T030000
RRULE:FREQ=YEARLY;UNTIL=19491002T010000Z;BYMONTH=10;BYDAY=1SU
END:STANDARD
BEGIN:STANDARD
TZNAME:CET
TZOFFSETFROM:+0200
TZOFFSETTO:+0100
DTSTART:19800928T030000
RRULE:FREQ=YEARLY;UNTIL=19950924T010000Z;BYMONTH=9;BYDAY=-1SU
END:STANDARD
BEGIN:DAYLIGHT
TZNAME:CEST
TZOFFSETFROM:+0100
TZOFFSETTO:+0200
DTSTART:19810329T020000
RRULE:FREQ=YEARLY;BYMONTH=3;BYDAY=-1SU
END:DAYLIGHT
BEGIN:STANDARD
TZNAME:CET
TZOFFSETFROM:+0200
TZOFFSETTO:+0100
DTSTART:19961027T030000
RRULE:FREQ=YEARLY;BYMONTH=10;BYDAY=-1SU
END:STANDARD
END:VTIMEZONE
BEGIN:VEVENT
DTSTAMP:20260424T113515Z
DTSTART;TZID=Europe/Berlin:20250222T193000
DTEND;TZID=Europe/Berlin:20250222T210000
SUMMARY:Regionsklasse M Ost TV Bissendorf-Holte IV vs SG Teuto Handball II (904031)
UID:9efa3469-d20f-496c-b84a-0018bf522202
STATUS:CONFIRMED
LAST-MODIFIED:20250222T195945Z
DESCRIPTION:Regionsklasse Ost\nBegegnungs-Nr: 904031\nHeim: TV Bissendorf-Holte IV\nGast: SG Teuto Handball II\nHalle: Bissendorf\, SH (808121)\nAdresse: Werscher Straße 24\, 49143 Bissendorf\n
LOCATION:Bissendorf\, SH (808121): Werscher Straße 24\, 49143 Bissendorf
CATEGORIES:Saison 2024/25
END:VEVENT
BEGIN:VEVENT
DTSTAMP:20260424T113515Z
DTSTART;TZID=Europe/Berlin:20240928T193000
DTEND;TZID=Europe/Berlin:20240928T210000
SUMMARY:Regionsklasse M Ost TV Bissendorf-Holte IV vs TuS Bramsche III (904010)
UID:0a856d84-d0a3-49ff-93c8-951ea0b5022b
STATUS:CONFIRMED
LAST-MODIFIED:20240929T080300Z
DESCRIPTION:Regionsklasse Ost\nBegegnungs-Nr: 904010\nHeim: TV Bissendorf-Holte IV\nGast: TuS Bramsche III\nHalle: Bissendorf\, SH (808121)\nAdresse: Werscher Straße 24\, 49143 Bissendorf\n
LOCATION:Bissendorf\, SH (808121): Werscher Straße 24\, 49143 Bissendorf
CATEGORIES:Saison 2024/25
END:VEVENT
BEGIN:VEVENT
DTSTAMP:20260424T113515Z
DTSTART;TZID=Europe/Berlin:20250309T170000
DTEND;TZID=Europe/Berlin:20250309T183000
SUMMARY:Regionsklasse M Ost TV Bissendorf-Holte IV vs SV Eversburg II (904064)
UID:34029a4d-5830-43fe-b0ca-dbcd637b5be5
STATUS:CONFIRMED
LAST-MODIFIED:20250311T081813Z
DESCRIPTION:Regionsklasse Ost\nBegegnungs-Nr: 904064\nHeim: TV Bissendorf-Holte IV\nGast: SV Eversburg II\nHalle: Bissendorf\, SH (808121)\nAdresse: Werscher Straße 24\, 49143 Bissendorf\n
LOCATION:Bissendorf\, SH (808121): Werscher Straße 24\, 49143 Bissendorf
CATEGORIES:Saison 2024/25
END:VEVENT
BEGIN:VEVENT
DTSTAMP:20260424T113515Z
DTSTART;TZID=Europe/Berlin:20250302T170000
DTEND;TZID=Europe/Berlin:20250302T183000
SUMMARY:Regionsklasse M Ost TV Bissendorf-Holte IV vs TV Georgsmarienhütte IV (904060)
UID:6bd7c295-28eb-4b96-b417-83ca1858d480
STATUS:CONFIRMED
LAST-MODIFIED:20250302T193449Z
DESCRIPTION:Regionsklasse Ost\nBegegnungs-Nr: 904060\nHeim: TV Bissendorf-Holte IV\nGast: TV Georgsmarienhütte IV\nHalle: Bissendorf\, SH (808121)\nAdresse: Werscher Straße 24\, 49143 Bissendorf\n
LOCATION:Bissendorf\, SH (808121): Werscher Straße 24\, 49143 Bissendorf
CATEGORIES:Saison 2024/25
END:VEVENT
BEGIN:VEVENT
DTSTAMP:20260424T113515Z
DTSTART;TZID=Europe/Berlin:20240907T193000
DTEND;TZID=Europe/Berlin:20240907T210000
SUMMARY:Regionsklasse M Ost TV Bissendorf-Holte IV vs Eickener SpVg III (904001)
UID:b11da8f7-f24a-466b-884e-ab87962c355d
STATUS:CONFIRMED
LAST-MODIFIED:20240908T095522Z
DESCRIPTION:Regionsklasse Ost\nBegegnungs-Nr: 904001\nHeim: TV Bissendorf-Holte IV\nGast: Eickener SpVg III\nHalle: Bissendorf\, SH (808121)\nAdresse: Werscher Straße 24\, 49143 Bissendorf\n
LOCATION:Bissendorf\, SH (808121): Werscher Straße 24\, 49143 Bissendorf
CATEGORIES:Saison 2024/25
END:VEVENT
BEGIN:VEVENT
DTSTAMP:20260424T113515Z
DTSTART;TZID=Europe/Berlin:20250118T153000
DTEND;TZID=Europe/Berlin:20250118T170000
SUMMARY:Regionsklasse M Ost TV Bissendorf-Holte IV vs VfL Bad Iburg II (904041)
UID:db9c60f3-6e9e-42f1-be60-e582b7d2c20d
STATUS:CONFIRMED
LAST-MODIFIED:20250118T191701Z
DESCRIPTION:Regionsklasse Ost\nBegegnungs-Nr: 904041\nHeim: TV Bissendorf-Holte IV\nGast: VfL Bad Iburg II\nHalle: Bissendorf\, SH (808121)\nAdresse: Werscher Straße 24\, 49143 Bissendorf\n
LOCATION:Bissendorf\, SH (808121): Werscher Straße 24\, 49143 Bissendorf
CATEGORIES:Saison 2024/25
END:VEVENT
BEGIN:VEVENT
DTSTAMP:20260424T113515Z
DTSTART;TZID=Europe/Berlin:20241103T130000
DTEND;TZID=Europe/Berlin:20241103T143000
SUMMARY:Regionsklasse M Ost TV Bissendorf-Holte IV vs SV Concordia Belm-Powe e.V. II (904019)
UID:7686355a-89d7-4770-95c8-85a7e525ae5f
STATUS:CONFIRMED
LAST-MODIFIED:20241103T172439Z
DESCRIPTION:Regionsklasse Ost\nBegegnungs-Nr: 904019\nHeim: TV Bissendorf-Holte IV\nGast: SV Concordia Belm-Powe e.V. II\nHalle: Bissendorf\, SH (808121)\nAdresse: Werscher Straße 24\, 49143 Bissendorf\n
LOCATION:Bissendorf\, SH (808121): Werscher Straße 24\, 49143 Bissendorf
CATEGORIES:Saison 2024/25
END:VEVENT
BEGIN:VEVENT
DTSTAMP:20260424T113515Z
DTSTART;TZID=Europe/Berlin:20250208T193000
DTEND;TZID=Europe/Berlin:20250208T210000
SUMMARY:Regionsklasse M Ost TV Bissendorf-Holte IV vs HSG Grönegau-Melle III (904049)
UID:47368809-cd06-4bdc-ac37-51707806b84c
STATUS:CONFIRMED
LAST-MODIFIED:20250209T193906Z
DESCRIPTION:Regionsklasse Ost\nBegegnungs-Nr: 904049\nHeim: TV Bissendorf-Holte IV\nGast: HSG Grönegau-Melle III\nHalle: Bissendorf\, SH (808121)\nAdresse: Werscher Straße 24\, 49143 Bissendorf\n
LOCATION:Bissendorf\, SH (808121): Werscher Straße 24\, 49143 Bissendorf
CATEGORIES:Saison 2024/25
END:VEVENT
BEGIN:VEVENT
DTSTAMP:20260424T113515Z
DTSTART;TZID=Europe/Berlin:20250126T150000
DTEND;TZID=Europe/Berlin:20250126T163000
SUMMARY:Regionsklasse M Ost TuS Bramsche III vs TV Bissendorf-Holte IV (904048)
UID:3c4227c0-d23b-41a0-bf3a-d1fdc2825792
STATUS:CONFIRMED
LAST-MODIFIED:20250126T190938Z
DESCRIPTION:Regionsklasse Ost\nBegegnungs-Nr: 904048\nHeim: TuS Bramsche III\nGast: TV Bissendorf-Holte IV\nHalle: Sporthalle Bramsche IGS (808128)\nAdresse: Malgartener Straße 58\, 49565 Bramsche\n
LOCATION:Sporthalle Bramsche IGS (808128): Malgartener Straße 58\, 49565 Bramsche
CATEGORIES:Saison 2024/25
END:VEVENT
BEGIN:VEVENT
DTSTAMP:20260424T113515Z
DTSTART;TZID=Europe/Berlin:20241109T180000
DTEND;TZID=Europe/Berlin:20241109T193000
SUMMARY:Regionsklasse M Ost TV Georgsmarienhütte IV vs TV Bissendorf-Holte IV (904021)
UID:92489af2-b47f-499c-8a42-90dbfa231282
STATUS:CONFIRMED
LAST-MODIFIED:20241110T091731Z
DESCRIPTION:Regionsklasse Ost\nBegegnungs-Nr: 904021\nHeim: TV Georgsmarienhütte IV\nGast: TV Bissendorf-Holte IV\nHalle: Georgsmarienhütte\, SZ  (808132)\nAdresse: Carl-Stahmer-Weg 16\, 49124 Georgsmarienhütte\n
LOCATION:Georgsmarienhütte\, SZ  (808132): Carl-Stahmer-Weg 16\, 49124 Georgsmarienhütte
CATEGORIES:Saison 2024/25
END:VEVENT
BEGIN:VEVENT
DTSTAMP:20260424T113515Z
DTSTART;TZID=Europe/Berlin:20250216T150000
DTEND;TZID=Europe/Berlin:20250216T163000
SUMMARY:Regionsklasse M Ost SV Concordia Belm-Powe e.V. II vs TV Bissendorf-Holte IV (904056)
UID:61a598ea-b67a-464e-9bb5-2a26fd527527
STATUS:CONFIRMED
LAST-MODIFIED:20250216T192444Z
DESCRIPTION:Regionsklasse Ost\nBegegnungs-Nr: 904056\nHeim: SV Concordia Belm-Powe e.V. II\nGast: TV Bissendorf-Holte IV\nHalle:  Belm\, Sportzentrum Belm (808122)\nAdresse: Heideweg 25\, 49191 Belm\n
LOCATION: Belm\, Sportzentrum Belm (808122): Heideweg 25\, 49191 Belm
CATEGORIES:Saison 2024/25
END:VEVENT
BEGIN:VEVENT
DTSTAMP:20260424T113515Z
DTSTART;TZID=Europe/Berlin:20240915T150000
DTEND;TZID=Europe/Berlin:20240915T163000
SUMMARY:Regionsklasse M Ost VfL Bad Iburg II vs TV Bissendorf-Holte IV (904008)
UID:bf19090c-fc0e-413c-a7c6-172ee009a627
STATUS:CONFIRMED
LAST-MODIFIED:20240916T075019Z
DESCRIPTION:Regionsklasse Ost\nBegegnungs-Nr: 904008\nHeim: VfL Bad Iburg II\nGast: TV Bissendorf-Holte IV\nHalle: Bad Iburg\, Schulzentrum Halle 1 (808129)\nAdresse: Bielefelder Str. 15\, 49186 Bad Iburg\n
LOCATION:Bad Iburg\, Schulzentrum Halle 1 (808129): Bielefelder Str. 15\, 49186 Bad Iburg
CATEGORIES:Saison 2024/25
END:VEVENT
BEGIN:VEVENT
DTSTAMP:20260424T113515Z
DTSTART;TZID=Europe/Berlin:20250112T103000
DTEND;TZID=Europe/Berlin:20250112T120000
SUMMARY:Regionsklasse M Ost Eickener SpVg III vs TV Bissendorf-Holte IV (904039)
UID:a57dbc1b-f08a-452b-b0a0-8afa8fb4afec
STATUS:CONFIRMED
LAST-MODIFIED:20250113T090838Z
DESCRIPTION:Regionsklasse Ost\nBegegnungs-Nr: 904039\nHeim: Eickener SpVg III\nGast: TV Bissendorf-Holte IV\nHalle: Melle\, Sporthalle Eicken-Bruche (808146)\nAdresse: Segelfliegerweg 11\, 49324 Melle\n
LOCATION:Melle\, Sporthalle Eicken-Bruche (808146): Segelfliegerweg 11\, 49324 Melle
CATEGORIES:Saison 2024/25
END:VEVENT
BEGIN:VEVENT
DTSTAMP:20260424T113515Z
DTSTART;TZID=Europe/Berlin:20250315T160000
DTEND;TZID=Europe/Berlin:20250315T173000
SUMMARY:Regionsklasse M Ost SG Teuto Handball II vs TV Bissendorf-Holte IV (904066)
UID:ee52b42b-7c4a-495c-a85c-cac4ea774432
STATUS:CONFIRMED
LAST-MODIFIED:20250316T090431Z
DESCRIPTION:Regionsklasse Ost\nBegegnungs-Nr: 904066\nHeim: SG Teuto Handball II\nGast: TV Bissendorf-Holte IV\nHalle: Hagen a.T.W.\, SH -Gellenbeck (808134)\nAdresse: Görsmannstrasse 14\, 49170 Hagen a.T.W. (OT Gellenbeck)\n
LOCATION:Hagen a.T.W.\, SH -Gellenbeck (808134): Görsmannstrasse 14\, 49170 Hagen a.T.W. (OT Gellenbeck)
CATEGORIES:Saison 2024/25
END:VEVENT
BEGIN:VEVENT
DTSTAMP:20260424T113515Z
DTSTART;TZID=Europe/Berlin:20241027T153000
DTEND;TZID=Europe/Berlin:20241027T170000
SUMMARY:Regionsklasse M Ost HSG Grönegau-Melle III vs TV Bissendorf-Holte IV (904014)
UID:bc2d2b65-1052-4f18-87f6-c4e1fd75f6aa
STATUS:CONFIRMED
LAST-MODIFIED:20241027T195222Z
DESCRIPTION:Regionsklasse Ost\nBegegnungs-Nr: 904014\nHeim: HSG Grönegau-Melle III\nGast: TV Bissendorf-Holte IV\nHalle: Melle\, Sporthalle Schulzentrum Neuenkirchen (neu) (808144)\nAdresse: Ottenheider Weg 18\, 49326 Melle (OT Neuenkirchen)\n
LOCATION:Melle\, Sporthalle Schulzentrum Neuenkirchen (neu) (808144): Ottenheider Weg 18\, 49326 Melle (OT Neuenkirchen)
CATEGORIES:Saison 2024/25
END:VEVENT
BEGIN:VEVENT
DTSTAMP:20260424T113515Z
DTSTART;TZID=Europe/Berlin:20241117T150000
DTEND;TZID=Europe/Berlin:20241117T163000
SUMMARY:Regionsklasse M Ost SV Eversburg II vs TV Bissendorf-Holte IV (904027)
UID:74a14bbc-7286-41ac-a032-6ecbf087a76b
STATUS:CONFIRMED
LAST-MODIFIED:20241117T193933Z
DESCRIPTION:Regionsklasse Ost\nBegegnungs-Nr: 904027\nHeim: SV Eversburg II\nGast: TV Bissendorf-Holte IV\nHalle: Osnabrück\, SZ  (808105)\nAdresse: Grüner Weg\, 49090 Osnabrück (OT Eversburg)\n
LOCATION:Osnabrück\, SZ  (808105): Grüner Weg\, 49090 Osnabrück (OT Eversburg)
CATEGORIES:Saison 2024/25
END:VEVENT
END:VCALENDAR
