BEGIN:VCALENDAR
PRODID:-//nuDatenautomaten//framework iCal4j //DE
VERSION:2.0
CALSCALE:GREGORIAN
BEGIN:VTIMEZONE
TZID:Europe/Berlin
LAST-MODIFIED:20260306T231828Z
TZURL:https://www.tzurl.org/zoneinfo/Europe/Berlin
X-LIC-LOCATION:Europe/Berlin
X-PROLEPTIC-TZNAME:LMT
BEGIN:STANDARD
TZNAME:CET
TZOFFSETFROM:+005328
TZOFFSETTO:+0100
DTSTART:18930401T000000
END:STANDARD
BEGIN:DAYLIGHT
TZNAME:CEST
TZOFFSETFROM:+0100
TZOFFSETTO:+0200
DTSTART:19160430T230000
RDATE:19400401T020000
RDATE:19430329T020000
RDATE:19460414T020000
RDATE:19470406T030000
RDATE:19480418T020000
RDATE:19490410T020000
RDATE:19800406T020000
END:DAYLIGHT
BEGIN:STANDARD
TZNAME:CET
TZOFFSETFROM:+0200
TZOFFSETTO:+0100
DTSTART:19161001T010000
RDATE:19421102T030000
RDATE:19431004T030000
RDATE:19441002T030000
RDATE:19451118T030000
RDATE:19461007T030000
END:STANDARD
BEGIN:DAYLIGHT
TZNAME:CEST
TZOFFSETFROM:+0100
TZOFFSETTO:+0200
DTSTART:19170416T020000
RRULE:FREQ=YEARLY;UNTIL=19180415T010000Z;BYMONTH=4;BYDAY=3MO
END:DAYLIGHT
BEGIN:STANDARD
TZNAME:CET
TZOFFSETFROM:+0200
TZOFFSETTO:+0100
DTSTART:19170917T030000
RRULE:FREQ=YEARLY;UNTIL=19180916T010000Z;BYMONTH=9;BYDAY=3MO
END:STANDARD
BEGIN:DAYLIGHT
TZNAME:CEST
TZOFFSETFROM:+0100
TZOFFSETTO:+0200
DTSTART:19440403T020000
RRULE:FREQ=YEARLY;UNTIL=19450402T010000Z;BYMONTH=4;BYDAY=1MO
END:DAYLIGHT
BEGIN:DAYLIGHT
TZNAME:CEMT
TZOFFSETFROM:+0200
TZOFFSETTO:+0300
DTSTART:19450524T020000
RDATE:19470511T030000
END:DAYLIGHT
BEGIN:DAYLIGHT
TZNAME:CEST
TZOFFSETFROM:+0300
TZOFFSETTO:+0200
DTSTART:19450924T030000
RDATE:19470629T030000
END:DAYLIGHT
BEGIN:STANDARD
TZNAME:CET
TZOFFSETFROM:+0100
TZOFFSETTO:+0100
DTSTART:19460101T000000
RDATE:19800101T000000
END:STANDARD
BEGIN:STANDARD
TZNAME:CET
TZOFFSETFROM:+0200
TZOFFSETTO:+0100
DTSTART:19471005T030000
RRULE:FREQ=YEARLY;UNTIL=19491002T010000Z;BYMONTH=10;BYDAY=1SU
END:STANDARD
BEGIN:STANDARD
TZNAME:CET
TZOFFSETFROM:+0200
TZOFFSETTO:+0100
DTSTART:19800928T030000
RRULE:FREQ=YEARLY;UNTIL=19950924T010000Z;BYMONTH=9;BYDAY=-1SU
END:STANDARD
BEGIN:DAYLIGHT
TZNAME:CEST
TZOFFSETFROM:+0100
TZOFFSETTO:+0200
DTSTART:19810329T020000
RRULE:FREQ=YEARLY;BYMONTH=3;BYDAY=-1SU
END:DAYLIGHT
BEGIN:STANDARD
TZNAME:CET
TZOFFSETFROM:+0200
TZOFFSETTO:+0100
DTSTART:19961027T030000
RRULE:FREQ=YEARLY;BYMONTH=10;BYDAY=-1SU
END:STANDARD
END:VTIMEZONE
BEGIN:VEVENT
DTSTAMP:20260419T231652Z
DTSTART;TZID=Europe/Berlin:20250112T143000
DTEND;TZID=Europe/Berlin:20250112T160000
SUMMARY:Regionsliga Frauen Mitte HG Winsen/Luhe II vs TuS Brockel (27)
UID:fef54885-4c0e-4516-bedf-50794455c5ac
STATUS:CONFIRMED
LAST-MODIFIED:20250113T122359Z
DESCRIPTION:Regionsliga Frauen Mitte\nBegegnungs-Nr: 27\nHeim: HG Winsen/Luhe II\nGast: TuS Brockel\nHalle: Winsen/L.\, SH Am Ilmer Barg (603137)\nAdresse: Haidweg 8\, 21423 Winsen/Luhe\n
LOCATION:Winsen/L.\, SH Am Ilmer Barg (603137): Haidweg 8\, 21423 Winsen/Luhe
CATEGORIES:Saison 2024/25
END:VEVENT
BEGIN:VEVENT
DTSTAMP:20260419T231652Z
DTSTART;TZID=Europe/Berlin:20250329T173000
DTEND;TZID=Europe/Berlin:20250329T190000
SUMMARY:Regionsliga Frauen Mitte HG Winsen/Luhe II vs MTV Tostedt III (90)
UID:6eec8aed-d821-429e-99bf-3b42caa5abb9
STATUS:CONFIRMED
LAST-MODIFIED:20250331T073511Z
DESCRIPTION:Regionsliga Frauen Mitte\nBegegnungs-Nr: 90\nHeim: HG Winsen/Luhe II\nGast: MTV Tostedt III\nHalle: Winsen/L.\, SH BS (603121)\nAdresse: Bürgerweide\, 21423 Winsen/Luhe\n
LOCATION:Winsen/L.\, SH BS (603121): Bürgerweide\, 21423 Winsen/Luhe
CATEGORIES:Saison 2024/25
END:VEVENT
BEGIN:VEVENT
DTSTAMP:20260419T231652Z
DTSTART;TZID=Europe/Berlin:20250223T150000
DTEND;TZID=Europe/Berlin:20250223T163000
SUMMARY:Regionsliga Frauen Mitte HG Winsen/Luhe II vs HSG Seevetal/Ashausen III (66)
UID:1cacc75a-e468-4c9c-9fcd-eeccd9e944b3
STATUS:CONFIRMED
LAST-MODIFIED:20250225T083948Z
DESCRIPTION:Regionsliga Frauen Mitte\nBegegnungs-Nr: 66\nHeim: HG Winsen/Luhe II\nGast: HSG Seevetal/Ashausen III\nHalle: Winsen/L.\, SH WINarena (603122)\nAdresse: Bürgerweide\, 21423 Winsen/Luhe\n
LOCATION:Winsen/L.\, SH WINarena (603122): Bürgerweide\, 21423 Winsen/Luhe
CATEGORIES:Saison 2024/25
END:VEVENT
BEGIN:VEVENT
DTSTAMP:20260419T231652Z
DTSTART;TZID=Europe/Berlin:20250118T193000
DTEND;TZID=Europe/Berlin:20250118T210000
SUMMARY:Regionsliga Frauen Mitte HG Winsen/Luhe II vs TV Jahn Schneverdingen (50)
UID:ee428fe6-e5cd-457e-8db6-69c4a97d08c2
STATUS:CONFIRMED
LAST-MODIFIED:20250120T050333Z
DESCRIPTION:Regionsliga Frauen Mitte\nBegegnungs-Nr: 50\nHeim: HG Winsen/Luhe II\nGast: TV Jahn Schneverdingen\nHalle: Winsen/L.-Roydorf\, SH IGS (603120)\nAdresse: Rämenweg\, 21423 Winsen/Luhe (OT Roydorf)\n
LOCATION:Winsen/L.-Roydorf\, SH IGS (603120): Rämenweg\, 21423 Winsen/Luhe (OT Roydorf)
CATEGORIES:Saison 2024/25
END:VEVENT
BEGIN:VEVENT
DTSTAMP:20260419T231652Z
DTSTART;TZID=Europe/Berlin:20241027T170000
DTEND;TZID=Europe/Berlin:20241027T183000
SUMMARY:Regionsliga Frauen Mitte HG Winsen/Luhe II vs TVV Neu-Wulmstorf (19)
UID:28ea9fc5-35de-40cc-bbda-f5350c7c7584
STATUS:CONFIRMED
LAST-MODIFIED:20241028T101226Z
DESCRIPTION:Regionsliga Frauen Mitte\nBegegnungs-Nr: 19\nHeim: HG Winsen/Luhe II\nGast: TVV Neu-Wulmstorf\nHalle: Winsen/L.-Roydorf\, SH IGS (603120)\nAdresse: Rämenweg\, 21423 Winsen/Luhe (OT Roydorf)\n
LOCATION:Winsen/L.-Roydorf\, SH IGS (603120): Rämenweg\, 21423 Winsen/Luhe (OT Roydorf)
CATEGORIES:Saison 2024/25
END:VEVENT
BEGIN:VEVENT
DTSTAMP:20260419T231652Z
DTSTART;TZID=Europe/Berlin:20240921T173000
DTEND;TZID=Europe/Berlin:20240921T190000
SUMMARY:Regionsliga Frauen Mitte HG Winsen/Luhe II vs HSG Elbmarsch II (10)
UID:62c19292-3007-4f63-b57f-d158fc1a44f4
STATUS:CONFIRMED
LAST-MODIFIED:20240923T133833Z
DESCRIPTION:Regionsliga Frauen Mitte\nBegegnungs-Nr: 10\nHeim: HG Winsen/Luhe II\nGast: HSG Elbmarsch II\nHalle: Winsen/L.\, SH BS (603121)\nAdresse: Bürgerweide\, 21423 Winsen/Luhe\n
LOCATION:Winsen/L.\, SH BS (603121): Bürgerweide\, 21423 Winsen/Luhe
CATEGORIES:Saison 2024/25
END:VEVENT
BEGIN:VEVENT
DTSTAMP:20260419T231652Z
DTSTART;TZID=Europe/Berlin:20241208T143000
DTEND;TZID=Europe/Berlin:20241208T160000
SUMMARY:Regionsliga Frauen Mitte HG Winsen/Luhe II vs TSV Auetal (39)
UID:1727ceee-a344-4b0f-861b-5fc17048bb92
STATUS:CONFIRMED
LAST-MODIFIED:20241210T103058Z
DESCRIPTION:Regionsliga Frauen Mitte\nBegegnungs-Nr: 39\nHeim: HG Winsen/Luhe II\nGast: TSV Auetal\nHalle: Winsen/L.\, SH Am Ilmer Barg (603137)\nAdresse: Haidweg 8\, 21423 Winsen/Luhe\n
LOCATION:Winsen/L.\, SH Am Ilmer Barg (603137): Haidweg 8\, 21423 Winsen/Luhe
CATEGORIES:Saison 2024/25
END:VEVENT
BEGIN:VEVENT
DTSTAMP:20260419T231652Z
DTSTART;TZID=Europe/Berlin:20250322T164500
DTEND;TZID=Europe/Berlin:20250322T181500
SUMMARY:Regionsliga Frauen Mitte TSV Auetal vs HG Winsen/Luhe II (84)
UID:ac4bbb42-ec59-483a-92de-984003914a1f
STATUS:CONFIRMED
LAST-MODIFIED:20250324T114018Z
DESCRIPTION:Regionsliga Frauen Mitte\nBegegnungs-Nr: 84\nHeim: TSV Auetal\nGast: HG Winsen/Luhe II\nHalle: Garstedt\, Auetal-Halle (603107)\nAdresse: Bahnhofstraße 81 A\, 21441 Garstedt\n
LOCATION:Garstedt\, Auetal-Halle (603107): Bahnhofstraße 81 A\, 21441 Garstedt
CATEGORIES:Saison 2024/25
END:VEVENT
BEGIN:VEVENT
DTSTAMP:20260419T231652Z
DTSTART;TZID=Europe/Berlin:20241102T130000
DTEND;TZID=Europe/Berlin:20241102T143000
SUMMARY:Regionsliga Frauen Mitte HSG Seevetal/Ashausen III vs HG Winsen/Luhe II (21)
UID:89b41d80-09bc-4602-96f0-32591b91d2b3
STATUS:CONFIRMED
LAST-MODIFIED:20241104T210931Z
DESCRIPTION:Regionsliga Frauen Mitte\nBegegnungs-Nr: 21\nHeim: HSG Seevetal/Ashausen III\nGast: HG Winsen/Luhe II\nHalle: Stelle\, MTV VSH (603101)\nAdresse: Holtorfsloher Weg\, 21435 Stelle (OT Ashausen)\n
LOCATION:Stelle\, MTV VSH (603101): Holtorfsloher Weg\, 21435 Stelle (OT Ashausen)
CATEGORIES:Saison 2024/25
END:VEVENT
BEGIN:VEVENT
DTSTAMP:20260419T231652Z
DTSTART;TZID=Europe/Berlin:20250308T173000
DTEND;TZID=Europe/Berlin:20250308T190000
SUMMARY:Regionsliga Frauen Mitte TV Jahn Schneverdingen vs HG Winsen/Luhe II (5)
UID:3bfb2904-6a26-4194-a2d4-2ee3362a77a0
STATUS:CONFIRMED
LAST-MODIFIED:20250311T143354Z
DESCRIPTION:Regionsliga Frauen Mitte\nBegegnungs-Nr: 5\nHeim: TV Jahn Schneverdingen\nGast: HG Winsen/Luhe II\nHalle: Schneverdingen\, SH SZ (607109)\nAdresse: Am Timmerahde 32\, 29640 Schneverdingen\n
LOCATION:Schneverdingen\, SH SZ (607109): Am Timmerahde 32\, 29640 Schneverdingen
CATEGORIES:Saison 2024/25
END:VEVENT
BEGIN:VEVENT
DTSTAMP:20260419T231652Z
DTSTART;TZID=Europe/Berlin:20250302T153000
DTEND;TZID=Europe/Berlin:20250302T170000
SUMMARY:Regionsliga Frauen Mitte TuS Brockel vs HG Winsen/Luhe II (72)
UID:5bf52d93-cb7e-4bf5-92be-a041dd52c33f
STATUS:CONFIRMED
LAST-MODIFIED:20250303T071048Z
DESCRIPTION:Regionsliga Frauen Mitte\nBegegnungs-Nr: 72\nHeim: TuS Brockel\nGast: HG Winsen/Luhe II\nHalle: Brockel\, SH Grundschule  (609103)\nAdresse: Am Sportplatz\, 27386 Brockel\n
LOCATION:Brockel\, SH Grundschule  (609103): Am Sportplatz\, 27386 Brockel
CATEGORIES:Saison 2024/25
END:VEVENT
BEGIN:VEVENT
DTSTAMP:20260419T231652Z
DTSTART;TZID=Europe/Berlin:20250215T190000
DTEND;TZID=Europe/Berlin:20250215T203000
SUMMARY:Regionsliga Frauen Mitte TVV Neu-Wulmstorf vs HG Winsen/Luhe II (64)
UID:f598bbb9-b5a3-48c0-b63e-e88bd7389168
STATUS:CONFIRMED
LAST-MODIFIED:20250217T052649Z
DESCRIPTION:Regionsliga Frauen Mitte\nBegegnungs-Nr: 64\nHeim: TVV Neu-Wulmstorf\nGast: HG Winsen/Luhe II\nHalle: Neu Wulmstorf\, SH Gymnasium (603116)\nAdresse: Ernst-Moritz-Arndt-Straße 18 (Oberschule) \, 21629 Neu-Wulmstorf\n
LOCATION:Neu Wulmstorf\, SH Gymnasium (603116): Ernst-Moritz-Arndt-Straße 18 (Oberschule) \, 21629 Neu-Wulmstorf
CATEGORIES:Saison 2024/25
END:VEVENT
BEGIN:VEVENT
DTSTAMP:20260419T231652Z
DTSTART;TZID=Europe/Berlin:20250126T140000
DTEND;TZID=Europe/Berlin:20250126T153000
SUMMARY:Regionsliga Frauen Mitte HSG Elbmarsch II vs HG Winsen/Luhe II (55)
UID:e5d7dc07-8b79-442a-a22b-bc1e9b551643
STATUS:CONFIRMED
LAST-MODIFIED:20250127T080648Z
DESCRIPTION:Regionsliga Frauen Mitte\nBegegnungs-Nr: 55\nHeim: HSG Elbmarsch II\nGast: HG Winsen/Luhe II\nHalle: Drage/Elbe\, Elbmarsch-SH (603105)\nAdresse: Stover Straße 76\, 21423 Drage/Elbe\n
LOCATION:Drage/Elbe\, Elbmarsch-SH (603105): Stover Straße 76\, 21423 Drage/Elbe
CATEGORIES:Saison 2024/25
END:VEVENT
BEGIN:VEVENT
DTSTAMP:20260419T231652Z
DTSTART;TZID=Europe/Berlin:20241215T140000
DTEND;TZID=Europe/Berlin:20241215T153000
SUMMARY:Regionsliga Frauen Mitte MTV Tostedt III vs HG Winsen/Luhe II (45)
UID:598cb7a9-2338-4d7b-bca9-2eef3437215b
STATUS:CONFIRMED
LAST-MODIFIED:20241218T100127Z
DESCRIPTION:Regionsliga Frauen Mitte\nBegegnungs-Nr: 45\nHeim: MTV Tostedt III\nGast: HG Winsen/Luhe II\nHalle: Wistedt\, SH (603132)\nAdresse: Flaßworth 5\, 21255 Wistedt\n
LOCATION:Wistedt\, SH (603132): Flaßworth 5\, 21255 Wistedt
CATEGORIES:Saison 2024/25
END:VEVENT
END:VCALENDAR
