BEGIN:VCALENDAR
PRODID:-//nuDatenautomaten//framework iCal4j //DE
VERSION:2.0
CALSCALE:GREGORIAN
BEGIN:VTIMEZONE
TZID:Europe/Berlin
LAST-MODIFIED:20260306T231828Z
TZURL:https://www.tzurl.org/zoneinfo/Europe/Berlin
X-LIC-LOCATION:Europe/Berlin
X-PROLEPTIC-TZNAME:LMT
BEGIN:STANDARD
TZNAME:CET
TZOFFSETFROM:+005328
TZOFFSETTO:+0100
DTSTART:18930401T000000
END:STANDARD
BEGIN:DAYLIGHT
TZNAME:CEST
TZOFFSETFROM:+0100
TZOFFSETTO:+0200
DTSTART:19160430T230000
RDATE:19400401T020000
RDATE:19430329T020000
RDATE:19460414T020000
RDATE:19470406T030000
RDATE:19480418T020000
RDATE:19490410T020000
RDATE:19800406T020000
END:DAYLIGHT
BEGIN:STANDARD
TZNAME:CET
TZOFFSETFROM:+0200
TZOFFSETTO:+0100
DTSTART:19161001T010000
RDATE:19421102T030000
RDATE:19431004T030000
RDATE:19441002T030000
RDATE:19451118T030000
RDATE:19461007T030000
END:STANDARD
BEGIN:DAYLIGHT
TZNAME:CEST
TZOFFSETFROM:+0100
TZOFFSETTO:+0200
DTSTART:19170416T020000
RRULE:FREQ=YEARLY;UNTIL=19180415T010000Z;BYMONTH=4;BYDAY=3MO
END:DAYLIGHT
BEGIN:STANDARD
TZNAME:CET
TZOFFSETFROM:+0200
TZOFFSETTO:+0100
DTSTART:19170917T030000
RRULE:FREQ=YEARLY;UNTIL=19180916T010000Z;BYMONTH=9;BYDAY=3MO
END:STANDARD
BEGIN:DAYLIGHT
TZNAME:CEST
TZOFFSETFROM:+0100
TZOFFSETTO:+0200
DTSTART:19440403T020000
RRULE:FREQ=YEARLY;UNTIL=19450402T010000Z;BYMONTH=4;BYDAY=1MO
END:DAYLIGHT
BEGIN:DAYLIGHT
TZNAME:CEMT
TZOFFSETFROM:+0200
TZOFFSETTO:+0300
DTSTART:19450524T020000
RDATE:19470511T030000
END:DAYLIGHT
BEGIN:DAYLIGHT
TZNAME:CEST
TZOFFSETFROM:+0300
TZOFFSETTO:+0200
DTSTART:19450924T030000
RDATE:19470629T030000
END:DAYLIGHT
BEGIN:STANDARD
TZNAME:CET
TZOFFSETFROM:+0100
TZOFFSETTO:+0100
DTSTART:19460101T000000
RDATE:19800101T000000
END:STANDARD
BEGIN:STANDARD
TZNAME:CET
TZOFFSETFROM:+0200
TZOFFSETTO:+0100
DTSTART:19471005T030000
RRULE:FREQ=YEARLY;UNTIL=19491002T010000Z;BYMONTH=10;BYDAY=1SU
END:STANDARD
BEGIN:STANDARD
TZNAME:CET
TZOFFSETFROM:+0200
TZOFFSETTO:+0100
DTSTART:19800928T030000
RRULE:FREQ=YEARLY;UNTIL=19950924T010000Z;BYMONTH=9;BYDAY=-1SU
END:STANDARD
BEGIN:DAYLIGHT
TZNAME:CEST
TZOFFSETFROM:+0100
TZOFFSETTO:+0200
DTSTART:19810329T020000
RRULE:FREQ=YEARLY;BYMONTH=3;BYDAY=-1SU
END:DAYLIGHT
BEGIN:STANDARD
TZNAME:CET
TZOFFSETFROM:+0200
TZOFFSETTO:+0100
DTSTART:19961027T030000
RRULE:FREQ=YEARLY;BYMONTH=10;BYDAY=-1SU
END:STANDARD
END:VTIMEZONE
BEGIN:VEVENT
DTSTAMP:20260421T085951Z
DTSTART;TZID=Europe/Berlin:20250215T173000
DTEND;TZID=Europe/Berlin:20250215T190000
SUMMARY:Verbandsliga F West TuS FRISIA Goldenstedt vs HSG Osnabrück (116082)
UID:7173d439-42a2-4a44-8146-c5425e1b7971
STATUS:CONFIRMED
LAST-MODIFIED:20250215T202749Z
DESCRIPTION:Verbandsliga Frauen West\nBegegnungs-Nr: 116082\nHeim: TuS FRISIA Goldenstedt\nGast: HSG Osnabrück\nHalle: Goldenstedt\, SZ  (809116)\nAdresse: An der Marienschule\, 49424 Goldenstedt\n
LOCATION:Goldenstedt\, SZ  (809116): An der Marienschule\, 49424 Goldenstedt
CATEGORIES:Saison 2024/25
END:VEVENT
BEGIN:VEVENT
DTSTAMP:20260421T085951Z
DTSTART;TZID=Europe/Berlin:20241130T173000
DTEND;TZID=Europe/Berlin:20241130T190000
SUMMARY:Verbandsliga F West TuS FRISIA Goldenstedt vs TvdH Oldenburg (116049)
UID:b8089a2c-f913-4989-ab19-49a4a1801f87
STATUS:CONFIRMED
LAST-MODIFIED:20241202T110516Z
DESCRIPTION:Verbandsliga Frauen West\nBegegnungs-Nr: 116049\nHeim: TuS FRISIA Goldenstedt\nGast: TvdH Oldenburg\nHalle: Goldenstedt\, SZ  (809116)\nAdresse: An der Marienschule\, 49424 Goldenstedt\n
LOCATION:Goldenstedt\, SZ  (809116): An der Marienschule\, 49424 Goldenstedt
CATEGORIES:Saison 2024/25
END:VEVENT
BEGIN:VEVENT
DTSTAMP:20260421T085951Z
DTSTART;TZID=Europe/Berlin:20241123T180000
DTEND;TZID=Europe/Berlin:20241123T193000
SUMMARY:Verbandsliga F West TuS FRISIA Goldenstedt vs HSG Hannover-West (116044)
UID:bde29bb6-89ea-4a60-9b4b-6b70d80586f2
STATUS:CONFIRMED
LAST-MODIFIED:20241124T052247Z
DESCRIPTION:Verbandsliga Frauen West\nBegegnungs-Nr: 116044\nHeim: TuS FRISIA Goldenstedt\nGast: HSG Hannover-West\nHalle: Goldenstedt\, SZ  (809116)\nAdresse: An der Marienschule\, 49424 Goldenstedt\n
LOCATION:Goldenstedt\, SZ  (809116): An der Marienschule\, 49424 Goldenstedt
CATEGORIES:Saison 2024/25
END:VEVENT
BEGIN:VEVENT
DTSTAMP:20260421T085951Z
DTSTART;TZID=Europe/Berlin:20240914T180000
DTEND;TZID=Europe/Berlin:20240914T193000
SUMMARY:Verbandsliga F West TuS FRISIA Goldenstedt vs HSG Auhagen/Stadthagen (116008)
UID:01a3c021-8578-4956-b461-238b9c0cfd61
STATUS:CONFIRMED
LAST-MODIFIED:20240915T104056Z
DESCRIPTION:Verbandsliga Frauen West\nBegegnungs-Nr: 116008\nHeim: TuS FRISIA Goldenstedt\nGast: HSG Auhagen/Stadthagen\nHalle: Goldenstedt\, SZ  (809116)\nAdresse: An der Marienschule\, 49424 Goldenstedt\n
LOCATION:Goldenstedt\, SZ  (809116): An der Marienschule\, 49424 Goldenstedt
CATEGORIES:Saison 2024/25
END:VEVENT
BEGIN:VEVENT
DTSTAMP:20260421T085951Z
DTSTART;TZID=Europe/Berlin:20250430T190000
DTEND;TZID=Europe/Berlin:20250430T203000
SUMMARY:Verbandsliga F West TuS FRISIA Goldenstedt vs TSG 07 Burg Gretesch (116106)
UID:840ff5b4-824e-4664-addb-99892d1e21bf
STATUS:CONFIRMED
LAST-MODIFIED:20250503T075141Z
DESCRIPTION:Verbandsliga Frauen West\nBegegnungs-Nr: 116106\nHeim: TuS FRISIA Goldenstedt\nGast: TSG 07 Burg Gretesch\nHalle: Goldenstedt\, SZ  (809116)\nAdresse: An der Marienschule\, 49424 Goldenstedt\n
LOCATION:Goldenstedt\, SZ  (809116): An der Marienschule\, 49424 Goldenstedt
CATEGORIES:Saison 2024/25
END:VEVENT
BEGIN:VEVENT
DTSTAMP:20260421T085951Z
DTSTART;TZID=Europe/Berlin:20250308T193000
DTEND;TZID=Europe/Berlin:20250308T210000
SUMMARY:Verbandsliga F West TuS FRISIA Goldenstedt vs TV 01 Bohmte (116096)
UID:bc6295c7-e18e-46e5-9e14-25cb4fec0d72
STATUS:CONFIRMED
LAST-MODIFIED:20250309T175856Z
DESCRIPTION:Verbandsliga Frauen West\nBegegnungs-Nr: 116096\nHeim: TuS FRISIA Goldenstedt\nGast: TV 01 Bohmte\nHalle: Goldenstedt\, SZ  (809116)\nAdresse: An der Marienschule\, 49424 Goldenstedt\n
LOCATION:Goldenstedt\, SZ  (809116): An der Marienschule\, 49424 Goldenstedt
CATEGORIES:Saison 2024/25
END:VEVENT
BEGIN:VEVENT
DTSTAMP:20260421T085951Z
DTSTART;TZID=Europe/Berlin:20241109T173000
DTEND;TZID=Europe/Berlin:20241109T190000
SUMMARY:Verbandsliga F West TuS FRISIA Goldenstedt vs SpVgg Brandlecht-Hestrup (116033)
UID:242e02e3-51ca-4717-9b04-720f46fede00
STATUS:CONFIRMED
LAST-MODIFIED:20241110T145808Z
DESCRIPTION:Verbandsliga Frauen West\nBegegnungs-Nr: 116033\nHeim: TuS FRISIA Goldenstedt\nGast: SpVgg Brandlecht-Hestrup\nHalle: Goldenstedt\, SZ  (809116)\nAdresse: An der Marienschule\, 49424 Goldenstedt\n
LOCATION:Goldenstedt\, SZ  (809116): An der Marienschule\, 49424 Goldenstedt
CATEGORIES:Saison 2024/25
END:VEVENT
BEGIN:VEVENT
DTSTAMP:20260421T085951Z
DTSTART;TZID=Europe/Berlin:20241002T200000
DTEND;TZID=Europe/Berlin:20241002T213000
SUMMARY:Verbandsliga F West TuS FRISIA Goldenstedt vs GW Mühlen (116023)
UID:04c53068-aee1-4869-a952-3a299f2475a5
STATUS:CONFIRMED
LAST-MODIFIED:20241003T011439Z
DESCRIPTION:Verbandsliga Frauen West\nBegegnungs-Nr: 116023\nHeim: TuS FRISIA Goldenstedt\nGast: GW Mühlen\nHalle: Goldenstedt\, SZ  (809116)\nAdresse: An der Marienschule\, 49424 Goldenstedt\n
LOCATION:Goldenstedt\, SZ  (809116): An der Marienschule\, 49424 Goldenstedt
CATEGORIES:Saison 2024/25
END:VEVENT
BEGIN:VEVENT
DTSTAMP:20260421T085951Z
DTSTART;TZID=Europe/Berlin:20250510T180000
DTEND;TZID=Europe/Berlin:20250510T193000
SUMMARY:Verbandsliga F West TuS FRISIA Goldenstedt vs TuS Empelde (116125)
UID:a8c10b4c-d69d-4f7d-a4bb-a12e7e20c5d8
STATUS:CONFIRMED
LAST-MODIFIED:20250511T173443Z
DESCRIPTION:Verbandsliga Frauen West\nBegegnungs-Nr: 116125\nHeim: TuS FRISIA Goldenstedt\nGast: TuS Empelde\nHalle: Goldenstedt\, SZ  (809116)\nAdresse: An der Marienschule\, 49424 Goldenstedt\n
LOCATION:Goldenstedt\, SZ  (809116): An der Marienschule\, 49424 Goldenstedt
CATEGORIES:Saison 2024/25
END:VEVENT
BEGIN:VEVENT
DTSTAMP:20260421T085951Z
DTSTART;TZID=Europe/Berlin:20250126T170000
DTEND;TZID=Europe/Berlin:20250126T183000
SUMMARY:Verbandsliga F West TuS FRISIA Goldenstedt vs FC Schüttorf 09 (116072)
UID:5fde4eb2-c6bf-479e-b4d5-fe2e946ba689
STATUS:CONFIRMED
LAST-MODIFIED:20250127T055502Z
DESCRIPTION:Verbandsliga Frauen West\nBegegnungs-Nr: 116072\nHeim: TuS FRISIA Goldenstedt\nGast: FC Schüttorf 09\nHalle: Goldenstedt\, SZ  (809116)\nAdresse: An der Marienschule\, 49424 Goldenstedt\n
LOCATION:Goldenstedt\, SZ  (809116): An der Marienschule\, 49424 Goldenstedt
CATEGORIES:Saison 2024/25
END:VEVENT
BEGIN:VEVENT
DTSTAMP:20260421T085951Z
DTSTART;TZID=Europe/Berlin:20250118T150000
DTEND;TZID=Europe/Berlin:20250118T163000
SUMMARY:Verbandsliga F West TuS FRISIA Goldenstedt vs TV Dinklage (116061)
UID:e36b5fcb-2f96-43a8-a429-8794032faf15
STATUS:CONFIRMED
LAST-MODIFIED:20250119T055436Z
DESCRIPTION:Verbandsliga Frauen West\nBegegnungs-Nr: 116061\nHeim: TuS FRISIA Goldenstedt\nGast: TV Dinklage\nHalle: Goldenstedt OT Lutten\, SH  (809151)\nAdresse: Jahnstraße 2\, 49424 Goldenstedt OT Lutten\n
LOCATION:Goldenstedt OT Lutten\, SH  (809151): Jahnstraße 2\, 49424 Goldenstedt OT Lutten
CATEGORIES:Saison 2024/25
END:VEVENT
BEGIN:VEVENT
DTSTAMP:20260421T085951Z
DTSTART;TZID=Europe/Berlin:20250503T163000
DTEND;TZID=Europe/Berlin:20250503T180000
SUMMARY:Verbandsliga F West TvdH Oldenburg vs TuS FRISIA Goldenstedt (116118)
UID:f5171024-d611-45bd-b1cf-ab6ea820ced7
STATUS:CONFIRMED
LAST-MODIFIED:20250504T045036Z
DESCRIPTION:Verbandsliga Frauen West\nBegegnungs-Nr: 116118\nHeim: TvdH Oldenburg\nGast: TuS FRISIA Goldenstedt\nHalle: Oldenburg\, SZ-Eversten (813004)\nAdresse: Brandsweg\, 26131 Oldenburg (OT Eversten)\n
LOCATION:Oldenburg\, SZ-Eversten (813004): Brandsweg\, 26131 Oldenburg (OT Eversten)
CATEGORIES:Saison 2024/25
END:VEVENT
BEGIN:VEVENT
DTSTAMP:20260421T085951Z
DTSTART;TZID=Europe/Berlin:20250208T163000
DTEND;TZID=Europe/Berlin:20250208T180000
SUMMARY:Verbandsliga F West HSG Auhagen/Stadthagen vs TuS FRISIA Goldenstedt (116074)
UID:b43f0429-bc7b-4820-9c58-f9f638197184
STATUS:CONFIRMED
LAST-MODIFIED:20250209T043040Z
DESCRIPTION:Verbandsliga Frauen West\nBegegnungs-Nr: 116074\nHeim: HSG Auhagen/Stadthagen\nGast: TuS FRISIA Goldenstedt\nHalle: Sachsenhagen\, SH Grundschule (406125)\nAdresse: Am Ziegenbach 6\, 31553 Sachsenhagen\n
LOCATION:Sachsenhagen\, SH Grundschule (406125): Am Ziegenbach 6\, 31553 Sachsenhagen
CATEGORIES:Saison 2024/25
END:VEVENT
BEGIN:VEVENT
DTSTAMP:20260421T085951Z
DTSTART;TZID=Europe/Berlin:20241208T150000
DTEND;TZID=Europe/Berlin:20241208T163000
SUMMARY:Verbandsliga F West TuS Empelde vs TuS FRISIA Goldenstedt (116059)
UID:71209ecf-fe49-4a5e-9323-3c7df4cd0d4a
STATUS:CONFIRMED
LAST-MODIFIED:20241210T085036Z
DESCRIPTION:Verbandsliga Frauen West\nBegegnungs-Nr: 116059\nHeim: TuS Empelde\nGast: TuS FRISIA Goldenstedt\nHalle: Empelde\, Barbarastr. (403220)\nAdresse: Barbarastraße\, 30952 Ronnenberg (OT Empelde)\n
LOCATION:Empelde\, Barbarastr. (403220): Barbarastraße\, 30952 Ronnenberg (OT Empelde)
CATEGORIES:Saison 2024/25
END:VEVENT
BEGIN:VEVENT
DTSTAMP:20260421T085951Z
DTSTART;TZID=Europe/Berlin:20250407T200000
DTEND;TZID=Europe/Berlin:20250407T213000
SUMMARY:Verbandsliga F West SpVgg Brandlecht-Hestrup vs TuS FRISIA Goldenstedt (116100)
UID:2c590612-6847-4134-8c7e-acd56a84e3be
STATUS:CONFIRMED
LAST-MODIFIED:20250413T065711Z
DESCRIPTION:Verbandsliga Frauen West\nBegegnungs-Nr: 116100\nHeim: SpVgg Brandlecht-Hestrup\nGast: TuS FRISIA Goldenstedt\nHalle: Nordhorn\, KSH 3 Euregium  (803137)\nAdresse: Wilhelm-Raabe-Str.  15\, 48527 Nordhorn\n
LOCATION:Nordhorn\, KSH 3 Euregium  (803137): Wilhelm-Raabe-Str.  15\, 48527 Nordhorn
CATEGORIES:Saison 2024/25
END:VEVENT
BEGIN:VEVENT
DTSTAMP:20260421T085951Z
DTSTART;TZID=Europe/Berlin:20240922T150000
DTEND;TZID=Europe/Berlin:20240922T163000
SUMMARY:Verbandsliga F West HSG Osnabrück vs TuS FRISIA Goldenstedt (116016)
UID:64aa7210-9b81-4a30-b14d-c1794d44b642
STATUS:CONFIRMED
LAST-MODIFIED:20240922T183050Z
DESCRIPTION:Verbandsliga Frauen West\nBegegnungs-Nr: 116016\nHeim: HSG Osnabrück\nGast: TuS FRISIA Goldenstedt\nHalle: Osnabrück\, Vereins-SH OSC  (808104)\nAdresse: Hiärm-Grupe-Straße 8\, 49080 Osnabrück (OT Wüste)\n
LOCATION:Osnabrück\, Vereins-SH OSC  (808104): Hiärm-Grupe-Straße 8\, 49080 Osnabrück (OT Wüste)
CATEGORIES:Saison 2024/25
END:VEVENT
BEGIN:VEVENT
DTSTAMP:20260421T085951Z
DTSTART;TZID=Europe/Berlin:20241102T171500
DTEND;TZID=Europe/Berlin:20241102T184500
SUMMARY:Verbandsliga F West TV 01 Bohmte vs TuS FRISIA Goldenstedt (116030)
UID:7f65ea37-fb8a-405e-b987-77b4024926f9
STATUS:CONFIRMED
LAST-MODIFIED:20241103T115533Z
DESCRIPTION:Verbandsliga Frauen West\nBegegnungs-Nr: 116030\nHeim: TV 01 Bohmte\nGast: TuS FRISIA Goldenstedt\nHalle: Bohmte\, SZ  (808125)\nAdresse: Jahnstraße\, 49163 Bohmte\n
LOCATION:Bohmte\, SZ  (808125): Jahnstraße\, 49163 Bohmte
CATEGORIES:Saison 2024/25
END:VEVENT
BEGIN:VEVENT
DTSTAMP:20260421T085951Z
DTSTART;TZID=Europe/Berlin:20240907T173000
DTEND;TZID=Europe/Berlin:20240907T190000
SUMMARY:Verbandsliga F West FC Schüttorf 09 vs TuS FRISIA Goldenstedt (116004)
UID:93a2c075-4719-4fab-8aa4-6c9f0196b51e
STATUS:CONFIRMED
LAST-MODIFIED:20240908T080756Z
DESCRIPTION:Verbandsliga Frauen West\nBegegnungs-Nr: 116004\nHeim: FC Schüttorf 09\nGast: TuS FRISIA Goldenstedt\nHalle: Schüttorf\, SH Jahn (803150)\nAdresse: Jahnstraße\, 48465 Schüttorf\n
LOCATION:Schüttorf\, SH Jahn (803150): Jahnstraße\, 48465 Schüttorf
CATEGORIES:Saison 2024/25
END:VEVENT
BEGIN:VEVENT
DTSTAMP:20260421T085951Z
DTSTART;TZID=Europe/Berlin:20250329T160000
DTEND;TZID=Europe/Berlin:20250329T173000
SUMMARY:Verbandsliga F West HSG Hannover-West vs TuS FRISIA Goldenstedt (116110)
UID:59fa6a07-4aec-42e2-8b9c-e05194516ff0
STATUS:CONFIRMED
LAST-MODIFIED:20250330T051124Z
DESCRIPTION:Verbandsliga Frauen West\nBegegnungs-Nr: 116110\nHeim: HSG Hannover-West\nGast: TuS FRISIA Goldenstedt\nHalle: Hannover\, SZ Ahlem (403254)\nAdresse: Petit-Couronne-Straße 30\, 30453 Hannover (OT Ahlem)\n
LOCATION:Hannover\, SZ Ahlem (403254): Petit-Couronne-Straße 30\, 30453 Hannover (OT Ahlem)
CATEGORIES:Saison 2024/25
END:VEVENT
BEGIN:VEVENT
DTSTAMP:20260421T085951Z
DTSTART;TZID=Europe/Berlin:20250221T203000
DTEND;TZID=Europe/Berlin:20250221T220000
SUMMARY:Verbandsliga F West GW Mühlen vs TuS FRISIA Goldenstedt (116085)
UID:3d48db55-0e20-4865-8789-aeff28056721
STATUS:CONFIRMED
LAST-MODIFIED:20250222T203125Z
DESCRIPTION:Verbandsliga Frauen West\nBegegnungs-Nr: 116085\nHeim: GW Mühlen\nGast: TuS FRISIA Goldenstedt\nHalle: Steinfeld-Mühlen\, SZ  (809130)\nAdresse: Am Schulplatz\, 49439 Steinfeld (OT Mühlen)\n
LOCATION:Steinfeld-Mühlen\, SZ  (809130): Am Schulplatz\, 49439 Steinfeld (OT Mühlen)
CATEGORIES:Saison 2024/25
END:VEVENT
BEGIN:VEVENT
DTSTAMP:20260421T085951Z
DTSTART;TZID=Europe/Berlin:20241117T170000
DTEND;TZID=Europe/Berlin:20241117T183000
SUMMARY:Verbandsliga F West TSG 07 Burg Gretesch vs TuS FRISIA Goldenstedt (116041)
UID:90ca6d7c-a155-42db-94de-11164cd986fb
STATUS:CONFIRMED
LAST-MODIFIED:20241117T195937Z
DESCRIPTION:Verbandsliga Frauen West\nBegegnungs-Nr: 116041\nHeim: TSG 07 Burg Gretesch\nGast: TuS FRISIA Goldenstedt\nHalle: Lüstringen\, Sporthalle (808183)\nAdresse: Am Hallenbad 5\, 49086 Osnabrück (OT Lüstringen)\n
LOCATION:Lüstringen\, Sporthalle (808183): Am Hallenbad 5\, 49086 Osnabrück (OT Lüstringen)
CATEGORIES:Saison 2024/25
END:VEVENT
BEGIN:VEVENT
DTSTAMP:20260421T085951Z
DTSTART;TZID=Europe/Berlin:20250517T143000
DTEND;TZID=Europe/Berlin:20250517T160000
SUMMARY:Verbandsliga F West TV Dinklage vs TuS FRISIA Goldenstedt (116128)
UID:7ddefd61-3a69-422d-a7d7-45a4e96264a1
STATUS:CONFIRMED
LAST-MODIFIED:20250517T202256Z
DESCRIPTION:Verbandsliga Frauen West\nBegegnungs-Nr: 116128\nHeim: TV Dinklage\nGast: TuS FRISIA Goldenstedt\nHalle: Dinklage\, SH 1 SZ  (809107)\nAdresse: Schulstraße\, 49413 Dinklage\n
LOCATION:Dinklage\, SH 1 SZ  (809107): Schulstraße\, 49413 Dinklage
CATEGORIES:Saison 2024/25
END:VEVENT
END:VCALENDAR
