BEGIN:VCALENDAR
PRODID:-//nuDatenautomaten//framework iCal4j //DE
VERSION:2.0
CALSCALE:GREGORIAN
BEGIN:VTIMEZONE
TZID:Europe/Berlin
LAST-MODIFIED:20260306T231828Z
TZURL:https://www.tzurl.org/zoneinfo/Europe/Berlin
X-LIC-LOCATION:Europe/Berlin
X-PROLEPTIC-TZNAME:LMT
BEGIN:STANDARD
TZNAME:CET
TZOFFSETFROM:+005328
TZOFFSETTO:+0100
DTSTART:18930401T000000
END:STANDARD
BEGIN:DAYLIGHT
TZNAME:CEST
TZOFFSETFROM:+0100
TZOFFSETTO:+0200
DTSTART:19160430T230000
RDATE:19400401T020000
RDATE:19430329T020000
RDATE:19460414T020000
RDATE:19470406T030000
RDATE:19480418T020000
RDATE:19490410T020000
RDATE:19800406T020000
END:DAYLIGHT
BEGIN:STANDARD
TZNAME:CET
TZOFFSETFROM:+0200
TZOFFSETTO:+0100
DTSTART:19161001T010000
RDATE:19421102T030000
RDATE:19431004T030000
RDATE:19441002T030000
RDATE:19451118T030000
RDATE:19461007T030000
END:STANDARD
BEGIN:DAYLIGHT
TZNAME:CEST
TZOFFSETFROM:+0100
TZOFFSETTO:+0200
DTSTART:19170416T020000
RRULE:FREQ=YEARLY;UNTIL=19180415T010000Z;BYMONTH=4;BYDAY=3MO
END:DAYLIGHT
BEGIN:STANDARD
TZNAME:CET
TZOFFSETFROM:+0200
TZOFFSETTO:+0100
DTSTART:19170917T030000
RRULE:FREQ=YEARLY;UNTIL=19180916T010000Z;BYMONTH=9;BYDAY=3MO
END:STANDARD
BEGIN:DAYLIGHT
TZNAME:CEST
TZOFFSETFROM:+0100
TZOFFSETTO:+0200
DTSTART:19440403T020000
RRULE:FREQ=YEARLY;UNTIL=19450402T010000Z;BYMONTH=4;BYDAY=1MO
END:DAYLIGHT
BEGIN:DAYLIGHT
TZNAME:CEMT
TZOFFSETFROM:+0200
TZOFFSETTO:+0300
DTSTART:19450524T020000
RDATE:19470511T030000
END:DAYLIGHT
BEGIN:DAYLIGHT
TZNAME:CEST
TZOFFSETFROM:+0300
TZOFFSETTO:+0200
DTSTART:19450924T030000
RDATE:19470629T030000
END:DAYLIGHT
BEGIN:STANDARD
TZNAME:CET
TZOFFSETFROM:+0100
TZOFFSETTO:+0100
DTSTART:19460101T000000
RDATE:19800101T000000
END:STANDARD
BEGIN:STANDARD
TZNAME:CET
TZOFFSETFROM:+0200
TZOFFSETTO:+0100
DTSTART:19471005T030000
RRULE:FREQ=YEARLY;UNTIL=19491002T010000Z;BYMONTH=10;BYDAY=1SU
END:STANDARD
BEGIN:STANDARD
TZNAME:CET
TZOFFSETFROM:+0200
TZOFFSETTO:+0100
DTSTART:19800928T030000
RRULE:FREQ=YEARLY;UNTIL=19950924T010000Z;BYMONTH=9;BYDAY=-1SU
END:STANDARD
BEGIN:DAYLIGHT
TZNAME:CEST
TZOFFSETFROM:+0100
TZOFFSETTO:+0200
DTSTART:19810329T020000
RRULE:FREQ=YEARLY;BYMONTH=3;BYDAY=-1SU
END:DAYLIGHT
BEGIN:STANDARD
TZNAME:CET
TZOFFSETFROM:+0200
TZOFFSETTO:+0100
DTSTART:19961027T030000
RRULE:FREQ=YEARLY;BYMONTH=10;BYDAY=-1SU
END:STANDARD
END:VTIMEZONE
BEGIN:VEVENT
DTSTAMP:20260419T120758Z
DTSTART;TZID=Europe/Berlin:20250110T190000
DTEND;TZID=Europe/Berlin:20250110T203000
SUMMARY:Regionsklasse F West SV Schwarz-Gelb Lähden II vs SV Sigiltra Sögel (907628)
UID:92e2b1fc-bbbd-407d-aa16-6532686206ea
STATUS:CONFIRMED
LAST-MODIFIED:20250113T131714Z
DESCRIPTION:Regionsklasse Frauen West\nBegegnungs-Nr: 907628\nHeim: SV Schwarz-Gelb Lähden II\nGast: SV Sigiltra Sögel\nHalle: Herzlake\, SZ  (803119)\nAdresse: Bookhofer Straße\, 49770 Herzlake\n
LOCATION:Herzlake\, SZ  (803119): Bookhofer Straße\, 49770 Herzlake
CATEGORIES:Saison 2024/25
END:VEVENT
BEGIN:VEVENT
DTSTAMP:20260419T120758Z
DTSTART;TZID=Europe/Berlin:20241103T140000
DTEND;TZID=Europe/Berlin:20241103T153000
SUMMARY:Regionsklasse F West SV Schwarz-Gelb Lähden II vs SC Union Emlichheim II (907612)
UID:86c82132-3796-42b4-9db7-a06da39dc1cd
STATUS:CONFIRMED
LAST-MODIFIED:20241104T163605Z
DESCRIPTION:Regionsklasse Frauen West\nBegegnungs-Nr: 907612\nHeim: SV Schwarz-Gelb Lähden II\nGast: SC Union Emlichheim II\nHalle: Herzlake\, SZ  (803119)\nAdresse: Bookhofer Straße\, 49770 Herzlake\n
LOCATION:Herzlake\, SZ  (803119): Bookhofer Straße\, 49770 Herzlake
CATEGORIES:Saison 2024/25
END:VEVENT
BEGIN:VEVENT
DTSTAMP:20260419T120758Z
DTSTART;TZID=Europe/Berlin:20240929T140000
DTEND;TZID=Europe/Berlin:20240929T153000
SUMMARY:Regionsklasse F West SV Schwarz-Gelb Lähden II vs HSG Bentheim/Gildehaus II (907605)
UID:c1cc8691-2ad3-4dd5-a04b-ef2f9e75962b
STATUS:CONFIRMED
LAST-MODIFIED:20240930T154502Z
DESCRIPTION:Regionsklasse Frauen West\nBegegnungs-Nr: 907605\nHeim: SV Schwarz-Gelb Lähden II\nGast: HSG Bentheim/Gildehaus II\nHalle: Herzlake\, SZ  (803119)\nAdresse: Bookhofer Straße\, 49770 Herzlake\n
LOCATION:Herzlake\, SZ  (803119): Bookhofer Straße\, 49770 Herzlake
CATEGORIES:Saison 2024/25
END:VEVENT
BEGIN:VEVENT
DTSTAMP:20260419T120758Z
DTSTART;TZID=Europe/Berlin:20241117T123000
DTEND;TZID=Europe/Berlin:20241117T140000
SUMMARY:Regionsklasse F West SV Schwarz-Gelb Lähden II vs SV Sparta Werlte (907618)
UID:5eb8a480-4a48-48eb-9d8a-6bdc5697656b
STATUS:CONFIRMED
LAST-MODIFIED:20241118T085701Z
DESCRIPTION:Regionsklasse Frauen West\nBegegnungs-Nr: 907618\nHeim: SV Schwarz-Gelb Lähden II\nGast: SV Sparta Werlte\nHalle: Herzlake\, SZ  (803119)\nAdresse: Bookhofer Straße\, 49770 Herzlake\n
LOCATION:Herzlake\, SZ  (803119): Bookhofer Straße\, 49770 Herzlake
CATEGORIES:Saison 2024/25
END:VEVENT
BEGIN:VEVENT
DTSTAMP:20260419T120758Z
DTSTART;TZID=Europe/Berlin:20250114T193000
DTEND;TZID=Europe/Berlin:20250114T210000
SUMMARY:Regionsklasse F West SV Schwarz-Gelb Lähden II vs FC Schüttorf 09 IV (907624)
UID:803b6b99-40ed-4057-8bea-54ef74f8cf95
STATUS:CONFIRMED
LAST-MODIFIED:20250120T150157Z
DESCRIPTION:Regionsklasse Frauen West\nBegegnungs-Nr: 907624\nHeim: SV Schwarz-Gelb Lähden II\nGast: FC Schüttorf 09 IV\nHalle: Herzlake\, SZ  (803119)\nAdresse: Bookhofer Straße\, 49770 Herzlake\n
LOCATION:Herzlake\, SZ  (803119): Bookhofer Straße\, 49770 Herzlake
CATEGORIES:Saison 2024/25
END:VEVENT
BEGIN:VEVENT
DTSTAMP:20260419T120758Z
DTSTART;TZID=Europe/Berlin:20250208T140000
DTEND;TZID=Europe/Berlin:20250208T153000
SUMMARY:Regionsklasse F West SV Schwarz-Gelb Lähden II vs SpVgg Brandlecht-Hestrup III (907637)
UID:246cc7bf-95e8-4fcd-b809-dfffd18e3d80
STATUS:CONFIRMED
LAST-MODIFIED:20250210T134637Z
DESCRIPTION:Regionsklasse Frauen West\nBegegnungs-Nr: 907637\nHeim: SV Schwarz-Gelb Lähden II\nGast: SpVgg Brandlecht-Hestrup III\nHalle: Herzlake\, SZ  (803119)\nAdresse: Bookhofer Straße\, 49770 Herzlake\n
LOCATION:Herzlake\, SZ  (803119): Bookhofer Straße\, 49770 Herzlake
CATEGORIES:Saison 2024/25
END:VEVENT
BEGIN:VEVENT
DTSTAMP:20260419T120758Z
DTSTART;TZID=Europe/Berlin:20250316T120000
DTEND;TZID=Europe/Berlin:20250316T133000
SUMMARY:Regionsklasse F West SV Schwarz-Gelb Lähden II vs ASC GW Itterbeck IV (907652)
UID:bdeaf625-b5ad-43f5-b4ea-7cb168bf895b
STATUS:CONFIRMED
LAST-MODIFIED:20250317T163426Z
DESCRIPTION:Regionsklasse Frauen West\nBegegnungs-Nr: 907652\nHeim: SV Schwarz-Gelb Lähden II\nGast: ASC GW Itterbeck IV\nHalle: Herzlake\, SZ  (803119)\nAdresse: Bookhofer Straße\, 49770 Herzlake\n
LOCATION:Herzlake\, SZ  (803119): Bookhofer Straße\, 49770 Herzlake
CATEGORIES:Saison 2024/25
END:VEVENT
BEGIN:VEVENT
DTSTAMP:20260419T120758Z
DTSTART;TZID=Europe/Berlin:20250329T173000
DTEND;TZID=Europe/Berlin:20250329T190000
SUMMARY:Regionsklasse F West FC Schüttorf 09 IV vs SV Schwarz-Gelb Lähden II (907656)
UID:f3cb29aa-5d76-445e-be43-29384b709c27
STATUS:CONFIRMED
LAST-MODIFIED:20250331T124408Z
DESCRIPTION:Regionsklasse Frauen West\nBegegnungs-Nr: 907656\nHeim: FC Schüttorf 09 IV\nGast: SV Schwarz-Gelb Lähden II\nHalle: Schüttorf\, SH Jahn (803150)\nAdresse: Jahnstraße\, 48465 Schüttorf\n
LOCATION:Schüttorf\, SH Jahn (803150): Jahnstraße\, 48465 Schüttorf
CATEGORIES:Saison 2024/25
END:VEVENT
BEGIN:VEVENT
DTSTAMP:20260419T120758Z
DTSTART;TZID=Europe/Berlin:20241201T140000
DTEND;TZID=Europe/Berlin:20241201T153000
SUMMARY:Regionsklasse F West ASC GW Itterbeck IV vs SV Schwarz-Gelb Lähden II (907623)
UID:57a34426-f1d9-4628-89a4-5989029ffe86
STATUS:CONFIRMED
LAST-MODIFIED:20241202T142755Z
DESCRIPTION:Regionsklasse Frauen West\nBegegnungs-Nr: 907623\nHeim: ASC GW Itterbeck IV\nGast: SV Schwarz-Gelb Lähden II\nHalle: Wilsum\, SH  (803169)\nAdresse: Echteler Straße 2a\, 49849 Wilsum\n
LOCATION:Wilsum\, SH  (803169): Echteler Straße 2a\, 49849 Wilsum
CATEGORIES:Saison 2024/25
END:VEVENT
BEGIN:VEVENT
DTSTAMP:20260419T120758Z
DTSTART;TZID=Europe/Berlin:20241027T100000
DTEND;TZID=Europe/Berlin:20241027T113000
SUMMARY:Regionsklasse F West SpVgg Brandlecht-Hestrup III vs SV Schwarz-Gelb Lähden II (907608)
UID:e76c7589-6886-4bff-8272-2c280c1dda0f
STATUS:CONFIRMED
LAST-MODIFIED:20241104T161100Z
DESCRIPTION:Regionsklasse Frauen West\nBegegnungs-Nr: 907608\nHeim: SpVgg Brandlecht-Hestrup III\nGast: SV Schwarz-Gelb Lähden II\nHalle: Nordhorn\, KSH II Euregium  (803139)\nAdresse: Wilhelm-Raabe-Straße 15\, 48527 Nordhorn (OT Mitte)\n
LOCATION:Nordhorn\, KSH II Euregium  (803139): Wilhelm-Raabe-Straße 15\, 48527 Nordhorn (OT Mitte)
CATEGORIES:Saison 2024/25
END:VEVENT
BEGIN:VEVENT
DTSTAMP:20260419T120758Z
DTSTART;TZID=Europe/Berlin:20250308T170000
DTEND;TZID=Europe/Berlin:20250308T183000
SUMMARY:Regionsklasse F West SV Sparta Werlte vs SV Schwarz-Gelb Lähden II (907648)
UID:a5ece72a-fa03-4303-a463-235b6aec5477
STATUS:CONFIRMED
LAST-MODIFIED:20250310T160637Z
DESCRIPTION:Regionsklasse Frauen West\nBegegnungs-Nr: 907648\nHeim: SV Sparta Werlte\nGast: SV Schwarz-Gelb Lähden II\nHalle: Sporthalle Brökersfehn (803160)\nAdresse: Taubenweg 4\, 49757 Werlte\n
LOCATION:Sporthalle Brökersfehn (803160): Taubenweg 4\, 49757 Werlte
CATEGORIES:Saison 2024/25
END:VEVENT
BEGIN:VEVENT
DTSTAMP:20260419T120758Z
DTSTART;TZID=Europe/Berlin:20250118T180000
DTEND;TZID=Europe/Berlin:20250118T193000
SUMMARY:Regionsklasse F West SV Sigiltra Sögel vs SV Schwarz-Gelb Lähden II (907632)
UID:6d8a9794-df37-4608-9b62-220144aa9e66
STATUS:CONFIRMED
LAST-MODIFIED:20250120T150248Z
DESCRIPTION:Regionsklasse Frauen West\nBegegnungs-Nr: 907632\nHeim: SV Sigiltra Sögel\nGast: SV Schwarz-Gelb Lähden II\nHalle: Sögel\, Großraum-SH  (803153)\nAdresse: Schlaunallee 14\, 49751 Sögel\n
LOCATION:Sögel\, Großraum-SH  (803153): Schlaunallee 14\, 49751 Sögel
CATEGORIES:Saison 2024/25
END:VEVENT
BEGIN:VEVENT
DTSTAMP:20260419T120758Z
DTSTART;TZID=Europe/Berlin:20250126T160000
DTEND;TZID=Europe/Berlin:20250126T173000
SUMMARY:Regionsklasse F West HSG Bentheim/Gildehaus II vs SV Schwarz-Gelb Lähden II (907636)
UID:c7b4f441-d39d-41ca-971e-2b00901b6ee6
STATUS:CONFIRMED
LAST-MODIFIED:20250128T143241Z
DESCRIPTION:Regionsklasse Frauen West\nBegegnungs-Nr: 907636\nHeim: HSG Bentheim/Gildehaus II\nGast: SV Schwarz-Gelb Lähden II\nHalle: Bad Bentheim\, Schürkamphalle  (803102)\nAdresse: Schürkamp\, 48455 Bad Bentheim\n
LOCATION:Bad Bentheim\, Schürkamphalle  (803102): Schürkamp\, 48455 Bad Bentheim
CATEGORIES:Saison 2024/25
END:VEVENT
BEGIN:VEVENT
DTSTAMP:20260419T120758Z
DTSTART;TZID=Europe/Berlin:20250216T123000
DTEND;TZID=Europe/Berlin:20250216T140000
SUMMARY:Regionsklasse F West SC Union Emlichheim II vs SV Schwarz-Gelb Lähden II (907642)
UID:4243f022-1222-4c80-98cd-ccd9bbccc891
STATUS:CONFIRMED
LAST-MODIFIED:20250225T125431Z
DESCRIPTION:Regionsklasse Frauen West\nBegegnungs-Nr: 907642\nHeim: SC Union Emlichheim II\nGast: SV Schwarz-Gelb Lähden II\nHalle: Emlichheim\, Herbert Taube Halle  (803109)\nAdresse: Lägen Diek\, 49824 Emlichheim\n
LOCATION:Emlichheim\, Herbert Taube Halle  (803109): Lägen Diek\, 49824 Emlichheim
CATEGORIES:Saison 2024/25
END:VEVENT
END:VCALENDAR
