BEGIN:VCALENDAR
PRODID:-//nuDatenautomaten//framework iCal4j //DE
VERSION:2.0
CALSCALE:GREGORIAN
BEGIN:VTIMEZONE
TZID:Europe/Berlin
LAST-MODIFIED:20260306T231828Z
TZURL:https://www.tzurl.org/zoneinfo/Europe/Berlin
X-LIC-LOCATION:Europe/Berlin
X-PROLEPTIC-TZNAME:LMT
BEGIN:STANDARD
TZNAME:CET
TZOFFSETFROM:+005328
TZOFFSETTO:+0100
DTSTART:18930401T000000
END:STANDARD
BEGIN:DAYLIGHT
TZNAME:CEST
TZOFFSETFROM:+0100
TZOFFSETTO:+0200
DTSTART:19160430T230000
RDATE:19400401T020000
RDATE:19430329T020000
RDATE:19460414T020000
RDATE:19470406T030000
RDATE:19480418T020000
RDATE:19490410T020000
RDATE:19800406T020000
END:DAYLIGHT
BEGIN:STANDARD
TZNAME:CET
TZOFFSETFROM:+0200
TZOFFSETTO:+0100
DTSTART:19161001T010000
RDATE:19421102T030000
RDATE:19431004T030000
RDATE:19441002T030000
RDATE:19451118T030000
RDATE:19461007T030000
END:STANDARD
BEGIN:DAYLIGHT
TZNAME:CEST
TZOFFSETFROM:+0100
TZOFFSETTO:+0200
DTSTART:19170416T020000
RRULE:FREQ=YEARLY;UNTIL=19180415T010000Z;BYMONTH=4;BYDAY=3MO
END:DAYLIGHT
BEGIN:STANDARD
TZNAME:CET
TZOFFSETFROM:+0200
TZOFFSETTO:+0100
DTSTART:19170917T030000
RRULE:FREQ=YEARLY;UNTIL=19180916T010000Z;BYMONTH=9;BYDAY=3MO
END:STANDARD
BEGIN:DAYLIGHT
TZNAME:CEST
TZOFFSETFROM:+0100
TZOFFSETTO:+0200
DTSTART:19440403T020000
RRULE:FREQ=YEARLY;UNTIL=19450402T010000Z;BYMONTH=4;BYDAY=1MO
END:DAYLIGHT
BEGIN:DAYLIGHT
TZNAME:CEMT
TZOFFSETFROM:+0200
TZOFFSETTO:+0300
DTSTART:19450524T020000
RDATE:19470511T030000
END:DAYLIGHT
BEGIN:DAYLIGHT
TZNAME:CEST
TZOFFSETFROM:+0300
TZOFFSETTO:+0200
DTSTART:19450924T030000
RDATE:19470629T030000
END:DAYLIGHT
BEGIN:STANDARD
TZNAME:CET
TZOFFSETFROM:+0100
TZOFFSETTO:+0100
DTSTART:19460101T000000
RDATE:19800101T000000
END:STANDARD
BEGIN:STANDARD
TZNAME:CET
TZOFFSETFROM:+0200
TZOFFSETTO:+0100
DTSTART:19471005T030000
RRULE:FREQ=YEARLY;UNTIL=19491002T010000Z;BYMONTH=10;BYDAY=1SU
END:STANDARD
BEGIN:STANDARD
TZNAME:CET
TZOFFSETFROM:+0200
TZOFFSETTO:+0100
DTSTART:19800928T030000
RRULE:FREQ=YEARLY;UNTIL=19950924T010000Z;BYMONTH=9;BYDAY=-1SU
END:STANDARD
BEGIN:DAYLIGHT
TZNAME:CEST
TZOFFSETFROM:+0100
TZOFFSETTO:+0200
DTSTART:19810329T020000
RRULE:FREQ=YEARLY;BYMONTH=3;BYDAY=-1SU
END:DAYLIGHT
BEGIN:STANDARD
TZNAME:CET
TZOFFSETFROM:+0200
TZOFFSETTO:+0100
DTSTART:19961027T030000
RRULE:FREQ=YEARLY;BYMONTH=10;BYDAY=-1SU
END:STANDARD
END:VTIMEZONE
BEGIN:VEVENT
DTSTAMP:20260423T085929Z
DTSTART;TZID=Europe/Berlin:20250330T170000
DTEND;TZID=Europe/Berlin:20250330T183000
SUMMARY:Landesliga M SV Eintracht Ihlow vs HSG Hunte-Aue Löwen II (901125)
UID:5f53b87c-ca8d-4b6f-801b-e9bfdb073583
STATUS:CONFIRMED
LAST-MODIFIED:20250330T185241Z
DESCRIPTION:Landesliga Männer\nBegegnungs-Nr: 901125\nHeim: SV Eintracht Ihlow\nGast: HSG Hunte-Aue Löwen II\nHalle: Ihlow-Ihlowerfehn\, MZH (802125)\nAdresse: 2. Kompanieweg\, 26632 Ihlow (OT Ihlowerfehn)\n
LOCATION:Ihlow-Ihlowerfehn\, MZH (802125): 2. Kompanieweg\, 26632 Ihlow (OT Ihlowerfehn)
CATEGORIES:Saison 2024/25
END:VEVENT
BEGIN:VEVENT
DTSTAMP:20260423T085929Z
DTSTART;TZID=Europe/Berlin:20240928T190000
DTEND;TZID=Europe/Berlin:20240928T203000
SUMMARY:Landesliga M SV Eintracht Ihlow vs TV 01 Bohmte (901025)
UID:a868df4e-4e5c-44bd-a384-c362d454c0e1
STATUS:CONFIRMED
LAST-MODIFIED:20240930T102835Z
DESCRIPTION:Landesliga Männer\nBegegnungs-Nr: 901025\nHeim: SV Eintracht Ihlow\nGast: TV 01 Bohmte\nHalle: Ihlow-Ihlowerfehn\, MZH (802125)\nAdresse: 2. Kompanieweg\, 26632 Ihlow (OT Ihlowerfehn)\n
LOCATION:Ihlow-Ihlowerfehn\, MZH (802125): 2. Kompanieweg\, 26632 Ihlow (OT Ihlowerfehn)
CATEGORIES:Saison 2024/25
END:VEVENT
BEGIN:VEVENT
DTSTAMP:20260423T085929Z
DTSTART;TZID=Europe/Berlin:20240908T170000
DTEND;TZID=Europe/Berlin:20240908T183000
SUMMARY:Landesliga M SV Eintracht Ihlow vs SV Dalum (901010)
UID:ea2da248-0d31-407e-97b0-2d44a9ef1b3d
STATUS:CONFIRMED
LAST-MODIFIED:20240909T065112Z
DESCRIPTION:Landesliga Männer\nBegegnungs-Nr: 901010\nHeim: SV Eintracht Ihlow\nGast: SV Dalum\nHalle: Ihlow-Ihlowerfehn\, MZH (802125)\nAdresse: 2. Kompanieweg\, 26632 Ihlow (OT Ihlowerfehn)\n
LOCATION:Ihlow-Ihlowerfehn\, MZH (802125): 2. Kompanieweg\, 26632 Ihlow (OT Ihlowerfehn)
CATEGORIES:Saison 2024/25
END:VEVENT
BEGIN:VEVENT
DTSTAMP:20260423T085929Z
DTSTART;TZID=Europe/Berlin:20240922T170000
DTEND;TZID=Europe/Berlin:20240922T183000
SUMMARY:Landesliga M SV Eintracht Ihlow vs TSG 07 Burg Gretesch (901020)
UID:4bf36fb1-c38f-48c9-8a7a-3e5913b89ebf
STATUS:CONFIRMED
LAST-MODIFIED:20240923T175905Z
DESCRIPTION:Landesliga Männer\nBegegnungs-Nr: 901020\nHeim: SV Eintracht Ihlow\nGast: TSG 07 Burg Gretesch\nHalle: Ihlow-Ihlowerfehn\, MZH (802125)\nAdresse: 2. Kompanieweg\, 26632 Ihlow (OT Ihlowerfehn)\n
LOCATION:Ihlow-Ihlowerfehn\, MZH (802125): 2. Kompanieweg\, 26632 Ihlow (OT Ihlowerfehn)
CATEGORIES:Saison 2024/25
END:VEVENT
BEGIN:VEVENT
DTSTAMP:20260423T085929Z
DTSTART;TZID=Europe/Berlin:20241102T183000
DTEND;TZID=Europe/Berlin:20241102T200000
SUMMARY:Landesliga M SV Eintracht Ihlow vs Eickener SpVg (901037)
UID:d0b99bfa-628c-454d-85ff-2829963c9869
STATUS:CONFIRMED
LAST-MODIFIED:20241103T094441Z
DESCRIPTION:Landesliga Männer\nBegegnungs-Nr: 901037\nHeim: SV Eintracht Ihlow\nGast: Eickener SpVg\nHalle: Ihlow-Ihlowerfehn\, MZH (802125)\nAdresse: 2. Kompanieweg\, 26632 Ihlow (OT Ihlowerfehn)\n
LOCATION:Ihlow-Ihlowerfehn\, MZH (802125): 2. Kompanieweg\, 26632 Ihlow (OT Ihlowerfehn)
CATEGORIES:Saison 2024/25
END:VEVENT
BEGIN:VEVENT
DTSTAMP:20260423T085929Z
DTSTART;TZID=Europe/Berlin:20250126T170000
DTEND;TZID=Europe/Berlin:20250126T183000
SUMMARY:Landesliga M SV Eintracht Ihlow vs TV Georgsmarienhütte (901082)
UID:2f470f9f-b94a-434e-905c-3144f5de8d78
STATUS:CONFIRMED
LAST-MODIFIED:20250126T190242Z
DESCRIPTION:Landesliga Männer\nBegegnungs-Nr: 901082\nHeim: SV Eintracht Ihlow\nGast: TV Georgsmarienhütte\nHalle: Ihlow-Ihlowerfehn\, MZH (802125)\nAdresse: 2. Kompanieweg\, 26632 Ihlow (OT Ihlowerfehn)\n
LOCATION:Ihlow-Ihlowerfehn\, MZH (802125): 2. Kompanieweg\, 26632 Ihlow (OT Ihlowerfehn)
CATEGORIES:Saison 2024/25
END:VEVENT
BEGIN:VEVENT
DTSTAMP:20260423T085929Z
DTSTART;TZID=Europe/Berlin:20250221T200000
DTEND;TZID=Europe/Berlin:20250221T213000
SUMMARY:Landesliga M SV Eintracht Ihlow vs HSG Haselünne/Herzlake (901070)
UID:86e60cc5-871b-48dd-9fe0-fc6393e94dc0
STATUS:CONFIRMED
LAST-MODIFIED:20250222T195226Z
DESCRIPTION:Landesliga Männer\nBegegnungs-Nr: 901070\nHeim: SV Eintracht Ihlow\nGast: HSG Haselünne/Herzlake\nHalle: Ihlow-Ihlowerfehn\, MZH (802125)\nAdresse: 2. Kompanieweg\, 26632 Ihlow (OT Ihlowerfehn)\n
LOCATION:Ihlow-Ihlowerfehn\, MZH (802125): 2. Kompanieweg\, 26632 Ihlow (OT Ihlowerfehn)
CATEGORIES:Saison 2024/25
END:VEVENT
BEGIN:VEVENT
DTSTAMP:20260423T085929Z
DTSTART;TZID=Europe/Berlin:20241208T170000
DTEND;TZID=Europe/Berlin:20241208T183000
SUMMARY:Landesliga M SV Eintracht Ihlow vs HSG Osnabrück (901062)
UID:6a64067d-36ee-45b1-b5d9-8cccea557a7e
STATUS:CONFIRMED
LAST-MODIFIED:20241211T102854Z
DESCRIPTION:Landesliga Männer\nBegegnungs-Nr: 901062\nHeim: SV Eintracht Ihlow\nGast: HSG Osnabrück\nHalle: Ihlow-Ihlowerfehn\, MZH (802125)\nAdresse: 2. Kompanieweg\, 26632 Ihlow (OT Ihlowerfehn)\n
LOCATION:Ihlow-Ihlowerfehn\, MZH (802125): 2. Kompanieweg\, 26632 Ihlow (OT Ihlowerfehn)
CATEGORIES:Saison 2024/25
END:VEVENT
BEGIN:VEVENT
DTSTAMP:20260423T085929Z
DTSTART;TZID=Europe/Berlin:20250315T183000
DTEND;TZID=Europe/Berlin:20250315T200000
SUMMARY:Landesliga M SV Eintracht Ihlow vs SG Neuenhaus/Uelsen (901110)
UID:b8b95b74-eeaa-4e27-84b8-0f0635470b28
STATUS:CONFIRMED
LAST-MODIFIED:20250316T085013Z
DESCRIPTION:Landesliga Männer\nBegegnungs-Nr: 901110\nHeim: SV Eintracht Ihlow\nGast: SG Neuenhaus/Uelsen\nHalle: Ihlow-Ihlowerfehn\, MZH (802125)\nAdresse: 2. Kompanieweg\, 26632 Ihlow (OT Ihlowerfehn)\n
LOCATION:Ihlow-Ihlowerfehn\, MZH (802125): 2. Kompanieweg\, 26632 Ihlow (OT Ihlowerfehn)
CATEGORIES:Saison 2024/25
END:VEVENT
BEGIN:VEVENT
DTSTAMP:20260423T085929Z
DTSTART;TZID=Europe/Berlin:20250404T200000
DTEND;TZID=Europe/Berlin:20250404T213000
SUMMARY:Landesliga M SV Eintracht Ihlow vs HSG Grönegau-Melle (901046)
UID:73fecf30-95f0-4673-9689-cf187a7c4406
STATUS:CONFIRMED
LAST-MODIFIED:20250405T081628Z
DESCRIPTION:Landesliga Männer\nBegegnungs-Nr: 901046\nHeim: SV Eintracht Ihlow\nGast: HSG Grönegau-Melle\nHalle: Ihlow-Ihlowerfehn\, MZH (802125)\nAdresse: 2. Kompanieweg\, 26632 Ihlow (OT Ihlowerfehn)\n
LOCATION:Ihlow-Ihlowerfehn\, MZH (802125): 2. Kompanieweg\, 26632 Ihlow (OT Ihlowerfehn)
CATEGORIES:Saison 2024/25
END:VEVENT
BEGIN:VEVENT
DTSTAMP:20260423T085929Z
DTSTART;TZID=Europe/Berlin:20250301T183000
DTEND;TZID=Europe/Berlin:20250301T200000
SUMMARY:Landesliga M SV Eintracht Ihlow vs HSG Emden (901097)
UID:470e0ab9-42fe-4bf6-bdb8-d10c04581872
STATUS:CONFIRMED
LAST-MODIFIED:20250301T190926Z
DESCRIPTION:Landesliga Männer\nBegegnungs-Nr: 901097\nHeim: SV Eintracht Ihlow\nGast: HSG Emden\nHalle: Ihlow-Ihlowerfehn\, MZH (802125)\nAdresse: 2. Kompanieweg\, 26632 Ihlow (OT Ihlowerfehn)\n
LOCATION:Ihlow-Ihlowerfehn\, MZH (802125): 2. Kompanieweg\, 26632 Ihlow (OT Ihlowerfehn)
CATEGORIES:Saison 2024/25
END:VEVENT
BEGIN:VEVENT
DTSTAMP:20260423T085929Z
DTSTART;TZID=Europe/Berlin:20250215T193000
DTEND;TZID=Europe/Berlin:20250215T210000
SUMMARY:Landesliga M TV 01 Bohmte vs SV Eintracht Ihlow (901092)
UID:b9649315-ba4c-41ad-a391-9e00082b4ce1
STATUS:CONFIRMED
LAST-MODIFIED:20250216T100258Z
DESCRIPTION:Landesliga Männer\nBegegnungs-Nr: 901092\nHeim: TV 01 Bohmte\nGast: SV Eintracht Ihlow\nHalle: Bohmte\, SZ  (808125)\nAdresse: Jahnstraße\, 49163 Bohmte\n
LOCATION:Bohmte\, SZ  (808125): Jahnstraße\, 49163 Bohmte
CATEGORIES:Saison 2024/25
END:VEVENT
BEGIN:VEVENT
DTSTAMP:20260423T085929Z
DTSTART;TZID=Europe/Berlin:20241109T173000
DTEND;TZID=Europe/Berlin:20241109T190000
SUMMARY:Landesliga M SG Neuenhaus/Uelsen vs SV Eintracht Ihlow (901040)
UID:4cfcf5c3-8a64-4f1d-aeb3-0bbcd753f994
STATUS:CONFIRMED
LAST-MODIFIED:20241110T090353Z
DESCRIPTION:Landesliga Männer\nBegegnungs-Nr: 901040\nHeim: SG Neuenhaus/Uelsen\nGast: SV Eintracht Ihlow\nHalle: Uelsen\, SZ Eschweg  (803157)\nAdresse: Eschweg\, 49843 Uelsen\n
LOCATION:Uelsen\, SZ Eschweg  (803157): Eschweg\, 49843 Uelsen
CATEGORIES:Saison 2024/25
END:VEVENT
BEGIN:VEVENT
DTSTAMP:20260423T085929Z
DTSTART;TZID=Europe/Berlin:20250130T200000
DTEND;TZID=Europe/Berlin:20250130T213000
SUMMARY:Landesliga M HSG Hunte-Aue Löwen II vs SV Eintracht Ihlow (901054)
UID:33d9d21a-8559-4a12-bf55-ddf67438f638
STATUS:CONFIRMED
LAST-MODIFIED:20250131T082801Z
DESCRIPTION:Landesliga Männer\nBegegnungs-Nr: 901054\nHeim: HSG Hunte-Aue Löwen II\nGast: SV Eintracht Ihlow\nHalle: Diepholz\, SH Mühlenkamp  (809137)\nAdresse: Moorstraße 39\, 49356 Diepholz\n
LOCATION:Diepholz\, SH Mühlenkamp  (809137): Moorstraße 39\, 49356 Diepholz
CATEGORIES:Saison 2024/25
END:VEVENT
BEGIN:VEVENT
DTSTAMP:20260423T085929Z
DTSTART;TZID=Europe/Berlin:20250118T150000
DTEND;TZID=Europe/Berlin:20250118T163000
SUMMARY:Landesliga M SV Dalum vs SV Eintracht Ihlow (901071)
UID:a7ea3d3b-9fa5-408e-9d18-a2077c9139e3
STATUS:CONFIRMED
LAST-MODIFIED:20250118T191037Z
DESCRIPTION:Landesliga Männer\nBegegnungs-Nr: 901071\nHeim: SV Dalum\nGast: SV Eintracht Ihlow\nHalle: Geeste-Dalum\, SH  (803105)\nAdresse: Am Rathaus/Neuer Diek\, 49744 Geeste (OT Dalum)\n
LOCATION:Geeste-Dalum\, SH  (803105): Am Rathaus/Neuer Diek\, 49744 Geeste (OT Dalum)
CATEGORIES:Saison 2024/25
END:VEVENT
BEGIN:VEVENT
DTSTAMP:20260423T085929Z
DTSTART;TZID=Europe/Berlin:20240914T180000
DTEND;TZID=Europe/Berlin:20240914T193000
SUMMARY:Landesliga M TV Georgsmarienhütte vs SV Eintracht Ihlow (901012)
UID:e51baca1-81b6-4937-a743-892d8a8a2c0c
STATUS:CONFIRMED
LAST-MODIFIED:20240915T080039Z
DESCRIPTION:Landesliga Männer\nBegegnungs-Nr: 901012\nHeim: TV Georgsmarienhütte\nGast: SV Eintracht Ihlow\nHalle: Georgsmarienhütte\, SZ  (808132)\nAdresse: Carl-Stahmer-Weg 16\, 49124 Georgsmarienhütte\n
LOCATION:Georgsmarienhütte\, SZ  (808132): Carl-Stahmer-Weg 16\, 49124 Georgsmarienhütte
CATEGORIES:Saison 2024/25
END:VEVENT
BEGIN:VEVENT
DTSTAMP:20260423T085929Z
DTSTART;TZID=Europe/Berlin:20240830T200000
DTEND;TZID=Europe/Berlin:20240830T213000
SUMMARY:Landesliga M HSG Haselünne/Herzlake vs SV Eintracht Ihlow (901001)
UID:2649e918-c05b-4d77-a861-91118eb4b72d
STATUS:CONFIRMED
LAST-MODIFIED:20240902T111939Z
DESCRIPTION:Landesliga Männer\nBegegnungs-Nr: 901001\nHeim: HSG Haselünne/Herzlake\nGast: SV Eintracht Ihlow\nHalle: Haselünne\, St.-Ursula SH (hinterm Kolpinghaus)  (803118)\nAdresse: Kolpingstr.\, 49740 Haselünne\n
LOCATION:Haselünne\, St.-Ursula SH (hinterm Kolpinghaus)  (803118): Kolpingstr.\, 49740 Haselünne
CATEGORIES:Saison 2024/25
END:VEVENT
BEGIN:VEVENT
DTSTAMP:20260423T085929Z
DTSTART;TZID=Europe/Berlin:20250209T170000
DTEND;TZID=Europe/Berlin:20250209T183000
SUMMARY:Landesliga M TSG 07 Burg Gretesch vs SV Eintracht Ihlow (901087)
UID:00b92f9f-b1b5-4711-98a9-70b98ff32663
STATUS:CONFIRMED
LAST-MODIFIED:20250209T192504Z
DESCRIPTION:Landesliga Männer\nBegegnungs-Nr: 901087\nHeim: TSG 07 Burg Gretesch\nGast: SV Eintracht Ihlow\nHalle: Osnabrück\, KGS Osnabrück-Schinkel (808103)\nAdresse: Windthorststraße 79-83\, 49084 Osnabrück (OT Schinkel)\n
LOCATION:Osnabrück\, KGS Osnabrück-Schinkel (808103): Windthorststraße 79-83\, 49084 Osnabrück (OT Schinkel)
CATEGORIES:Saison 2024/25
END:VEVENT
BEGIN:VEVENT
DTSTAMP:20260423T085929Z
DTSTART;TZID=Europe/Berlin:20241123T170000
DTEND;TZID=Europe/Berlin:20241123T183000
SUMMARY:Landesliga M HSG Emden vs SV Eintracht Ihlow (901052)
UID:d15f0348-0052-429b-88c5-5d03ce4c5e20
STATUS:CONFIRMED
LAST-MODIFIED:20241124T093618Z
DESCRIPTION:Landesliga Männer\nBegegnungs-Nr: 901052\nHeim: HSG Emden\nGast: SV Eintracht Ihlow\nHalle: Emden\, SH BW Borssum (806107)\nAdresse: Wykhoffweg\, 26725 Emden\n
LOCATION:Emden\, SH BW Borssum (806107): Wykhoffweg\, 26725 Emden
CATEGORIES:Saison 2024/25
END:VEVENT
BEGIN:VEVENT
DTSTAMP:20260423T085929Z
DTSTART;TZID=Europe/Berlin:20250401T200000
DTEND;TZID=Europe/Berlin:20250401T213000
SUMMARY:Landesliga M Eickener SpVg vs SV Eintracht Ihlow (901106)
UID:72673978-cd93-44ec-bde7-469e9c49efde
STATUS:CONFIRMED
LAST-MODIFIED:20250326T192225Z
DESCRIPTION:Landesliga Männer\nBegegnungs-Nr: 901106\nHeim: Eickener SpVg\nGast: SV Eintracht Ihlow\nHalle: Melle\, Sporthalle Eicken-Bruche (808146)\nAdresse: Segelfliegerweg 11\, 49324 Melle\n
LOCATION:Melle\, Sporthalle Eicken-Bruche (808146): Segelfliegerweg 11\, 49324 Melle
CATEGORIES:Saison 2024/25
END:VEVENT
BEGIN:VEVENT
DTSTAMP:20260423T085929Z
DTSTART;TZID=Europe/Berlin:20250426T190000
DTEND;TZID=Europe/Berlin:20250426T203000
SUMMARY:Landesliga M HSG Osnabrück vs SV Eintracht Ihlow (901132)
UID:805daa9b-0a7d-46be-877b-9829801cefa0
STATUS:CONFIRMED
LAST-MODIFIED:20250427T075853Z
DESCRIPTION:Landesliga Männer\nBegegnungs-Nr: 901132\nHeim: HSG Osnabrück\nGast: SV Eintracht Ihlow\nHalle: Osnabrück\, Vereins-SH OSC  (808104)\nAdresse: Hiärm-Grupe-Straße 8\, 49080 Osnabrück (OT Wüste)\n
LOCATION:Osnabrück\, Vereins-SH OSC  (808104): Hiärm-Grupe-Straße 8\, 49080 Osnabrück (OT Wüste)
CATEGORIES:Saison 2024/25
END:VEVENT
BEGIN:VEVENT
DTSTAMP:20260423T085929Z
DTSTART;TZID=Europe/Berlin:20250413T160000
DTEND;TZID=Europe/Berlin:20250413T173000
SUMMARY:Landesliga M HSG Grönegau-Melle vs SV Eintracht Ihlow (901116)
UID:9b894568-35fa-4769-b250-ab546cb011bf
STATUS:CONFIRMED
LAST-MODIFIED:20250413T193611Z
DESCRIPTION:Landesliga Männer\nBegegnungs-Nr: 901116\nHeim: HSG Grönegau-Melle\nGast: SV Eintracht Ihlow\nHalle: Melle\, Sporthalle Schulzentrum Neuenkirchen (neu) (808144)\nAdresse: Ottenheider Weg 18\, 49326 Melle (OT Neuenkirchen)\n
LOCATION:Melle\, Sporthalle Schulzentrum Neuenkirchen (neu) (808144): Ottenheider Weg 18\, 49326 Melle (OT Neuenkirchen)
CATEGORIES:Saison 2024/25
END:VEVENT
END:VCALENDAR
