BEGIN:VCALENDAR
PRODID:-//nuDatenautomaten//framework iCal4j //DE
VERSION:2.0
CALSCALE:GREGORIAN
BEGIN:VTIMEZONE
TZID:Europe/Berlin
LAST-MODIFIED:20260306T231828Z
TZURL:https://www.tzurl.org/zoneinfo/Europe/Berlin
X-LIC-LOCATION:Europe/Berlin
X-PROLEPTIC-TZNAME:LMT
BEGIN:STANDARD
TZNAME:CET
TZOFFSETFROM:+005328
TZOFFSETTO:+0100
DTSTART:18930401T000000
END:STANDARD
BEGIN:DAYLIGHT
TZNAME:CEST
TZOFFSETFROM:+0100
TZOFFSETTO:+0200
DTSTART:19160430T230000
RDATE:19400401T020000
RDATE:19430329T020000
RDATE:19460414T020000
RDATE:19470406T030000
RDATE:19480418T020000
RDATE:19490410T020000
RDATE:19800406T020000
END:DAYLIGHT
BEGIN:STANDARD
TZNAME:CET
TZOFFSETFROM:+0200
TZOFFSETTO:+0100
DTSTART:19161001T010000
RDATE:19421102T030000
RDATE:19431004T030000
RDATE:19441002T030000
RDATE:19451118T030000
RDATE:19461007T030000
END:STANDARD
BEGIN:DAYLIGHT
TZNAME:CEST
TZOFFSETFROM:+0100
TZOFFSETTO:+0200
DTSTART:19170416T020000
RRULE:FREQ=YEARLY;UNTIL=19180415T010000Z;BYMONTH=4;BYDAY=3MO
END:DAYLIGHT
BEGIN:STANDARD
TZNAME:CET
TZOFFSETFROM:+0200
TZOFFSETTO:+0100
DTSTART:19170917T030000
RRULE:FREQ=YEARLY;UNTIL=19180916T010000Z;BYMONTH=9;BYDAY=3MO
END:STANDARD
BEGIN:DAYLIGHT
TZNAME:CEST
TZOFFSETFROM:+0100
TZOFFSETTO:+0200
DTSTART:19440403T020000
RRULE:FREQ=YEARLY;UNTIL=19450402T010000Z;BYMONTH=4;BYDAY=1MO
END:DAYLIGHT
BEGIN:DAYLIGHT
TZNAME:CEMT
TZOFFSETFROM:+0200
TZOFFSETTO:+0300
DTSTART:19450524T020000
RDATE:19470511T030000
END:DAYLIGHT
BEGIN:DAYLIGHT
TZNAME:CEST
TZOFFSETFROM:+0300
TZOFFSETTO:+0200
DTSTART:19450924T030000
RDATE:19470629T030000
END:DAYLIGHT
BEGIN:STANDARD
TZNAME:CET
TZOFFSETFROM:+0100
TZOFFSETTO:+0100
DTSTART:19460101T000000
RDATE:19800101T000000
END:STANDARD
BEGIN:STANDARD
TZNAME:CET
TZOFFSETFROM:+0200
TZOFFSETTO:+0100
DTSTART:19471005T030000
RRULE:FREQ=YEARLY;UNTIL=19491002T010000Z;BYMONTH=10;BYDAY=1SU
END:STANDARD
BEGIN:STANDARD
TZNAME:CET
TZOFFSETFROM:+0200
TZOFFSETTO:+0100
DTSTART:19800928T030000
RRULE:FREQ=YEARLY;UNTIL=19950924T010000Z;BYMONTH=9;BYDAY=-1SU
END:STANDARD
BEGIN:DAYLIGHT
TZNAME:CEST
TZOFFSETFROM:+0100
TZOFFSETTO:+0200
DTSTART:19810329T020000
RRULE:FREQ=YEARLY;BYMONTH=3;BYDAY=-1SU
END:DAYLIGHT
BEGIN:STANDARD
TZNAME:CET
TZOFFSETFROM:+0200
TZOFFSETTO:+0100
DTSTART:19961027T030000
RRULE:FREQ=YEARLY;BYMONTH=10;BYDAY=-1SU
END:STANDARD
END:VTIMEZONE
BEGIN:VEVENT
DTSTAMP:20260423T134938Z
DTSTART;TZID=Europe/Berlin:20250502T200000
DTEND;TZID=Europe/Berlin:20250502T213000
SUMMARY:Landesliga Männer HSG Bützfleth/Drochtersen vs VfL Fredenbeck III (116)
UID:ef820b19-09d8-4696-9cbc-82a1cada0511
STATUS:CONFIRMED
LAST-MODIFIED:20250513T131556Z
DESCRIPTION:Landesliga Männer\nBegegnungs-Nr: 116\nHeim: HSG Bützfleth/Drochtersen\nGast: VfL Fredenbeck III\nHalle: Bützfleth (608104)\nAdresse: Am Schwimmbad 1\, 21683 Stade OT Bützfleth\n
LOCATION:Bützfleth (608104): Am Schwimmbad 1\, 21683 Stade OT Bützfleth
CATEGORIES:Saison 2024/25
END:VEVENT
BEGIN:VEVENT
DTSTAMP:20260423T134938Z
DTSTART;TZID=Europe/Berlin:20250302T160000
DTEND;TZID=Europe/Berlin:20250302T173000
SUMMARY:Landesliga Männer HSG Bützfleth/Drochtersen vs SG Südkreis Clenze (96)
UID:c23dad65-c614-464c-8ade-1a7fceee688b
STATUS:CONFIRMED
LAST-MODIFIED:20250228T094403Z
DESCRIPTION:Landesliga Männer\nBegegnungs-Nr: 96\nHeim: HSG Bützfleth/Drochtersen\nGast: SG Südkreis Clenze\nHalle: Drochtersen\,SH (608107)\nAdresse: Am Sportplatz 19\, 21706 Drochtersen\n
LOCATION:Drochtersen\,SH (608107): Am Sportplatz 19\, 21706 Drochtersen
CATEGORIES:Saison 2024/25
END:VEVENT
BEGIN:VEVENT
DTSTAMP:20260423T134938Z
DTSTART;TZID=Europe/Berlin:20241124T160000
DTEND;TZID=Europe/Berlin:20241124T173000
SUMMARY:Landesliga Männer HSG Bützfleth/Drochtersen vs HSG Seevetal/Ashausen II (43)
UID:6b6a5064-cdd6-4322-9619-d211c4283200
STATUS:CONFIRMED
LAST-MODIFIED:20250516T092205Z
DESCRIPTION:Landesliga Männer\nBegegnungs-Nr: 43\nHeim: HSG Bützfleth/Drochtersen\nGast: HSG Seevetal/Ashausen II\nHalle: Bützfleth (608104)\nAdresse: Am Schwimmbad 1\, 21683 Stade OT Bützfleth\n
LOCATION:Bützfleth (608104): Am Schwimmbad 1\, 21683 Stade OT Bützfleth
CATEGORIES:Saison 2024/25
END:VEVENT
BEGIN:VEVENT
DTSTAMP:20260423T134938Z
DTSTART;TZID=Europe/Berlin:20241215T170000
DTEND;TZID=Europe/Berlin:20241215T183000
SUMMARY:Landesliga Männer HSG Bützfleth/Drochtersen vs MTV Soltau (57)
UID:c083f198-0f97-4ffd-b600-7cdf352419cb
STATUS:CONFIRMED
LAST-MODIFIED:20241217T130201Z
DESCRIPTION:Landesliga Männer\nBegegnungs-Nr: 57\nHeim: HSG Bützfleth/Drochtersen\nGast: MTV Soltau\nHalle: Bützfleth (608104)\nAdresse: Am Schwimmbad 1\, 21683 Stade OT Bützfleth\n
LOCATION:Bützfleth (608104): Am Schwimmbad 1\, 21683 Stade OT Bützfleth
CATEGORIES:Saison 2024/25
END:VEVENT
BEGIN:VEVENT
DTSTAMP:20260423T134938Z
DTSTART;TZID=Europe/Berlin:20250223T150000
DTEND;TZID=Europe/Berlin:20250223T163000
SUMMARY:Landesliga Männer HSG Bützfleth/Drochtersen vs TSV Wietzendorf II (90)
UID:21e36bff-0b43-48dc-8947-df7033981e33
STATUS:CONFIRMED
LAST-MODIFIED:20250224T083343Z
DESCRIPTION:Landesliga Männer\nBegegnungs-Nr: 90\nHeim: HSG Bützfleth/Drochtersen\nGast: TSV Wietzendorf II\nHalle: Drochtersen\,SH (608107)\nAdresse: Am Sportplatz 19\, 21706 Drochtersen\n
LOCATION:Drochtersen\,SH (608107): Am Sportplatz 19\, 21706 Drochtersen
CATEGORIES:Saison 2024/25
END:VEVENT
BEGIN:VEVENT
DTSTAMP:20260423T134938Z
DTSTART;TZID=Europe/Berlin:20250517T180000
DTEND;TZID=Europe/Berlin:20250517T193000
SUMMARY:Landesliga Männer HSG Bützfleth/Drochtersen vs SV Beckdorf II (130)
UID:7f85066f-c056-4b21-8a7a-a4db6d1a9ccb
STATUS:CONFIRMED
LAST-MODIFIED:20250518T173918Z
DESCRIPTION:Landesliga Männer\nBegegnungs-Nr: 130\nHeim: HSG Bützfleth/Drochtersen\nGast: SV Beckdorf II\nHalle: Bützfleth (608104)\nAdresse: Am Schwimmbad 1\, 21683 Stade OT Bützfleth\n
LOCATION:Bützfleth (608104): Am Schwimmbad 1\, 21683 Stade OT Bützfleth
CATEGORIES:Saison 2024/25
END:VEVENT
BEGIN:VEVENT
DTSTAMP:20260423T134938Z
DTSTART;TZID=Europe/Berlin:20250322T180000
DTEND;TZID=Europe/Berlin:20250322T193000
SUMMARY:Landesliga Männer HSG Bützfleth/Drochtersen vs HSG Sottrum/ Ottersberg (107)
UID:8456723e-fc15-4db4-8e3a-29ae15df3c00
STATUS:CONFIRMED
LAST-MODIFIED:20250323T085538Z
DESCRIPTION:Landesliga Männer\nBegegnungs-Nr: 107\nHeim: HSG Bützfleth/Drochtersen\nGast: HSG Sottrum/ Ottersberg\nHalle: Bützfleth (608104)\nAdresse: Am Schwimmbad 1\, 21683 Stade OT Bützfleth\n
LOCATION:Bützfleth (608104): Am Schwimmbad 1\, 21683 Stade OT Bützfleth
CATEGORIES:Saison 2024/25
END:VEVENT
BEGIN:VEVENT
DTSTAMP:20260423T134938Z
DTSTART;TZID=Europe/Berlin:20250208T180000
DTEND;TZID=Europe/Berlin:20250208T193000
SUMMARY:Landesliga Männer HSG Bützfleth/Drochtersen vs SG Luhdorf/Scharmbeck (77)
UID:41e825b1-1679-47dc-b33f-771f0503f716
STATUS:CONFIRMED
LAST-MODIFIED:20250210T111405Z
DESCRIPTION:Landesliga Männer\nBegegnungs-Nr: 77\nHeim: HSG Bützfleth/Drochtersen\nGast: SG Luhdorf/Scharmbeck\nHalle: Bützfleth (608104)\nAdresse: Am Schwimmbad 1\, 21683 Stade OT Bützfleth\n
LOCATION:Bützfleth (608104): Am Schwimmbad 1\, 21683 Stade OT Bützfleth
CATEGORIES:Saison 2024/25
END:VEVENT
BEGIN:VEVENT
DTSTAMP:20260423T134938Z
DTSTART;TZID=Europe/Berlin:20241103T153000
DTEND;TZID=Europe/Berlin:20241103T170000
SUMMARY:Landesliga Männer HSG Bützfleth/Drochtersen vs TuS Bergen (36)
UID:22fd50b8-e5d5-4d1b-8613-20935b4e8ca2
STATUS:CONFIRMED
LAST-MODIFIED:20241103T185122Z
DESCRIPTION:Landesliga Männer\nBegegnungs-Nr: 36\nHeim: HSG Bützfleth/Drochtersen\nGast: TuS Bergen\nHalle: Drochtersen\,SH (608107)\nAdresse: Am Sportplatz 19\, 21706 Drochtersen\n
LOCATION:Drochtersen\,SH (608107): Am Sportplatz 19\, 21706 Drochtersen
CATEGORIES:Saison 2024/25
END:VEVENT
BEGIN:VEVENT
DTSTAMP:20260423T134938Z
DTSTART;TZID=Europe/Berlin:20240922T150000
DTEND;TZID=Europe/Berlin:20240922T163000
SUMMARY:Landesliga Männer HSG Bützfleth/Drochtersen vs TuS Jahn Hollenstedt (17)
UID:34c34e17-4b94-4827-9fce-cfbe5644924d
STATUS:CONFIRMED
LAST-MODIFIED:20240923T115440Z
DESCRIPTION:Landesliga Männer\nBegegnungs-Nr: 17\nHeim: HSG Bützfleth/Drochtersen\nGast: TuS Jahn Hollenstedt\nHalle: Drochtersen\,SH (608107)\nAdresse: Am Sportplatz 19\, 21706 Drochtersen\n
LOCATION:Drochtersen\,SH (608107): Am Sportplatz 19\, 21706 Drochtersen
CATEGORIES:Saison 2024/25
END:VEVENT
BEGIN:VEVENT
DTSTAMP:20260423T134938Z
DTSTART;TZID=Europe/Berlin:20240908T170000
DTEND;TZID=Europe/Berlin:20240908T183000
SUMMARY:Landesliga Männer HSG Bützfleth/Drochtersen vs HSG Heidmark II (4)
UID:e9ff8a0d-58ed-4526-97b2-c7629f5534fe
STATUS:CONFIRMED
LAST-MODIFIED:20240916T124304Z
DESCRIPTION:Landesliga Männer\nBegegnungs-Nr: 4\nHeim: HSG Bützfleth/Drochtersen\nGast: HSG Heidmark II\nHalle: Drochtersen\,SH (608107)\nAdresse: Am Sportplatz 19\, 21706 Drochtersen\n
LOCATION:Drochtersen\,SH (608107): Am Sportplatz 19\, 21706 Drochtersen
CATEGORIES:Saison 2024/25
END:VEVENT
BEGIN:VEVENT
DTSTAMP:20260423T134938Z
DTSTART;TZID=Europe/Berlin:20250510T191500
DTEND;TZID=Europe/Berlin:20250510T204500
SUMMARY:Landesliga Männer MTV Soltau vs HSG Bützfleth/Drochtersen (123)
UID:2ab748be-79e5-4467-8d25-c9ba85ed2a03
STATUS:CONFIRMED
LAST-MODIFIED:20250513T141401Z
DESCRIPTION:Landesliga Männer\nBegegnungs-Nr: 123\nHeim: MTV Soltau\nGast: HSG Bützfleth/Drochtersen\nHalle: Soltau\, SH RS (607113)\nAdresse: Stubbendorffweg 2\, 29614 Soltau\n
LOCATION:Soltau\, SH RS (607113): Stubbendorffweg 2\, 29614 Soltau
CATEGORIES:Saison 2024/25
END:VEVENT
BEGIN:VEVENT
DTSTAMP:20260423T134938Z
DTSTART;TZID=Europe/Berlin:20241117T170000
DTEND;TZID=Europe/Berlin:20241117T183000
SUMMARY:Landesliga Männer HSG Sottrum/ Ottersberg vs HSG Bützfleth/Drochtersen (41)
UID:3d5b2142-cf56-4096-b796-608f19f57be6
STATUS:CONFIRMED
LAST-MODIFIED:20241118T103231Z
DESCRIPTION:Landesliga Männer\nBegegnungs-Nr: 41\nHeim: HSG Sottrum/ Ottersberg\nGast: HSG Bützfleth/Drochtersen\nHalle: Sottrum\, Wilhelm-Schröder-SZ  (609150)\nAdresse: Am Bullenworth\, 27367 Sottrum\n
LOCATION:Sottrum\, Wilhelm-Schröder-SZ  (609150): Am Bullenworth\, 27367 Sottrum
CATEGORIES:Saison 2024/25
END:VEVENT
BEGIN:VEVENT
DTSTAMP:20260423T134938Z
DTSTART;TZID=Europe/Berlin:20250118T193000
DTEND;TZID=Europe/Berlin:20250118T210000
SUMMARY:Landesliga Männer SV Beckdorf II vs HSG Bützfleth/Drochtersen (64)
UID:e857c77a-7f03-446a-af11-9b495e598602
STATUS:CONFIRMED
LAST-MODIFIED:20250120T152716Z
DESCRIPTION:Landesliga Männer\nBegegnungs-Nr: 64\nHeim: SV Beckdorf II\nGast: HSG Bützfleth/Drochtersen\nHalle: Buxtehude\, Halle Nord (608163)\nAdresse: Hansestraße 15\, 21614 Buxtehude\n
LOCATION:Buxtehude\, Halle Nord (608163): Hansestraße 15\, 21614 Buxtehude
CATEGORIES:Saison 2024/25
END:VEVENT
BEGIN:VEVENT
DTSTAMP:20260423T134938Z
DTSTART;TZID=Europe/Berlin:20250403T203000
DTEND;TZID=Europe/Berlin:20250403T220000
SUMMARY:Landesliga Männer TuS Jahn Hollenstedt vs HSG Bützfleth/Drochtersen (83)
UID:97ee49fe-d668-40aa-9664-4f30e579b93b
STATUS:CONFIRMED
LAST-MODIFIED:20250405T120648Z
DESCRIPTION:Landesliga Männer\nBegegnungs-Nr: 83\nHeim: TuS Jahn Hollenstedt\nGast: HSG Bützfleth/Drochtersen\nHalle: Hollenstedt\, Max-Schmeling-Hallen (Halle 1) (603110)\nAdresse: Jahnstraße\, 21279 Hollenstedt\n
LOCATION:Hollenstedt\, Max-Schmeling-Hallen (Halle 1) (603110): Jahnstraße\, 21279 Hollenstedt
CATEGORIES:Saison 2024/25
END:VEVENT
BEGIN:VEVENT
DTSTAMP:20260423T134938Z
DTSTART;TZID=Europe/Berlin:20250125T171500
DTEND;TZID=Europe/Berlin:20250125T184500
SUMMARY:Landesliga Männer HSG Heidmark II vs HSG Bützfleth/Drochtersen (70)
UID:fd726b69-1672-456a-9385-f4111b74744b
STATUS:CONFIRMED
LAST-MODIFIED:20250126T115420Z
DESCRIPTION:Landesliga Männer\nBegegnungs-Nr: 70\nHeim: HSG Heidmark II\nGast: HSG Bützfleth/Drochtersen\nHalle: Fallingbostel\, Sportzentrum (607103)\nAdresse: Idinger Heide\, 29683 Fallingbostel\n
LOCATION:Fallingbostel\, Sportzentrum (607103): Idinger Heide\, 29683 Fallingbostel
CATEGORIES:Saison 2024/25
END:VEVENT
BEGIN:VEVENT
DTSTAMP:20260423T134938Z
DTSTART;TZID=Europe/Berlin:20250201T160000
DTEND;TZID=Europe/Berlin:20250201T173000
SUMMARY:Landesliga Männer VfL Fredenbeck III vs HSG Bützfleth/Drochtersen (50)
UID:af57b4ff-fb3e-4c54-a11f-84a903ffc26f
STATUS:CONFIRMED
LAST-MODIFIED:20250202T090738Z
DESCRIPTION:Landesliga Männer\nBegegnungs-Nr: 50\nHeim: VfL Fredenbeck III\nGast: HSG Bützfleth/Drochtersen\nHalle: Fredenbeck\, Geestland-Halle (608108)\nAdresse: Am Mühlenbeck 2\, 21717 Fredenbeck\n
LOCATION:Fredenbeck\, Geestland-Halle (608108): Am Mühlenbeck 2\, 21717 Fredenbeck
CATEGORIES:Saison 2024/25
END:VEVENT
BEGIN:VEVENT
DTSTAMP:20260423T134938Z
DTSTART;TZID=Europe/Berlin:20250329T173000
DTEND;TZID=Europe/Berlin:20250329T190000
SUMMARY:Landesliga Männer HSG Seevetal/Ashausen II vs HSG Bützfleth/Drochtersen (109)
UID:6d58b4f0-5e07-419f-b140-3d99fe3dfaa9
STATUS:CONFIRMED
LAST-MODIFIED:20250516T092204Z
DESCRIPTION:Landesliga Männer\nBegegnungs-Nr: 109\nHeim: HSG Seevetal/Ashausen II\nGast: HSG Bützfleth/Drochtersen\nHalle: Stelle\, MTV VSH (603101)\nAdresse: Holtorfsloher Weg\, 21435 Stelle (OT Ashausen)\n
LOCATION:Stelle\, MTV VSH (603101): Holtorfsloher Weg\, 21435 Stelle (OT Ashausen)
CATEGORIES:Saison 2024/25
END:VEVENT
BEGIN:VEVENT
DTSTAMP:20260423T134938Z
DTSTART;TZID=Europe/Berlin:20241026T193000
DTEND;TZID=Europe/Berlin:20241026T210000
SUMMARY:Landesliga Männer SG Südkreis Clenze vs HSG Bützfleth/Drochtersen (30)
UID:8d90c16b-eb8d-4737-bb92-f30dc53ba598
STATUS:CONFIRMED
LAST-MODIFIED:20241028T130313Z
DESCRIPTION:Landesliga Männer\nBegegnungs-Nr: 30\nHeim: SG Südkreis Clenze\nGast: HSG Bützfleth/Drochtersen\nHalle: Clenze\, SH Schulzentrum (604101)\nAdresse: Uelzener Straße 10\, 29459 Clenze\n
LOCATION:Clenze\, SH Schulzentrum (604101): Uelzener Straße 10\, 29459 Clenze
CATEGORIES:Saison 2024/25
END:VEVENT
BEGIN:VEVENT
DTSTAMP:20260423T134938Z
DTSTART;TZID=Europe/Berlin:20240928T140000
DTEND;TZID=Europe/Berlin:20240928T153000
SUMMARY:Landesliga Männer TSV Wietzendorf II vs HSG Bützfleth/Drochtersen (24)
UID:a9b9641c-b026-431b-bc6c-ae01ba5b0428
STATUS:CONFIRMED
LAST-MODIFIED:20241007T112519Z
DESCRIPTION:Landesliga Männer\nBegegnungs-Nr: 24\nHeim: TSV Wietzendorf II\nGast: HSG Bützfleth/Drochtersen\nHalle: Wietzendorf\, SH (607116)\nAdresse: Kampstraße\, 29649 Wietzendorf\n
LOCATION:Wietzendorf\, SH (607116): Kampstraße\, 29649 Wietzendorf
CATEGORIES:Saison 2024/25
END:VEVENT
BEGIN:VEVENT
DTSTAMP:20260423T134938Z
DTSTART;TZID=Europe/Berlin:20240915T173000
DTEND;TZID=Europe/Berlin:20240915T190000
SUMMARY:Landesliga Männer SG Luhdorf/Scharmbeck vs HSG Bützfleth/Drochtersen (11)
UID:8ba2323c-05f3-418f-ae59-8647442efc3f
STATUS:CONFIRMED
LAST-MODIFIED:20240916T125144Z
DESCRIPTION:Landesliga Männer\nBegegnungs-Nr: 11\nHeim: SG Luhdorf/Scharmbeck\nGast: HSG Bützfleth/Drochtersen\nHalle: Winsen-Luhdorf\, Peter-Wind-Halle (603112)\nAdresse: Höllenberg\, 21423 Winsen/Luhe (OT Luhdorf)\n
LOCATION:Winsen-Luhdorf\, Peter-Wind-Halle (603112): Höllenberg\, 21423 Winsen/Luhe (OT Luhdorf)
CATEGORIES:Saison 2024/25
END:VEVENT
BEGIN:VEVENT
DTSTAMP:20260423T134938Z
DTSTART;TZID=Europe/Berlin:20250316T170000
DTEND;TZID=Europe/Berlin:20250316T183000
SUMMARY:Landesliga Männer TuS Bergen vs HSG Bützfleth/Drochtersen (102)
UID:8235ac1b-4397-4d05-b429-289dc19f384b
STATUS:CONFIRMED
LAST-MODIFIED:20250317T115127Z
DESCRIPTION:Landesliga Männer\nBegegnungs-Nr: 102\nHeim: TuS Bergen\nGast: HSG Bützfleth/Drochtersen\nHalle: Hermannsburg\, SH Oertzetal (601134)\nAdresse: Lutterweg\, 29320 Hermannsburg\n
LOCATION:Hermannsburg\, SH Oertzetal (601134): Lutterweg\, 29320 Hermannsburg
CATEGORIES:Saison 2024/25
END:VEVENT
END:VCALENDAR
