BEGIN:VCALENDAR
PRODID:-//nuDatenautomaten//framework iCal4j //DE
VERSION:2.0
CALSCALE:GREGORIAN
BEGIN:VTIMEZONE
TZID:Europe/Berlin
LAST-MODIFIED:20260306T231828Z
TZURL:https://www.tzurl.org/zoneinfo/Europe/Berlin
X-LIC-LOCATION:Europe/Berlin
X-PROLEPTIC-TZNAME:LMT
BEGIN:STANDARD
TZNAME:CET
TZOFFSETFROM:+005328
TZOFFSETTO:+0100
DTSTART:18930401T000000
END:STANDARD
BEGIN:DAYLIGHT
TZNAME:CEST
TZOFFSETFROM:+0100
TZOFFSETTO:+0200
DTSTART:19160430T230000
RDATE:19400401T020000
RDATE:19430329T020000
RDATE:19460414T020000
RDATE:19470406T030000
RDATE:19480418T020000
RDATE:19490410T020000
RDATE:19800406T020000
END:DAYLIGHT
BEGIN:STANDARD
TZNAME:CET
TZOFFSETFROM:+0200
TZOFFSETTO:+0100
DTSTART:19161001T010000
RDATE:19421102T030000
RDATE:19431004T030000
RDATE:19441002T030000
RDATE:19451118T030000
RDATE:19461007T030000
END:STANDARD
BEGIN:DAYLIGHT
TZNAME:CEST
TZOFFSETFROM:+0100
TZOFFSETTO:+0200
DTSTART:19170416T020000
RRULE:FREQ=YEARLY;UNTIL=19180415T010000Z;BYMONTH=4;BYDAY=3MO
END:DAYLIGHT
BEGIN:STANDARD
TZNAME:CET
TZOFFSETFROM:+0200
TZOFFSETTO:+0100
DTSTART:19170917T030000
RRULE:FREQ=YEARLY;UNTIL=19180916T010000Z;BYMONTH=9;BYDAY=3MO
END:STANDARD
BEGIN:DAYLIGHT
TZNAME:CEST
TZOFFSETFROM:+0100
TZOFFSETTO:+0200
DTSTART:19440403T020000
RRULE:FREQ=YEARLY;UNTIL=19450402T010000Z;BYMONTH=4;BYDAY=1MO
END:DAYLIGHT
BEGIN:DAYLIGHT
TZNAME:CEMT
TZOFFSETFROM:+0200
TZOFFSETTO:+0300
DTSTART:19450524T020000
RDATE:19470511T030000
END:DAYLIGHT
BEGIN:DAYLIGHT
TZNAME:CEST
TZOFFSETFROM:+0300
TZOFFSETTO:+0200
DTSTART:19450924T030000
RDATE:19470629T030000
END:DAYLIGHT
BEGIN:STANDARD
TZNAME:CET
TZOFFSETFROM:+0100
TZOFFSETTO:+0100
DTSTART:19460101T000000
RDATE:19800101T000000
END:STANDARD
BEGIN:STANDARD
TZNAME:CET
TZOFFSETFROM:+0200
TZOFFSETTO:+0100
DTSTART:19471005T030000
RRULE:FREQ=YEARLY;UNTIL=19491002T010000Z;BYMONTH=10;BYDAY=1SU
END:STANDARD
BEGIN:STANDARD
TZNAME:CET
TZOFFSETFROM:+0200
TZOFFSETTO:+0100
DTSTART:19800928T030000
RRULE:FREQ=YEARLY;UNTIL=19950924T010000Z;BYMONTH=9;BYDAY=-1SU
END:STANDARD
BEGIN:DAYLIGHT
TZNAME:CEST
TZOFFSETFROM:+0100
TZOFFSETTO:+0200
DTSTART:19810329T020000
RRULE:FREQ=YEARLY;BYMONTH=3;BYDAY=-1SU
END:DAYLIGHT
BEGIN:STANDARD
TZNAME:CET
TZOFFSETFROM:+0200
TZOFFSETTO:+0100
DTSTART:19961027T030000
RRULE:FREQ=YEARLY;BYMONTH=10;BYDAY=-1SU
END:STANDARD
END:VTIMEZONE
BEGIN:VEVENT
DTSTAMP:20260421T150913Z
DTSTART;TZID=Europe/Berlin:20230916T100000
DTEND;TZID=Europe/Berlin:20230916T110000
SUMMARY:MJD VR N 1 SV Rot-Weiß Damme vs TV Dinklage (945010)
UID:ffb958a3-d286-42cd-9bf2-28afc530a817
STATUS:CONFIRMED
LAST-MODIFIED:20230918T094157Z
DESCRIPTION:RK MJD Vorrunde Nord 1\nBegegnungs-Nr: 945010\nHeim: SV Rot-Weiß Damme\nGast: TV Dinklage\nHalle: Dinklage\, SH 1 SZ  (809107)\nAdresse: Schulstraße\, 49413 Dinklage\n
LOCATION:Dinklage\, SH 1 SZ  (809107): Schulstraße\, 49413 Dinklage
CATEGORIES:Saison 2023/24
END:VEVENT
BEGIN:VEVENT
DTSTAMP:20260421T150913Z
DTSTART;TZID=Europe/Berlin:20230902T110000
DTEND;TZID=Europe/Berlin:20230902T120000
SUMMARY:MJD VR N 1 SV Rot-Weiß Damme vs JMSG Garrel-Cloppenburg (945006)
UID:b7b0738a-add0-43e3-86f6-419e7ad39e74
STATUS:CONFIRMED
LAST-MODIFIED:20230903T155511Z
DESCRIPTION:RK MJD Vorrunde Nord 1\nBegegnungs-Nr: 945006\nHeim: SV Rot-Weiß Damme\nGast: JMSG Garrel-Cloppenburg\nHalle: Damme\, HS  (809105)\nAdresse: Schützenstraße 1\, 49401 Damme\n
LOCATION:Damme\, HS  (809105): Schützenstraße 1\, 49401 Damme
CATEGORIES:Saison 2023/24
END:VEVENT
BEGIN:VEVENT
DTSTAMP:20260421T150913Z
DTSTART;TZID=Europe/Berlin:20240120T113000
DTEND;TZID=Europe/Berlin:20240120T123000
SUMMARY:ROL MJD Nord SV Rot-Weiß Damme vs TV Dinklage (940017)
UID:ae09a8a0-efda-47fc-9c9b-b7ff78ce58e4
STATUS:CONFIRMED
LAST-MODIFIED:20240121T112423Z
DESCRIPTION:Regionsoberliga MJD Nord Rückrunde\nBegegnungs-Nr: 940017\nHeim: SV Rot-Weiß Damme\nGast: TV Dinklage\nHalle: Damme\, HS  (809105)\nAdresse: Schützenstraße 1\, 49401 Damme\n
LOCATION:Damme\, HS  (809105): Schützenstraße 1\, 49401 Damme
CATEGORIES:Saison 2023/24
END:VEVENT
BEGIN:VEVENT
DTSTAMP:20260421T150913Z
DTSTART;TZID=Europe/Berlin:20240407T140000
DTEND;TZID=Europe/Berlin:20240407T150000
SUMMARY:ROL MJD Nord SV Rot-Weiß Damme vs HSG Hunte-Aue Löwen (940036)
UID:b2f2582a-3eab-4ef7-8f4f-a92df19bb40f
STATUS:CONFIRMED
LAST-MODIFIED:20240408T151142Z
DESCRIPTION:Regionsoberliga MJD Nord Rückrunde\nBegegnungs-Nr: 940036\nHeim: SV Rot-Weiß Damme\nGast: HSG Hunte-Aue Löwen\nHalle: Damme\, HS  (809105)\nAdresse: Schützenstraße 1\, 49401 Damme\n
LOCATION:Damme\, HS  (809105): Schützenstraße 1\, 49401 Damme
CATEGORIES:Saison 2023/24
END:VEVENT
BEGIN:VEVENT
DTSTAMP:20260421T150913Z
DTSTART;TZID=Europe/Berlin:20231203T163000
DTEND;TZID=Europe/Berlin:20231203T173000
SUMMARY:ROL MJD Nord SV Rot-Weiß Damme vs JMSG Garrel-Cloppenburg (940012)
UID:8dbc511f-284b-486a-b943-264baac58fde
STATUS:CONFIRMED
LAST-MODIFIED:20231205T162050Z
DESCRIPTION:Regionsoberliga MJD Nord Rückrunde\nBegegnungs-Nr: 940012\nHeim: SV Rot-Weiß Damme\nGast: JMSG Garrel-Cloppenburg\nHalle: Damme\, HS  (809105)\nAdresse: Schützenstraße 1\, 49401 Damme\n
LOCATION:Damme\, HS  (809105): Schützenstraße 1\, 49401 Damme
CATEGORIES:Saison 2023/24
END:VEVENT
BEGIN:VEVENT
DTSTAMP:20260421T150913Z
DTSTART;TZID=Europe/Berlin:20231210T163000
DTEND;TZID=Europe/Berlin:20231210T173000
SUMMARY:ROL MJD Nord SV Rot-Weiß Damme vs SFN Vechta (940013)
UID:780f17ea-9be9-4b05-a76a-85695ea5d558
STATUS:CONFIRMED
LAST-MODIFIED:20240121T112147Z
DESCRIPTION:Regionsoberliga MJD Nord Rückrunde\nBegegnungs-Nr: 940013\nHeim: SV Rot-Weiß Damme\nGast: SFN Vechta\nHalle: Damme\, HS  (809105)\nAdresse: Schützenstraße 1\, 49401 Damme\n
LOCATION:Damme\, HS  (809105): Schützenstraße 1\, 49401 Damme
CATEGORIES:Saison 2023/24
END:VEVENT
BEGIN:VEVENT
DTSTAMP:20260421T150913Z
DTSTART;TZID=Europe/Berlin:20240421T134500
DTEND;TZID=Europe/Berlin:20240421T144500
SUMMARY:ROL MJD Nord SV Rot-Weiß Damme vs JMSG Garrel-Cloppenburg (940042)
UID:314a530b-b6d6-471e-a081-2da3857cfe6d
STATUS:CONFIRMED
LAST-MODIFIED:20240423T164033Z
DESCRIPTION:Regionsoberliga MJD Nord Rückrunde\nBegegnungs-Nr: 940042\nHeim: SV Rot-Weiß Damme\nGast: JMSG Garrel-Cloppenburg\nHalle: Damme\, HS  (809105)\nAdresse: Schützenstraße 1\, 49401 Damme\n
LOCATION:Damme\, HS  (809105): Schützenstraße 1\, 49401 Damme
CATEGORIES:Saison 2023/24
END:VEVENT
BEGIN:VEVENT
DTSTAMP:20260421T150913Z
DTSTART;TZID=Europe/Berlin:20240210T153000
DTEND;TZID=Europe/Berlin:20240210T163000
SUMMARY:ROL MJD Nord SV Rot-Weiß Damme vs TuS Lemförde (940023)
UID:5199a1c3-f922-4fbd-9166-147f6ecb5c82
STATUS:CONFIRMED
LAST-MODIFIED:20240211T105824Z
DESCRIPTION:Regionsoberliga MJD Nord Rückrunde\nBegegnungs-Nr: 940023\nHeim: SV Rot-Weiß Damme\nGast: TuS Lemförde\nHalle: Damme\, HS  (809105)\nAdresse: Schützenstraße 1\, 49401 Damme\n
LOCATION:Damme\, HS  (809105): Schützenstraße 1\, 49401 Damme
CATEGORIES:Saison 2023/24
END:VEVENT
BEGIN:VEVENT
DTSTAMP:20260421T150913Z
DTSTART;TZID=Europe/Berlin:20231112T140000
DTEND;TZID=Europe/Berlin:20231112T150000
SUMMARY:ROL MJD Nord SV Rot-Weiß Damme vs HSG Hunte-Aue Löwen (940005)
UID:b596ef90-6f4a-4fee-8531-5b23b89e2489
STATUS:CONFIRMED
LAST-MODIFIED:20231113T163228Z
DESCRIPTION:Regionsoberliga MJD Nord Rückrunde\nBegegnungs-Nr: 940005\nHeim: SV Rot-Weiß Damme\nGast: HSG Hunte-Aue Löwen\nHalle: Damme\, HS  (809105)\nAdresse: Schützenstraße 1\, 49401 Damme\n
LOCATION:Damme\, HS  (809105): Schützenstraße 1\, 49401 Damme
CATEGORIES:Saison 2023/24
END:VEVENT
BEGIN:VEVENT
DTSTAMP:20260421T150913Z
DTSTART;TZID=Europe/Berlin:20230902T150000
DTEND;TZID=Europe/Berlin:20230902T160000
SUMMARY:MJD VR N 1 HSG Hunte-Aue Löwen II vs SV Rot-Weiß Damme (945003)
UID:4ef85b1c-3e77-45fe-8aba-75b589906484
STATUS:CONFIRMED
LAST-MODIFIED:20230915T115322Z
DESCRIPTION:RK MJD Vorrunde Nord 1\nBegegnungs-Nr: 945003\nHeim: HSG Hunte-Aue Löwen II\nGast: SV Rot-Weiß Damme\nHalle: Damme\, HS  (809105)\nAdresse: Schützenstraße 1\, 49401 Damme\n
LOCATION:Damme\, HS  (809105): Schützenstraße 1\, 49401 Damme
CATEGORIES:Saison 2023/24
END:VEVENT
BEGIN:VEVENT
DTSTAMP:20260421T150913Z
DTSTART;TZID=Europe/Berlin:20230916T120000
DTEND;TZID=Europe/Berlin:20230916T130000
SUMMARY:MJD VR N 1 HSG Hunte-Aue Löwen vs SV Rot-Weiß Damme (945015)
UID:ed7dd8ff-80e0-443b-9243-e766accd429a
STATUS:CONFIRMED
LAST-MODIFIED:20230918T094417Z
DESCRIPTION:RK MJD Vorrunde Nord 1\nBegegnungs-Nr: 945015\nHeim: HSG Hunte-Aue Löwen\nGast: SV Rot-Weiß Damme\nHalle: Dinklage\, SH 1 SZ  (809107)\nAdresse: Schulstraße\, 49413 Dinklage\n
LOCATION:Dinklage\, SH 1 SZ  (809107): Schulstraße\, 49413 Dinklage
CATEGORIES:Saison 2023/24
END:VEVENT
BEGIN:VEVENT
DTSTAMP:20260421T150913Z
DTSTART;TZID=Europe/Berlin:20230902T120000
DTEND;TZID=Europe/Berlin:20230902T130000
SUMMARY:MJD VR N 1 SFN Vechta vs SV Rot-Weiß Damme (945008)
UID:26f5a05c-144b-4c5d-b1a4-646de73486c8
STATUS:CONFIRMED
LAST-MODIFIED:20230903T155621Z
DESCRIPTION:RK MJD Vorrunde Nord 1\nBegegnungs-Nr: 945008\nHeim: SFN Vechta\nGast: SV Rot-Weiß Damme\nHalle: Damme\, HS  (809105)\nAdresse: Schützenstraße 1\, 49401 Damme\n
LOCATION:Damme\, HS  (809105): Schützenstraße 1\, 49401 Damme
CATEGORIES:Saison 2023/24
END:VEVENT
BEGIN:VEVENT
DTSTAMP:20260421T150913Z
DTSTART;TZID=Europe/Berlin:20240309T123000
DTEND;TZID=Europe/Berlin:20240309T133000
SUMMARY:ROL MJD Nord TV Dinklage vs SV Rot-Weiß Damme (940031)
UID:f9e47e73-6b3a-431b-a71d-6bc1f49ea903
STATUS:CONFIRMED
LAST-MODIFIED:20240311T182836Z
DESCRIPTION:Regionsoberliga MJD Nord Rückrunde\nBegegnungs-Nr: 940031\nHeim: TV Dinklage\nGast: SV Rot-Weiß Damme\nHalle: Dinklage\, SH 1 SZ  (809107)\nAdresse: Schulstraße\, 49413 Dinklage\n
LOCATION:Dinklage\, SH 1 SZ  (809107): Schulstraße\, 49413 Dinklage
CATEGORIES:Saison 2023/24
END:VEVENT
BEGIN:VEVENT
DTSTAMP:20260421T150913Z
DTSTART;TZID=Europe/Berlin:20240218T143000
DTEND;TZID=Europe/Berlin:20240218T153000
SUMMARY:ROL MJD Nord JMSG Garrel-Cloppenburg vs SV Rot-Weiß Damme (940027)
UID:2d27b663-2b03-4e54-aa5c-31e8e4efa8a8
STATUS:CONFIRMED
LAST-MODIFIED:20240222T162928Z
DESCRIPTION:Regionsoberliga MJD Nord Rückrunde\nBegegnungs-Nr: 940027\nHeim: JMSG Garrel-Cloppenburg\nGast: SV Rot-Weiß Damme\nHalle: Garrel\, SZ  (809115)\nAdresse: St.-Johannes-Straße\, 49681 Garrel\n
LOCATION:Garrel\, SZ  (809115): St.-Johannes-Straße\, 49681 Garrel
CATEGORIES:Saison 2023/24
END:VEVENT
BEGIN:VEVENT
DTSTAMP:20260421T150913Z
DTSTART;TZID=Europe/Berlin:20240303T100000
DTEND;TZID=Europe/Berlin:20240303T110000
SUMMARY:ROL MJD Nord SFN Vechta vs SV Rot-Weiß Damme (940030)
UID:c7cf0fef-3c49-4d91-9166-ed26a781b68c
STATUS:CONFIRMED
LAST-MODIFIED:20240306T200738Z
DESCRIPTION:Regionsoberliga MJD Nord Rückrunde\nBegegnungs-Nr: 940030\nHeim: SFN Vechta\nGast: SV Rot-Weiß Damme\nHalle: Vechta-West\, SH  (809140)\nAdresse: Brüsseler Str. 37\, 49377 Vechta\n
LOCATION:Vechta-West\, SH  (809140): Brüsseler Str. 37\, 49377 Vechta
CATEGORIES:Saison 2023/24
END:VEVENT
BEGIN:VEVENT
DTSTAMP:20260421T150913Z
DTSTART;TZID=Europe/Berlin:20231105T120000
DTEND;TZID=Europe/Berlin:20231105T130000
SUMMARY:ROL MJD Nord TV Dinklage vs SV Rot-Weiß Damme (940002)
UID:13e4b527-8b92-48e4-8466-2e16c12caef3
STATUS:CONFIRMED
LAST-MODIFIED:20231108T184418Z
DESCRIPTION:Regionsoberliga MJD Nord Rückrunde\nBegegnungs-Nr: 940002\nHeim: TV Dinklage\nGast: SV Rot-Weiß Damme\nHalle: Dinklage\, SH 1 SZ  (809107)\nAdresse: Schulstraße\, 49413 Dinklage\n
LOCATION:Dinklage\, SH 1 SZ  (809107): Schulstraße\, 49413 Dinklage
CATEGORIES:Saison 2023/24
END:VEVENT
BEGIN:VEVENT
DTSTAMP:20260421T150913Z
DTSTART;TZID=Europe/Berlin:20240414T144500
DTEND;TZID=Europe/Berlin:20240414T154500
SUMMARY:ROL MJD Nord TuS Lemförde vs SV Rot-Weiß Damme (940039)
UID:07fffa0f-18b1-45ad-bd01-51f1cee1732b
STATUS:CONFIRMED
LAST-MODIFIED:20240415T144935Z
DESCRIPTION:Regionsoberliga MJD Nord Rückrunde\nBegegnungs-Nr: 940039\nHeim: TuS Lemförde\nGast: SV Rot-Weiß Damme\nHalle:  Lemförde\, SZ (809143)\nAdresse: Stettiner Str. 35\, 49448 Lemförde\n
LOCATION: Lemförde\, SZ (809143): Stettiner Str. 35\, 49448 Lemförde
CATEGORIES:Saison 2023/24
END:VEVENT
BEGIN:VEVENT
DTSTAMP:20260421T150913Z
DTSTART;TZID=Europe/Berlin:20231119T100000
DTEND;TZID=Europe/Berlin:20231119T110000
SUMMARY:ROL MJD Nord TuS Lemförde vs SV Rot-Weiß Damme (940006)
UID:486cbd70-1d75-423c-bad8-723d368127c2
STATUS:CONFIRMED
LAST-MODIFIED:20231119T114338Z
DESCRIPTION:Regionsoberliga MJD Nord Rückrunde\nBegegnungs-Nr: 940006\nHeim: TuS Lemförde\nGast: SV Rot-Weiß Damme\nHalle:  Lemförde\, SZ (809143)\nAdresse: Stettiner Str. 35\, 49448 Lemförde\n
LOCATION: Lemförde\, SZ (809143): Stettiner Str. 35\, 49448 Lemförde
CATEGORIES:Saison 2023/24
END:VEVENT
BEGIN:VEVENT
DTSTAMP:20260421T150913Z
DTSTART;TZID=Europe/Berlin:20240427T160000
DTEND;TZID=Europe/Berlin:20240427T170000
SUMMARY:ROL MJD Nord SFN Vechta vs SV Rot-Weiß Damme (940043)
UID:07cad2e3-2099-44e0-a8eb-1015af239e92
STATUS:CONFIRMED
LAST-MODIFIED:20240429T152057Z
DESCRIPTION:Regionsoberliga MJD Nord Rückrunde\nBegegnungs-Nr: 940043\nHeim: SFN Vechta\nGast: SV Rot-Weiß Damme\nHalle: Vechta-West\, SH  (809140)\nAdresse: Brüsseler Str. 37\, 49377 Vechta\n
LOCATION:Vechta-West\, SH  (809140): Brüsseler Str. 37\, 49377 Vechta
CATEGORIES:Saison 2023/24
END:VEVENT
BEGIN:VEVENT
DTSTAMP:20260421T150913Z
DTSTART;TZID=Europe/Berlin:20240128T110000
DTEND;TZID=Europe/Berlin:20240128T120000
SUMMARY:ROL MJD Nord HSG Hunte-Aue Löwen vs SV Rot-Weiß Damme (940019)
UID:801bdf88-4311-45d5-9e5b-604252fce309
STATUS:CONFIRMED
LAST-MODIFIED:20240130T185316Z
DESCRIPTION:Regionsoberliga MJD Nord Rückrunde\nBegegnungs-Nr: 940019\nHeim: HSG Hunte-Aue Löwen\nGast: SV Rot-Weiß Damme\nHalle: Barnstorf\, SH 2 SZ  (809148)\nAdresse: Walsener Str.\, 49406 Barnstorf\n
LOCATION:Barnstorf\, SH 2 SZ  (809148): Walsener Str.\, 49406 Barnstorf
CATEGORIES:Saison 2023/24
END:VEVENT
BEGIN:VEVENT
DTSTAMP:20260421T150913Z
DTSTART;TZID=Europe/Berlin:20240505T115000
DTEND;TZID=Europe/Berlin:20240505T125000
SUMMARY:Final Four MJD TV Georgsmarienhütte vs SV Rot-Weiß Damme (2)
UID:dbbe641f-e3bc-43af-b53c-b5cb32850b5c
STATUS:CONFIRMED
LAST-MODIFIED:20240506T171957Z
DESCRIPTION:Final Four männl. Jugend D\nBegegnungs-Nr: 2\nHeim: TV Georgsmarienhütte\nGast: SV Rot-Weiß Damme\nHalle: Nordhorn-Mitte\, KSH I Euregium  (803138)\nAdresse: Wilhelm-Raabe-Straße 15\, 48527 Nordhorn (OT Mitte)\n
LOCATION:Nordhorn-Mitte\, KSH I Euregium  (803138): Wilhelm-Raabe-Straße 15\, 48527 Nordhorn (OT Mitte)
CATEGORIES:Saison 2023/24
END:VEVENT
BEGIN:VEVENT
DTSTAMP:20260421T150913Z
DTSTART;TZID=Europe/Berlin:20240505T131000
DTEND;TZID=Europe/Berlin:20240505T141000
SUMMARY:Final Four MJD JMSG Garrel-Cloppenburg vs SV Rot-Weiß Damme (3)
UID:861a169b-496f-42d4-8415-d0bc2f3356f4
STATUS:CONFIRMED
LAST-MODIFIED:20240506T171831Z
DESCRIPTION:Final Four männl. Jugend D\nBegegnungs-Nr: 3\nHeim: JMSG Garrel-Cloppenburg\nGast: SV Rot-Weiß Damme\nHalle: Nordhorn-Mitte\, KSH I Euregium  (803138)\nAdresse: Wilhelm-Raabe-Straße 15\, 48527 Nordhorn (OT Mitte)\n
LOCATION:Nordhorn-Mitte\, KSH I Euregium  (803138): Wilhelm-Raabe-Straße 15\, 48527 Nordhorn (OT Mitte)
CATEGORIES:Saison 2023/24
END:VEVENT
END:VCALENDAR
